BEGIN:VCALENDAR
VERSION:2.0
PRODID:-//Pokładykultury.eu - ECPv5.16.3.1//NONSGML v1.0//EN
CALSCALE:GREGORIAN
METHOD:PUBLISH
X-WR-CALNAME:Pokładykultury.eu
X-ORIGINAL-URL:https://www.pokladykultury.eu
X-WR-CALDESC:Wydarzenia dla Pokładykultury.eu
REFRESH-INTERVAL;VALUE=DURATION:PT1H
X-Robots-Tag:noindex
X-PUBLISHED-TTL:PT1H
BEGIN:VTIMEZONE
TZID:Europe/Warsaw
BEGIN:DAYLIGHT
TZOFFSETFROM:+0100
TZOFFSETTO:+0200
TZNAME:CEST
DTSTART:20210328T010000
END:DAYLIGHT
BEGIN:STANDARD
TZOFFSETFROM:+0200
TZOFFSETTO:+0100
TZNAME:CET
DTSTART:20211031T010000
END:STANDARD
END:VTIMEZONE
BEGIN:VEVENT
DTSTART;VALUE=DATE:20211030
DTEND;VALUE=DATE:20211102
DTSTAMP:20260420T090736
CREATED:20211013T092259Z
LAST-MODIFIED:20211013T092259Z
UID:1472-1635559200-1635728399@www.pokladykultury.eu
SUMMARY:DINOGNATY - zwiedzanie tematyczne
DESCRIPTION:Już 30 i 31 października br. zabrzańskie węglowe podziemia zamienią się w wehikuł czasu\, dzięki któremu Wy i Wasze dzieci odbędziecie niesamowitą podróż do czasów\, w których po ziemi chodziły wielkie i potężne dinozaury! \nW podziemnym świecie ukryła się pewna dinozaurowa rodzinka…Wytężcie wzrok i nadstawcie uszu! Trzeba ich odszukać! Poznajcie różne ciekawostki z życia tych wielkich „jaszczurów” oraz dowiedzcie się kto zajmuje się odszukiwaniem ich śladów we współczesnym świecie. \n \nDinognaty to najlepszy sposób na przeżycie rodzinnej podziemnej przygody!\n\nWięcej informacji i bilety dostępne na https://bilety.kopalniaguido.pl/index.php?p=DINOGNATY
URL:https://www.pokladykultury.eu/event/dinognaty-zwiedzanie-tematyczne/
LOCATION:Park 12C\, Sztolnia Królowa Luiza\, ul. M. Mochnackiego 12\, Zabrze\, śląskie\, 41-800\, Poland
ATTACH;FMTTYPE=image/jpeg:https://www.pokladykultury.eu/wp-content/uploads/2021/10/Dinognaty.jpg
END:VEVENT
BEGIN:VEVENT
DTSTART;TZID=Europe/Warsaw:20211101T103000
DTEND;TZID=Europe/Warsaw:20211101T174500
DTSTAMP:20260420T090736
CREATED:20211028T081344Z
LAST-MODIFIED:20211028T081442Z
UID:1629-1635762600-1635788700@www.pokladykultury.eu
SUMMARY:Zwiedzanie Cmentarza Żydowskiego
DESCRIPTION:Jak co roku\, zapraszamy w poniedziałek\, 1 listopada wszystkich zainteresowanych do odwiedzenia niezwykłego miejsca pamięci\, jaki jest Cmentarz Żydowski w Zabrzu i poznania jego historii zapisanej świętym językiem w kamieniu. \nBramy cmentarza zostaną otwarte o godz. 9.30. Cmentarz będzie można zwiedzić indywidulanie lub z przewodnikiem w godzinach 13.00\, 14.00 i 15.00. Oprowadzać będzie pan Dariusz Walerjański. \nNa terenie cmentarza będzie można w tym dniu wspomóc opiekunów tego miejsca – Stowarzyszenie na Rzecz ratowania cmentarza Żydowskiego „Zachor”. \nBrama nekropolii zostanie zamknięta około 16.45.
URL:https://www.pokladykultury.eu/event/zwiedzanie-cmentarza-zydowskiego/
LOCATION:Cmentarz Żydowski w Zabrzu\, ul. Cmentarna 15\, Zabrze\, śląskie\, 41-800\, Poland
ATTACH;FMTTYPE=image/jpeg:https://www.pokladykultury.eu/wp-content/uploads/2021/10/Cmentarz-Zydowski.jpg
END:VEVENT
BEGIN:VEVENT
DTSTART;TZID=Europe/Warsaw:20211107T160000
DTEND;TZID=Europe/Warsaw:20211107T180000
DTSTAMP:20260420T090736
CREATED:20211103T120219Z
LAST-MODIFIED:20211105T113049Z
UID:1689-1636300800-1636308000@www.pokladykultury.eu
SUMMARY:Kopernik zwiedza Zabrze
DESCRIPTION:Rada Dzielnicy Mikołaja Kopernika w Zabrzu zaprasza na rodzinny rajd rowerowy\, w trakcie którego poznamy miejsca krwawych walk odbywających się podczas Powstań Śląskich. \nNa mecie dyplomy i upominki dla wszystkich dzieci. Przewidziany również konkurs z nagrodami dla dzieci i dorosłych.
URL:https://www.pokladykultury.eu/event/kopernik-zwiedza-zabrze/
LOCATION:Zabrze\, Zabrze\, śląskie\, 41-800\, Poland
ATTACH;FMTTYPE=image/jpeg:https://www.pokladykultury.eu/wp-content/uploads/2021/11/Kopernik-na-rowerze-07.11-nowy.jpg
END:VEVENT
END:VCALENDAR