BEGIN:VCALENDAR
VERSION:2.0
PRODID:-//Pokładykultury.eu - ECPv5.16.3.1//NONSGML v1.0//EN
CALSCALE:GREGORIAN
METHOD:PUBLISH
X-ORIGINAL-URL:https://www.pokladykultury.eu
X-WR-CALDESC:Wydarzenia dla Pokładykultury.eu
REFRESH-INTERVAL;VALUE=DURATION:PT1H
X-Robots-Tag:noindex
X-PUBLISHED-TTL:PT1H
BEGIN:VTIMEZONE
TZID:Europe/Warsaw
BEGIN:DAYLIGHT
TZOFFSETFROM:+0100
TZOFFSETTO:+0200
TZNAME:CEST
DTSTART:20220327T010000
END:DAYLIGHT
BEGIN:STANDARD
TZOFFSETFROM:+0200
TZOFFSETTO:+0100
TZNAME:CET
DTSTART:20221030T010000
END:STANDARD
END:VTIMEZONE
BEGIN:VEVENT
DTSTART;TZID=Europe/Warsaw:20220917T180000
DTEND;TZID=Europe/Warsaw:20220917T193000
DTSTAMP:20260426T031531
CREATED:20220825T092240Z
LAST-MODIFIED:20220825T092240Z
UID:4441-1663437600-1663443000@www.pokladykultury.eu
SUMMARY:Else Bansen i Dorotea von Velsen"
DESCRIPTION:Zapraszamy na prelekcję z pokazem multimedialnym poświęconą dwóm utalentowanym paniom urodzonym w Zabrzu. \n\n\n\n\nNasze bohaterki to Else Bansen (malarka) oraz Dorothee von Velsen (niemiecka pisarka oraz działaczka na rzecz praw kobiet). Obie panie urodziły się w 1883 roku w Zabrzu\, jako córki ojców sprawujących wysokie funkcje w miejscowych kopalniach. Mimo\, że w dzieciństwie opuściły Zabrze\, w ich twórczości pojawiały się wątki związane z „krainą lat dzieciństwa”. \nW trakcie spotkania można będzie zobaczyć w oryginale oraz formie reprodukcji prace malarskie oraz projekty dekoracji na porcelanie autorstwa Else Bansen.
URL:https://www.pokladykultury.eu/event/else-bansen-i-dorotea-von-velsen/
LOCATION:Galeria Muzeum Miejskiego Café Silesia\, ul. 3 Maja 6\, Zabrze\, śląskie\, 41-800\, Poland
ATTACH;FMTTYPE=image/jpeg:https://www.pokladykultury.eu/wp-content/uploads/2022/08/EDD_Spacer.jpg
END:VEVENT
END:VCALENDAR