BEGIN:VCALENDAR
VERSION:2.0
PRODID:-//Pokładykultury.eu - ECPv5.16.3.1//NONSGML v1.0//EN
CALSCALE:GREGORIAN
METHOD:PUBLISH
X-WR-CALNAME:Pokładykultury.eu
X-ORIGINAL-URL:https://www.pokladykultury.eu
X-WR-CALDESC:Wydarzenia dla Pokładykultury.eu
REFRESH-INTERVAL;VALUE=DURATION:PT1H
X-Robots-Tag:noindex
X-PUBLISHED-TTL:PT1H
BEGIN:VTIMEZONE
TZID:Europe/Warsaw
BEGIN:DAYLIGHT
TZOFFSETFROM:+0100
TZOFFSETTO:+0200
TZNAME:CEST
DTSTART:20240331T010000
END:DAYLIGHT
BEGIN:STANDARD
TZOFFSETFROM:+0200
TZOFFSETTO:+0100
TZNAME:CET
DTSTART:20241027T010000
END:STANDARD
END:VTIMEZONE
BEGIN:VEVENT
DTSTART;TZID=Europe/Warsaw:20240327T193000
DTEND;TZID=Europe/Warsaw:20240327T210000
DTSTAMP:20260424T025618
CREATED:20240311T110326Z
LAST-MODIFIED:20240311T110326Z
UID:10466-1711567800-1711573200@www.pokladykultury.eu
SUMMARY:Antonín Dvořák „Stabat Mater” - Resonans con tutti i Filharmonia Zabrzańska
DESCRIPTION:Zabrzański Chór Młodzieżowy „Resonans con tutti” im. N.G. Kroczka i Filharmonia Zabrzańska zapraszają na koncert Stabat Mater Antonina Dvoraka. \n27 marca 2024\, godz. 18.30\nZabrze\, Kościół św. Anny\nul. 3-go Maja 18\n \nWykonawcy:\nEwa Tracz – sopran\nEwa Biegas – mezzosopran\nŁukasz Gaj – tenor\nAdam Szerszeń – baryton\nChór „Resonans con tutti”\nArlena i Waldemar Gałązka – przygotowanie chóru\nOrkiestra Symfoniczna Filharmonii Zabrzańskiej\nSławomir Chrzanowski – dyrygent\n\nWstęp wolny
URL:https://www.pokladykultury.eu/event/antonin-dvorak-stabat-mater-resonans-con-tutti-i-filharmonia-zabrzanska/
LOCATION:kościół pw. św. Anny\, ul. 3 Maja 18\, Zabrze\, śląskie\, 41-800\, Poland
ATTACH;FMTTYPE=image/jpeg:https://www.pokladykultury.eu/wp-content/uploads/2024/03/Stabat-Mater.jpg
END:VEVENT
BEGIN:VEVENT
DTSTART;TZID=Europe/Warsaw:20240330T110000
DTEND;TZID=Europe/Warsaw:20240331T180000
DTSTAMP:20260424T025618
CREATED:20240327T064555Z
LAST-MODIFIED:20240327T064555Z
UID:10824-1711796400-1711908000@www.pokladykultury.eu
SUMMARY:Wielkanoc w Animal World
DESCRIPTION:Animal World zaprasza na Wielkanocny zajączek w Animal World – ruszają zapisy.\n\nTen psotnik rozrzucił po całym zoo pełno jajek\, które dzieci muszą odnaleźć! Jesteście chętni do pomocy?\n \nAtrakcje podczas tego dnia :\n– szukanie jajek z nagrodami\n– warsztaty kreatywne\n— zwiedzanie zoo\n– o 12:00 wielkanocne ognisko.\n \nCena:\n– 45 zł dziecko od 2. roku życia.\n– 20 zł osoba dorosła.\n– 20 zł za os zestaw ogniskowy. (kiełbaska\, chleb\, musztarda \,ketchup).\n– kawa\, herbata gratis.\n \nGodziny zabawy : (30.03-31.03)\n10:00-12:00\n12:00-14.00\n14:00-16:00\n \nUmów się już teraz poprzez Facebooka lub telefonicznie 502 611 210
URL:https://www.pokladykultury.eu/event/wielkanoc-w-animal-world/
LOCATION:Animal World\, ul. Karola Niedoby 11\, Zabrze\, śląskie\, 41-811\, Poland
ATTACH;FMTTYPE=image/jpeg:https://www.pokladykultury.eu/wp-content/uploads/2024/03/Wielkanoc-w-Animal-World.jpg
END:VEVENT
END:VCALENDAR