BEGIN:VCALENDAR
VERSION:2.0
PRODID:-//Pokładykultury.eu - ECPv5.16.3.1//NONSGML v1.0//EN
CALSCALE:GREGORIAN
METHOD:PUBLISH
X-WR-CALNAME:Pokładykultury.eu
X-ORIGINAL-URL:https://www.pokladykultury.eu
X-WR-CALDESC:Wydarzenia dla Pokładykultury.eu
REFRESH-INTERVAL;VALUE=DURATION:PT1H
X-Robots-Tag:noindex
X-PUBLISHED-TTL:PT1H
BEGIN:VTIMEZONE
TZID:Europe/Warsaw
BEGIN:DAYLIGHT
TZOFFSETFROM:+0100
TZOFFSETTO:+0200
TZNAME:CEST
DTSTART:20240331T010000
END:DAYLIGHT
BEGIN:STANDARD
TZOFFSETFROM:+0200
TZOFFSETTO:+0100
TZNAME:CET
DTSTART:20241027T010000
END:STANDARD
END:VTIMEZONE
BEGIN:VEVENT
DTSTART;TZID=Europe/Warsaw:20240104T193000
DTEND;TZID=Europe/Warsaw:20240104T210000
DTSTAMP:20260419T215830
CREATED:20231221T080521Z
LAST-MODIFIED:20231221T080755Z
UID:9593-1704396600-1704402000@www.pokladykultury.eu
SUMMARY:Graj Dudka\, Graj 2024
DESCRIPTION:Teatr Nowy w Zabrzu ogłasza: Mamy nowe zarządzenie! W tym roku święta będą trwały dłużej! \nA to dzięki dwóm wspaniałym koncertom\, które Teatr przygotowuje razem ze Stowarzyszeniem Przyjaciół Teatru Nowego w Zabrzu Z Kulturą – GRAJ DUDKA\, GRAJ 2024!\n\n\n \n\n\nJuż 4 i 5 stycznia o godzinie 18:30 Teatr zaprasza na widownię\, gdzie zespół teatru\, zaproszeni wspaniali muzycy z Filharmonia Zabrzańska – Instytucja Kultury Miasta Zabrze\, dziecięcy chór (Studio Maciej ) oraz przyjaciele – My wspólnie będziemy kolędować\, powspominamy\, spędzimy razem czas! \n \nBilety w cenie 30/20 zł. można kupić online – https://tiny.pl/cshvs lub zarezerwować pod numerem telefonu 723 331 007 oraz odebrać w kasie teatru Nowego.\n\n\n \n\n\nOrganizatorem koncertu jest Stowarzyszenie Przyjaciół Teatru Nowego w Zabrzu Z Kulturą oraz Teatr Nowy w Zabrzu.
URL:https://www.pokladykultury.eu/event/graj-dudka-graj-2024/
LOCATION:Teatr Nowy w Zabrzu\, Plac Teatralny 1\, Zabrze\, śląskie\, 41-800\, Poland
ATTACH;FMTTYPE=image/jpeg:https://www.pokladykultury.eu/wp-content/uploads/2023/12/graj-dudka-2024-poster-717x1024-1.jpg
END:VEVENT
BEGIN:VEVENT
DTSTART;TZID=Europe/Warsaw:20240105T193000
DTEND;TZID=Europe/Warsaw:20240105T213000
DTSTAMP:20260419T215830
CREATED:20231221T080729Z
LAST-MODIFIED:20231221T080729Z
UID:9596-1704483000-1704490200@www.pokladykultury.eu
SUMMARY:Graj Dudka\, Graj 2024
DESCRIPTION:Teatr Nowy w Zabrzu ogłasza: Mamy nowe zarządzenie! W tym roku święta będą trwały dłużej! \nA to dzięki dwóm wspaniałym koncertom\, które Teatr przygotowuje razem ze Stowarzyszeniem Przyjaciół Teatru Nowego w Zabrzu Z Kulturą – GRAJ DUDKA\, GRAJ 2024!\n\n\n \n\n\nJuż 4 i 5 stycznia o godzinie 18:30 Teatr zaprasza na widownię\, gdzie zespół teatru\, zaproszeni wspaniali muzycy z Filharmonia Zabrzańska – Instytucja Kultury Miasta Zabrze\, dziecięcy chór (Studio Maciej ) oraz przyjaciele – My wspólnie będziemy kolędować\, powspominamy\, spędzimy razem czas! \n \nBilety w cenie 30/20 zł. można kupić online – https://tiny.pl/cshvs lub zarezerwować pod numerem telefonu 723 331 007 oraz odebrać w kasie teatru Nowego.\n\n\n \n\n\nOrganizatorem koncertu jest Stowarzyszenie Przyjaciół Teatru Nowego w Zabrzu Z Kulturą oraz Teatr Nowy w Zabrzu.
URL:https://www.pokladykultury.eu/event/graj-dudka-graj-2024-2/
LOCATION:Teatr Nowy w Zabrzu\, Plac Teatralny 1\, Zabrze\, śląskie\, 41-800\, Poland
ATTACH;FMTTYPE=image/jpeg:https://www.pokladykultury.eu/wp-content/uploads/2023/12/graj-dudka-2024-poster-717x1024-1.jpg
END:VEVENT
BEGIN:VEVENT
DTSTART;TZID=Europe/Warsaw:20240106T150000
DTEND;TZID=Europe/Warsaw:20240106T160000
DTSTAMP:20260419T215830
CREATED:20240104T055250Z
LAST-MODIFIED:20240104T055250Z
UID:9735-1704553200-1704556800@www.pokladykultury.eu
SUMMARY:Orszak Trzech Króli na ulicach Zabrza
DESCRIPTION:Orszaki Trzech Króli 2024 odbędą się 6 stycznia w ok. 800 miastach w Polsce i na świecie. Tym razem wydarzeniu będzie towarzyszyło hasło „W jasełkach leży!”. W uroczystość Objawienia Pańskiego Orszak Trzech Króli przejdzie także ulicami naszego miasta. \nW Zabrzu Orszak będzie podzielony na trzy strumienie\, które wyruszą z trzech różnych miejsc\, aby połączyć się w jedną wielobarwną grupę na placu przed kościołem pw. św. Anny. \nGrupa żółta wyruszy sprzed Hali Pogoń\, grupa czerwona – sprzed kościoła pw. św. Kamila\, a grupa niebieska – sprzed kościoła pw. św. Józefa. Orszak rozpocznie się równocześnie o godz. 14.00 dla wszystkich grup. \nOrszak Trzech Króli to przedstawienie Jasełek wystawiane w przestrzeni publicznej – na ulicach wiosek\, miast i miasteczek w Polsce oraz zagranicą. Jest to inicjatywa działania lokalnej wspólnoty. Rodziny\, szkoły\, nauczyciele\, sąsiedzi\, lokalni włodarze – zwykli ludzie tworzą to niezwykłe wydarzenie. \nOrganizatorzy zachęcają\, by uczestnicy Orszaku byli ubrani w kolorowe stroje\, w zależności od koloru grupy\, do której dołączą\, czy też posiadali jakieś inne elementy w tym kolorze. Kolorystyka poszczególnych strumieni symbolizuje Trzech Króli i różne kontynenty. Kolor czerwony to strumień europejski\, kolor niebieski – afrykański\, a kolor żółty – azjatycki.  \nWięcej informacji o tegorocznej edycji Orszaku Trzech Króli w naszym kraju znajdziecie Państwo TUTAJ.
URL:https://www.pokladykultury.eu/event/orszak-trzech-kroli-na-ulicach-zabrza/
LOCATION:Zabrze\, Zabrze\, śląskie\, 41-800\, Poland
ATTACH;FMTTYPE=image/jpeg:https://www.pokladykultury.eu/wp-content/uploads/2024/01/Orszak-trzech-kroli.jpg
END:VEVENT
BEGIN:VEVENT
DTSTART;TZID=Europe/Warsaw:20240106T180000
DTEND;TZID=Europe/Warsaw:20240106T190000
DTSTAMP:20260419T215830
CREATED:20240103T091141Z
LAST-MODIFIED:20240103T091141Z
UID:9731-1704564000-1704567600@www.pokladykultury.eu
SUMMARY:Koncert na Trzech Króli
DESCRIPTION:
URL:https://www.pokladykultury.eu/event/koncert-na-trzech-kroli/
LOCATION:Fortepianarium\, ul. Hagera 41\, Zabrze\, śląskie\, 41-800\, Poland
ATTACH;FMTTYPE=image/jpeg:https://www.pokladykultury.eu/wp-content/uploads/2024/01/toporowski_domagala_jazzA-e1704276672905.jpg
END:VEVENT
BEGIN:VEVENT
DTSTART;TZID=Europe/Warsaw:20240107T183000
DTEND;TZID=Europe/Warsaw:20240107T193000
DTSTAMP:20260419T215830
CREATED:20240103T084810Z
LAST-MODIFIED:20240103T084810Z
UID:9721-1704652200-1704655800@www.pokladykultury.eu
SUMMARY:Rodzinne Kolędowanie
DESCRIPTION:Serdecznie zapraszamy na Rodzinne Kolędowanie w Kościele Bożego Ciała w Zabrzu-Kończycach.\n\n\n \nWystąpi Orkiestra Muzeum Górnictwa Węglowego w Zabrzu pod batutą Henryka Mandrysza wraz z solistami.\nNa organach zagra Rafał Kozubek.
URL:https://www.pokladykultury.eu/event/rodzinne-koledowanie-2/
LOCATION:Kościół Rzymskokatolicki pw. Bożego Ciała\, ul. Olsztyńska 5\, Zabrze\, śląskie\, 41-810\, Poland
ATTACH;FMTTYPE=image/jpeg:https://www.pokladykultury.eu/wp-content/uploads/2024/01/Rodzinne-koledowanie.jpg
END:VEVENT
BEGIN:VEVENT
DTSTART;TZID=Europe/Warsaw:20240108T110000
DTEND;TZID=Europe/Warsaw:20240108T130000
DTSTAMP:20260419T215830
CREATED:20240108T102505Z
LAST-MODIFIED:20240108T102511Z
UID:9764-1704711600-1704718800@www.pokladykultury.eu
SUMMARY:Hej kolęda\, kolęda
DESCRIPTION:Centrum Aktywności Senioralnej w Zabrzu zaprasza wszystkich seniorów do wspólnego śpiewania kolęd i pastorałek. \nSpotkanie odbędzie się w środę\, 10 stycznia\, o godzinie 10.00 w siedzibie Centrum (ul. Stalmacha 7) w pokoju 207. \nW kolędowaniu weźmie udział także ks. Łukasz Kwieciński\, który opowie o swojej pielgrzymce do Ziemi Świętej.
URL:https://www.pokladykultury.eu/event/hej-koleda-koleda/
LOCATION:Centrum Aktywności Senioralnej\, ul. Cmentarna 7\, Zabrze\, śląskie\, 41-800\, Poland
ATTACH;FMTTYPE=image/jpeg:https://www.pokladykultury.eu/wp-content/uploads/2024/01/Hej-Koleda.jpg
END:VEVENT
BEGIN:VEVENT
DTSTART;TZID=Europe/Warsaw:20240109T190000
DTEND;TZID=Europe/Warsaw:20240109T200000
DTSTAMP:20260419T215830
CREATED:20240109T085027Z
LAST-MODIFIED:20240109T085027Z
UID:9783-1704826800-1704830400@www.pokladykultury.eu
SUMMARY:Kolędowanie z Zespołem Pieśni i Tańca "Śląsk"
DESCRIPTION:Kościół pw. św. Andrzeja Apostoła serdecznie zaprasza na Kolędowanie z Zespołem Pieśni i Tańca „Śląsk”.
URL:https://www.pokladykultury.eu/event/koledowanie-z-zespolem-piesni-i-tanca-slask/
LOCATION:kościół pw. św. Andrzeja Apostoła\, ul. Wolności 196\, Zabrze\, śląskie\, 41-800\, Poland
ATTACH;FMTTYPE=image/jpeg:https://www.pokladykultury.eu/wp-content/uploads/2024/01/zespol-slask-300x200-1.jpg
END:VEVENT
BEGIN:VEVENT
DTSTART;TZID=Europe/Warsaw:20240114T160000
DTEND;TZID=Europe/Warsaw:20240114T180000
DTSTAMP:20260419T215830
CREATED:20240112T114311Z
LAST-MODIFIED:20240112T114311Z
UID:9864-1705248000-1705255200@www.pokladykultury.eu
SUMMARY:XXVIII Zabrzańskie Chóralne Spotkanie Kolędowe
DESCRIPTION:W niedzielę\, 14 stycznia\, w Parafii św. Teresy od Dzieciątka Jezus w Zabrzu–Mikulczycach odbędzie się XXVIII Zabrzańskie Chóralne Spotkanie Kolędowe. To kolejne wydarzenie muzyczne w naszym mieście kontynuujące bożonarodzeniową tradycję kolędowania.\n \n\n\nW tegorocznym koncercie kolęd wezmą udział trzy chóry:\n\n\n– Zespół Wokalny Luna Plena pod dyrekcją Barbary Gajek-Kraśki\,\n– Zespół wokalny Vox amici pod dyrekcją Krzysztofa Hrycyszyna\,\n– Akademicki Chór Politechniki Śląskiej pod dyrekcją Tomasza Giedwiłło.\n\n\n \nWstęp na koncert jest bezpłatny.
URL:https://www.pokladykultury.eu/event/xxviii-zabrzanskie-choralne-spotkanie-koledowe/
LOCATION:Kościół pw. św. Teresy od Dzieciątka Jezus\, ul. św. Teresy 2\, Zabrze\, śląskie\, 41-800\, Poland
ATTACH;FMTTYPE=image/jpeg:https://www.pokladykultury.eu/wp-content/uploads/2024/01/Koledowanie.jpg
END:VEVENT
BEGIN:VEVENT
DTSTART;TZID=Europe/Warsaw:20240119T190000
DTEND;TZID=Europe/Warsaw:20240119T210000
DTSTAMP:20260419T215830
CREATED:20240108T121946Z
LAST-MODIFIED:20240108T121946Z
UID:9768-1705690800-1705698000@www.pokladykultury.eu
SUMMARY:Koncert karnawałowy dla babci i dziadka
DESCRIPTION:Filharmonia Zabrzańska zaprasza 19 stycznia o godz. 18.00 na wyjątkowy koncert karnawałowy. \nW repertuarze znalazły się najpiękniejsze walce świata takich kompozytorów\, jak Weber\, Strauss\, Lehar\, Waldteufel i Czajkowski. Orkiestrę Symfoniczną Filharmonii Zabrzańskiej poprowadzi utalentowany dyrygent Ruben Silva. \nKoncert odbędzie się 19 stycznia o godz. 18:00. \nBilety do nabycia na stronie internetowej www.filharmonia.zabrze.pl \nKasa biletowa czynna w godzinach 8:00-14:00 w dni powszednie oraz w godz. 8:00-20:00 w dniu koncertu w sali Filharmonii Zabrzańskiej.
URL:https://www.pokladykultury.eu/event/koncert-karnawalowy-dla-babci-i-dziadka/
LOCATION:Filharmonia Zabrzańska\, Park Hutniczy 7\, Zabrze\, śląskie\, 41-800\, Poland
ATTACH;FMTTYPE=image/jpeg:https://www.pokladykultury.eu/wp-content/uploads/2024/01/koncert-swiateczny-w-filharmoni-Zabrze-2022-fot.-Pawel-JaNic-Janicki-006-870x440-1.jpg
END:VEVENT
BEGIN:VEVENT
DTSTART;TZID=Europe/Warsaw:20240121T190000
DTEND;TZID=Europe/Warsaw:20240121T200000
DTSTAMP:20260419T215830
CREATED:20240118T083508Z
LAST-MODIFIED:20240118T083508Z
UID:9910-1705863600-1705867200@www.pokladykultury.eu
SUMMARY:Koncert kolęd i pastorałek na Helence
DESCRIPTION:W najbliższą niedzielę\, 21 stycznia\, w parafii pw. NMP Matki Kościoła w dzielnicy Helenka (ul. Jordana 84) odbędzie się Koncert Kolęd i Pastorałek dla mieszkańców Zabrza w wykonaniu Jacka i Jolanty Kierok. \nStart o godzinie 18.00.
URL:https://www.pokladykultury.eu/event/koncert-koled-i-pastoralek-na-helence/
LOCATION:kościół pw. NMP Matki Kościoła\, ul. Jordana 84\, Zabrze\, śląskie\, 41-800\, Poland
ATTACH;FMTTYPE=image/jpeg:https://www.pokladykultury.eu/wp-content/uploads/2024/01/Plakat-koncert-1-870x440-1.jpg
END:VEVENT
END:VCALENDAR