BEGIN:VCALENDAR
VERSION:2.0
PRODID:-//Pokładykultury.eu - ECPv5.16.3.1//NONSGML v1.0//EN
CALSCALE:GREGORIAN
METHOD:PUBLISH
X-WR-CALNAME:Pokładykultury.eu
X-ORIGINAL-URL:https://www.pokladykultury.eu
X-WR-CALDESC:Wydarzenia dla Pokładykultury.eu
REFRESH-INTERVAL;VALUE=DURATION:PT1H
X-Robots-Tag:noindex
X-PUBLISHED-TTL:PT1H
BEGIN:VTIMEZONE
TZID:Europe/Warsaw
BEGIN:DAYLIGHT
TZOFFSETFROM:+0100
TZOFFSETTO:+0200
TZNAME:CEST
DTSTART:20220327T010000
END:DAYLIGHT
BEGIN:STANDARD
TZOFFSETFROM:+0200
TZOFFSETTO:+0100
TZNAME:CET
DTSTART:20221030T010000
END:STANDARD
END:VTIMEZONE
BEGIN:VEVENT
DTSTART;TZID=Europe/Warsaw:20221218T090000
DTEND;TZID=Europe/Warsaw:20221218T090000
DTSTAMP:20260422T033807
CREATED:20221212T092501Z
LAST-MODIFIED:20221212T092539Z
UID:6066-1671354000-1671354000@www.pokladykultury.eu
SUMMARY:Zabrzańska Giełda Staroci
DESCRIPTION:Zapraszamy na Zabrzańską Giełdę Staroci. \nGiełda odbywa się w każdą trzecią niedzielę miesiąca na targowisku przy ul. Jagiełły.
URL:https://www.pokladykultury.eu/event/zabrzanska-gielda-staroci/
LOCATION:Targowisko miejskie\, Jagiełły 12\, Zabrze\, śląskie\, 41-800\, Poland
ATTACH;FMTTYPE=image/jpeg:https://www.pokladykultury.eu/wp-content/uploads/2022/12/Gielda-staroci.jpg
END:VEVENT
END:VCALENDAR