BEGIN:VCALENDAR
VERSION:2.0
PRODID:-//Pokładykultury.eu - ECPv5.16.3.1//NONSGML v1.0//EN
CALSCALE:GREGORIAN
METHOD:PUBLISH
X-WR-CALNAME:Pokładykultury.eu
X-ORIGINAL-URL:https://www.pokladykultury.eu
X-WR-CALDESC:Wydarzenia dla Pokładykultury.eu
REFRESH-INTERVAL;VALUE=DURATION:PT1H
X-Robots-Tag:noindex
X-PUBLISHED-TTL:PT1H
BEGIN:VTIMEZONE
TZID:Europe/Warsaw
BEGIN:DAYLIGHT
TZOFFSETFROM:+0100
TZOFFSETTO:+0200
TZNAME:CEST
DTSTART:20250330T010000
END:DAYLIGHT
BEGIN:STANDARD
TZOFFSETFROM:+0200
TZOFFSETTO:+0100
TZNAME:CET
DTSTART:20251026T010000
END:STANDARD
END:VTIMEZONE
BEGIN:VEVENT
DTSTART;TZID=Europe/Warsaw:20250424T190000
DTEND;TZID=Europe/Warsaw:20250424T210000
DTSTAMP:20260422T023039
CREATED:20250414T054325Z
LAST-MODIFIED:20250414T054325Z
UID:14766-1745521200-1745528400@www.pokladykultury.eu
SUMMARY:Kierunek Świat - Ale Meksyk!
DESCRIPTION:Podróż śladami cywilizacji Majów – opowiada Marcin Szczerba!\n \nWajzera 21 Społeczny Dom Kultury w Rokitnicy zaprasza na wyjątkowe spotkanie z podróżnikiem\, który zabierze nas w fascynującą podróż po Meksyku! Głównym tematem opowieści będzie półwysep Jukatan – jego niezwykłe krajobrazy\, ukryte cnoty oraz tajemnice starożytnej cywilizacji Majów. Dowiemy się\, jak żyli Majowie\, jakie pozostawili po sobie dziedzictwo i jakie sekrety wciąż skrywają ich monumentalne piramidy.\nNie zabraknie też smaków Meksyku \n \nZapraszamy wszystkich miłośników podróży\, historii i dobrej atmosfery! Nie przegap tej okazji\, by przenieść się do serca Meksyku i odkryć jego niezwykłe tajemnice.\n \nUdział bezpłatny…\n \n… Ale jeśli chcesz – wesprzyj działanie społecznego domu kultury-wpłać na zrzutkę https://zrzutka.pl/6n6pky lub zostań patronem i wpłacaj miesięcznie https://patronite.pl/Wajzera21
URL:https://www.pokladykultury.eu/event/kierunek-swiat-ale-meksyk/
LOCATION:Społeczny Dom Kultury – Wajzera21\, ul. Wajzera 21\, Zabrze\, śląskie\, Poland
ATTACH;FMTTYPE=image/jpeg:https://www.pokladykultury.eu/wp-content/uploads/2025/04/Ale-Meksyk.jpg
END:VEVENT
END:VCALENDAR