BEGIN:VCALENDAR
VERSION:2.0
PRODID:-//Pokładykultury.eu - ECPv5.16.3.1//NONSGML v1.0//EN
CALSCALE:GREGORIAN
METHOD:PUBLISH
X-WR-CALNAME:Pokładykultury.eu
X-ORIGINAL-URL:https://www.pokladykultury.eu
X-WR-CALDESC:Wydarzenia dla Pokładykultury.eu
REFRESH-INTERVAL;VALUE=DURATION:PT1H
X-Robots-Tag:noindex
X-PUBLISHED-TTL:PT1H
BEGIN:VTIMEZONE
TZID:Europe/Warsaw
BEGIN:DAYLIGHT
TZOFFSETFROM:+0100
TZOFFSETTO:+0200
TZNAME:CEST
DTSTART:20240331T010000
END:DAYLIGHT
BEGIN:STANDARD
TZOFFSETFROM:+0200
TZOFFSETTO:+0100
TZNAME:CET
DTSTART:20241027T010000
END:STANDARD
END:VTIMEZONE
BEGIN:VEVENT
DTSTART;TZID=Europe/Warsaw:20240704T190000
DTEND;TZID=Europe/Warsaw:20240704T210000
DTSTAMP:20260423T131003
CREATED:20240625T085125Z
LAST-MODIFIED:20240625T085125Z
UID:11863-1720119600-1720126800@www.pokladykultury.eu
SUMMARY:„Wanda Bibrowicz. Artystka\, tkaczka\, pedagog i …”
DESCRIPTION:Muzeum Miejskie w Zabrzu zaprasza na kolejne wydarzenie towarzyszące wystawie „Wątki zebrane. Wanda Hołoszkiewicz oraz goście: Grupa PRZEKAZ\, Amalia Fidyki i…”. 4 lipca\, godz. 17.00 w Galerii Café Silesia\, ul. 3 Maja 6 –„Wanda Bibrowicz. Artystka\, tkaczka\, pedagog i …”.  Spotkanie poprowadzi Urszula Wieczorek. \nBohaterką spotkania będzie Wanda Bibrowicz (1878-1954)\, kobieta z talentem artystycznym\, pedagogicznym\, oraz temperamentem. \nAbsolwentka wrocławskiej uczelni artystycznej (Królewska Szkoła Sztuki i Rzemiosła Artystycznego). W. Bibrowicz\, wkrótce po nabyciu akademickich uprawnień zaczęła uczyć tkactwa artystycznego na macierzystej uczelni. Zajęcia w pracowni prowadziła według autorskiego programu\, a to w czasach\, w których żyła\, nie było zadaniem łatwym dla kobiety. \nTo między innymi dzięki talentowi i zaangażowaniu Wandy Bibrowicz\, ośrodek wrocławski\, stał się najbardziej postępową uczelnią artystyczną w Niemczech – prekursorką Bauhausu.   \nWanda Bibrowicz\, duch niespokojny\, w chwili rozkwitu kariery\, wyjechała do Szklarskiej Poręby\, gdzie uruchomiła Śląskie Warsztaty Tkactwa artystycznego otwarła też niewielką galerię artystyczną. A potem jej życie artystyczne i osobiste\, nabrało dalszego rozpędu. \nWanda Bibrowicz w ponad 50. letniej karierze zawodowej wykonała ponad 100 realizacji\, z których 46 zachowało się w dobrym stanie do chwili obecnej. Część z nich znajduje się również w kolekcjach polskich Muzeów. \nIlustracja: Wrocław\, tablica pamiątkowa poświęcona Wandzie Bibrowicz. \nWstęp wolny \n 
URL:https://www.pokladykultury.eu/event/wanda-bibrowicz-artystka-tkaczka-pedagog-i/
LOCATION:Galeria Muzeum Miejskiego Café Silesia\, ul. 3 Maja 6\, Zabrze\, śląskie\, 41-800\, Poland
ATTACH;FMTTYPE=image/jpeg:https://www.pokladykultury.eu/wp-content/uploads/2024/06/1-1.jpg
END:VEVENT
BEGIN:VEVENT
DTSTART;TZID=Europe/Warsaw:20240718T190000
DTEND;TZID=Europe/Warsaw:20240718T210000
DTSTAMP:20260423T131003
CREATED:20240625T084548Z
LAST-MODIFIED:20240625T084548Z
UID:11860-1721329200-1721336400@www.pokladykultury.eu
SUMMARY:Tkaniny Afrykańskie dawniej i dziś
DESCRIPTION:Muzeum Miejskie w Zabrzu zaprasza na kolejne spotkanie towarzyszące wystawie Wątki zebrane. Wanda Hołoszkiewicz oraz goście: Grupa PRZEKAZ\, Amalia Fidyki i…” \n18 lipca\, godz. 17.00 w Galerii Café Silesia\, przy ul. 3 Maja 6 Tkaniny Afrykańskie dawniej i dziś. Spotkanie poprowadzi\, dr Lucjan Buchalik*. \nW trakcie spotkania przedstawiona zostanie historia odzieży używanej w Afryce Zachodniej od strojów z włókien i skóry poprzez tradycyjne tkaniny bawełniane na współczesnych wyrobach fabrycznych kończąc. Najwięcej uwagi poświęcone zostanie tradycyjnej tkaninie\, jej procesowi powstawania: przędzenie\, tkanie\, barwienie. W tym kontekście uwzględniony zostanie podział pracy ze względu na płeć oraz zmian z tym związanych. \nDrugim tematem będzie tkanina artystyczna: bogolan (barwienie błotem ludu Bamana)\, korhogo (malowanie barwnikami roślinnymi ludu Senufo) oraz aplikacje (z tkanin fabrycznych ludu Fon). \nWykład ilustrowany będzie zdjęciami wykonanymi w Mali\, Burkina Faso\, Ghanie\, Wybrzeżu Kości Słoniowej\, Togo i Beninie. \n  \nDr Lucjan Buchalik. Kustosz dyplomowany. Etnolog\, afrykanista – twórca żorskiej kolekcji pozaeuropejskiej (Afryka Zachodnia\, Środkowa\, Daleki Wschód)\, od 2003 roku dyrektor Muzeum Miejskiego w Żorach; studiował etnografię na Wydziale Filozoficzno-Historycznym Uniwersytetu Wrocławskiego – doktorat (Więzy braterstwa u ludów Dogon i Kurumba\, jako wynik wspólnoty losów i kultury) obronił na Wydziale Historycznym UAM w Poznaniu (2008); do Afryki po raz pierwszy wyjechał w 1985 roku – od tego czasu prowadzi badania\, głównie w Mali\, Burkinie Faso\, Beninie\, Togo\, Ghanie\, na Wybrzeżu Kości Słoniowej\, w Ugandzie\, Gwinei\, Kamerunie i Czadzie. W latach 1998–2007 badał  pokrewieństwo żartów między ludami Dogonów i Kurumbów. Od 2010 do 2017 roku prowadził badania z zakresu antropologii turystyki wśród Dogonów w Mali i ludu Somba w Beninie i Togo\, dotyczące zmian kulturowych zachodzących pod wpływem masowego ruchu turystycznego. \nPodsumowaniem długoletnich prac terenowych są książki: Kolorowy Sahel (2000)\, Niewolnicy kobiet czyli pokrewieństwo żartów Dogonów i Kurumba (2009)\, Dogon ya gali. Dawny świat Dogonów (2011) oraz kilkadziesiąt artykułów w literaturze fachowej. \nOd 2008 roku współpracuje z Centrum Misji i Ewangelizacji w Dzięgielowie\, która organizuje pomoc dla dzieci w Afryce. Uczestniczył w budowie szkoły podstawowej w Pobe-Mengao (Burkina Faso; projekt finansowany przez Ministerstwo Spraw Zagranicznych RP\, realizowany  przez Centrum i warszawskie stowarzyszenie Edukacja dla Pokoju). \nKiedy nie pracuje – gra w piłkę nożną\, lubi też po meczu\, popijając zimne piwo\, omówić strategię gry. Szczególną sympatią darzy drużynę piłkarską Iskrę z rodzinnego Rownia – dzielnicy Żor. \n 
URL:https://www.pokladykultury.eu/event/tkaniny-afrykanskie-dawniej-i-dzis/
LOCATION:Galeria Muzeum Miejskiego Café Silesia\, ul. 3 Maja 6\, Zabrze\, śląskie\, 41-800\, Poland
ATTACH;FMTTYPE=image/jpeg:https://www.pokladykultury.eu/wp-content/uploads/2024/06/3-scaled.jpg
END:VEVENT
BEGIN:VEVENT
DTSTART;TZID=Europe/Warsaw:20240725T183000
DTEND;TZID=Europe/Warsaw:20240725T193000
DTSTAMP:20260423T131003
CREATED:20240627T100619Z
LAST-MODIFIED:20240627T100619Z
UID:11910-1721932200-1721935800@www.pokladykultury.eu
SUMMARY:Magia papieru czerpanego
DESCRIPTION:Co łączy tkaninę artystyczną oraz papier czerpany? „Choć należą do różnych dyscyplin sztuki\, mają jedną wspólną cechę\, powstają przez dotyk i dla dotyku” – odpowiada Ewa Rosiek-Buszko\, bohaterka naszego lipcowego spotkania na wystawie „Wątki zebrane”. Autorka idei projektu WASHI no FUSHIGI – TAJEMNICA PAPIERU realizowanego w Polsce oraz w Japonii w latach 2019–2020 zaprowadzi nas w fascynujący świat papieru ręcznie czerpanego. Poznamy niektóre z licznych tajemnic japońskiego papieru Washi oraz warsztatu pracy z tym niezwykle wymagającym materiałem. \nPrelekcji towarzyszyć będzie prezentacja wybranych prac artystki oraz projekcja filmów. \nEwa Rosiek-Buszko – tworzy tkaninę artystyczną oraz autorskie papiery ręcznie czerpane i ceramikę unikatową. W 1979 roku uzyskała dyplom na Wydziale Architektury Wnętrz w Akademii Sztuk Pięknych w Krakowie. Współzałożycielka i kuratorka wystaw działającej od 1991 roku śląskiej Grupy PRZEKAZ. Członek InSEA – Międzynarodowego Stowarzyszenia Wychowania przez Sztukę. Autorka cyklu wystaw oraz warsztatów „Paper Gami”\, na bazie których prowadzi zajęcia i wykłady dotyczące papieru ręcznie czerpanego. Urodzona w Gliwicach\, mieszka i pracuje w Krakowie. \nwstęp bezpłatny!
URL:https://www.pokladykultury.eu/event/magia-papieru-czerpanego/
LOCATION:Galeria Muzeum Miejskiego Café Silesia\, ul. 3 Maja 6\, Zabrze\, śląskie\, 41-800\, Poland
ATTACH;FMTTYPE=image/jpeg:https://www.pokladykultury.eu/wp-content/uploads/2024/06/Magia-papieru-czerpanego_na_strone_www.jpg
END:VEVENT
END:VCALENDAR