BEGIN:VCALENDAR
VERSION:2.0
PRODID:-//Pokładykultury.eu - ECPv5.16.3.1//NONSGML v1.0//EN
CALSCALE:GREGORIAN
METHOD:PUBLISH
X-WR-CALNAME:Pokładykultury.eu
X-ORIGINAL-URL:https://www.pokladykultury.eu
X-WR-CALDESC:Wydarzenia dla Pokładykultury.eu
REFRESH-INTERVAL;VALUE=DURATION:PT1H
X-Robots-Tag:noindex
X-PUBLISHED-TTL:PT1H
BEGIN:VTIMEZONE
TZID:Europe/Warsaw
BEGIN:DAYLIGHT
TZOFFSETFROM:+0100
TZOFFSETTO:+0200
TZNAME:CEST
DTSTART:20230326T010000
END:DAYLIGHT
BEGIN:STANDARD
TZOFFSETFROM:+0200
TZOFFSETTO:+0100
TZNAME:CET
DTSTART:20231029T010000
END:STANDARD
END:VTIMEZONE
BEGIN:VEVENT
DTSTART;TZID=Europe/Warsaw:20231111T100000
DTEND;TZID=Europe/Warsaw:20231111T183000
DTSTAMP:20260422T025444
CREATED:20231024T090259Z
LAST-MODIFIED:20231024T090259Z
UID:8946-1699696800-1699727400@www.pokladykultury.eu
SUMMARY:Turniej szachowy z okazji  “Święta Niepodległości” 2023
DESCRIPTION:Dzielnicowy Ośrodek Kultury Grzybowice zaprasza do udziału w Turnieju szachowym organizowanym z okazji „Święta Niepodległości”.  \nW Turnieju udział mogą wziąć wszyscy chętni startując w czterech kategoriach wiekowych: do lat 8 (rocznik 2015)\, do lat 10 (rocznik 2013)\, do lat 14 (rocznik 2009) oraz grupa Open. Turniej rozegrany zostanie systemem szwajcarskim: 7 rund w tempie 30 minut na zawodnika w grupach juniorskich oraz w grupie Open 15 minut + 10 sekund na zawodnika. \nLiczba miejsc ograniczona do 50. Zgłoszenia na turniej przyjmowane są przez serwis chessarbiter.com. \nWpisowe wynosi 60\,00 zł dla wszystkich w pełni przeznaczone na organizację turnieju\, płatne przed zawodami w dniu 11 listopada 2023 roku. Warunkiem uczestnictwa jest potwierdzenie udziału w zawodach do dnia 8 listopada 2023 na adres e-mail bensow1974@interia.pl. W zgłoszeniu należy podać imię\, nazwisko i rok urodzenia\, klub lub miasto. \n Nagrody: rzeczowe za miejsca I – III w  grupie do lat 8\, 10\, 14. Open – finansowe  za I miejsce 300 złotych za II miejsce 200 złotych za III miejsce 100 złotych – gwarantowane przy udziale 20 uczestników.   \n Pozostałe uzależnione od ilości uczestników. \n  \nHarmonogram: \nsobota – 11 listopada \n9.00 – rozpoczęcie zapisów \n9.50 – odprawa techniczna \nStart rund 1-7: od 10:00 do 17:15 \n Planowane zakończenie godz. 17:30.
URL:https://www.pokladykultury.eu/event/turniej-szachowy-z-okazji-swieta-niepodleglosci-2023/
LOCATION:Dzielnicowy Ośrodek Kultury Grzybowice\, ul. Badestinusa 60\, Zabrze\, śląskie\, 41-800\, Poland
ATTACH;FMTTYPE=image/jpeg:https://www.pokladykultury.eu/wp-content/uploads/2022/01/Szachy-w-Grzybowicach.jpg
END:VEVENT
BEGIN:VEVENT
DTSTART;VALUE=DATE:20231119
DTEND;VALUE=DATE:20231121
DTSTAMP:20260422T025444
CREATED:20231110T072411Z
LAST-MODIFIED:20231110T072411Z
UID:9124-1700355600-1700441999@www.pokladykultury.eu
SUMMARY:Mistrzostwa Zabrza w Pływaniu
DESCRIPTION:Aktywne Zabrze serdecznie zaprasza na Mistrzostwa Zabrza w Pływaniu o Puchar Prezydenta Miasta Zabrze.\n\n\nZawody odbędą się w niedzielę\, 19 listopada 2023 r. w Zabrzańskim Kompleksie Rekreacji Aquarius Kopernik.\n \n\nZapisy do zawodów przyjmowane są tylko poprzez formularz elektroniczny do 16.11.2023 21:00.\nOpłatę w wysokości 40 zł (dorośli)\, 30 zł (dzieci i młodzież) należy uiścić przelewem na konto: 89 1140 2004 0000 3902 8152 1517 do 18.11.2023 z tytułem ‘Zawody Pływackie oraz imię i nazwisko’. \nBrak wpłaty na konto skutkuje pobraniem opłaty na miejscu w wysokości 50 zł. \nPrzy wpłacie na konto należy okazać dowód wpłaty w biurze zawodów podczas weryfikacji przed zawodami. \nWięcej informacji znajdziesz TUTAJ.
URL:https://www.pokladykultury.eu/event/mistrzostwa-zabrza-w-plywaniu/
LOCATION:Zabrzański Kompleks Rekreacji „Aquarius Kopernik”\, Al. Wojciecha Korfantego 18\, Zabrze\, śląskie\, 41-800\, Poland
ATTACH;FMTTYPE=image/jpeg:https://www.pokladykultury.eu/wp-content/uploads/2023/11/Mistrzostwa-Zabrza-w-plywaniu.jpg
END:VEVENT
BEGIN:VEVENT
DTSTART;TZID=Europe/Warsaw:20231119T090000
DTEND;TZID=Europe/Warsaw:20231119T180000
DTSTAMP:20260422T025444
CREATED:20230913T045641Z
LAST-MODIFIED:20230913T045641Z
UID:8551-1700384400-1700416800@www.pokladykultury.eu
SUMMARY:IV Bieg pod ziemią
DESCRIPTION:Zapraszamy na IV Ekstremalny Bieg pod ziemią w Zabytkowej Kopalni Guido w Zabrzu.\n \nWydaje Ci się\, że biegałeś już wszędzie i nic Cię nie zaskoczy? Że każda sceneria i warunki zostały wypróbowane i okiełznane? Nic bardziej mylnego! 19 listopada 2023 roku odbędzie się czwarta edycja biegu treningowego pod ziemią na dystansie 6 km\, którego trasa prowadzić będzie 320 i 355 metrów pod ziemią.\n \nUczestnicy biegu treningowego do pokonania będą mieli nie tylko kilometry\, ale również będą pokonywać podziemne korytarze\, walcząc ze stromymi podbiegami i upadami. Przeszkadzać będzie nie tylko trudna lokalizacja\, ale i szereg dodatkowych przeszkód\, jak np. potworne zapylenie\, czołganie i przeciskanie się przez wąskie chodniki\, błoto. BIEGAĆ MOŻNA W KAŻDYCH WARUNKACH!\n \n– ZAPISY LINK\nhttps://www.runtravel.pl/bieg-zabrze-guido/ 
URL:https://www.pokladykultury.eu/event/iv-bieg-pod-ziemia/
LOCATION:Kopalnia Guido\, ul. 3 Maja 93\, Zabrze\, śląskie\, 41-800\, Poland
ATTACH;FMTTYPE=image/jpeg:https://www.pokladykultury.eu/wp-content/uploads/2023/09/Bieg-pod-ziemia.jpg
END:VEVENT
END:VCALENDAR