BEGIN:VCALENDAR
VERSION:2.0
PRODID:-//Pokładykultury.eu - ECPv5.16.3.1//NONSGML v1.0//EN
CALSCALE:GREGORIAN
METHOD:PUBLISH
X-ORIGINAL-URL:https://www.pokladykultury.eu
X-WR-CALDESC:Wydarzenia dla Pokładykultury.eu
REFRESH-INTERVAL;VALUE=DURATION:PT1H
X-Robots-Tag:noindex
X-PUBLISHED-TTL:PT1H
BEGIN:VTIMEZONE
TZID:Europe/Warsaw
BEGIN:DAYLIGHT
TZOFFSETFROM:+0100
TZOFFSETTO:+0200
TZNAME:CEST
DTSTART:20230326T010000
END:DAYLIGHT
BEGIN:STANDARD
TZOFFSETFROM:+0200
TZOFFSETTO:+0100
TZNAME:CET
DTSTART:20231029T010000
END:STANDARD
END:VTIMEZONE
BEGIN:VEVENT
DTSTART;TZID=Europe/Warsaw:20230909T000000
DTEND;TZID=Europe/Warsaw:20230909T000000
DTSTAMP:20260423T074113
CREATED:20230906T101633Z
LAST-MODIFIED:20230906T101633Z
UID:8484-1694217600-1694217600@www.pokladykultury.eu
SUMMARY:Nocny Turniej Piłki Nożnej
DESCRIPTION:Miejski Ośrodek Sportu i Rekreacji w Zabrzu zaprasza do udziału i kibicowania podczas XII Nocnego Turnieju Piłki Nożnej. Turniej odbędzie się w dniach 8-9 września 2023 r. w Hali Sportowej MOSiR przy ul. Matejki 1 w Zabrzu. \n\nHarmonogram gier można znaleźć na stronie https://www.tournify.pl/live/nocnyturniej\n\n\nStar o godz. 22.00.\n\n\nTurniej pod patronatem PZPN
URL:https://www.pokladykultury.eu/event/nocny-turniej-pilki-noznej/
LOCATION:Miejski Ośrodek Sportu i Rekreacji\, ul. Matejki 6\, Zabrze\, śląskie\, 41-800\, Poland
ATTACH;FMTTYPE=image/jpeg:https://www.pokladykultury.eu/wp-content/uploads/2023/09/Nocny-Turniej-pilki-noznej.jpg
END:VEVENT
BEGIN:VEVENT
DTSTART;TZID=Europe/Warsaw:20230916T170000
DTEND;TZID=Europe/Warsaw:20230916T230000
DTSTAMP:20260423T074113
CREATED:20230907T083222Z
LAST-MODIFIED:20230907T083222Z
UID:8490-1694883600-1694905200@www.pokladykultury.eu
SUMMARY:Festyn na Koperniku
DESCRIPTION:Rada Dzielnicy Osiedle Mikołaja Kopernika i Rada Dzielnicy Osiedla Tadeusza Kotarbińskiego zapraszają na Festyn rodzinny dla wszystkich mieszkańców Zabrza. Bawimy się od godz. 15.00 do 21.00. Do tańca przygrywa zespół Rakiety Cover Band. \nPodczas festynu prowadzony będzie konkurs wiedzy o Zabrzu. Cenne nagrody o łącznej wartości 10 000 zł będą wręczane co godzinę. Na zakończenie nastąpi wręczenie nagrody głównej w postaci wysokiej klasy roweru. \nPonadto w czasie festynu:\n• stoiska gastronomiczne i handlowe\n• pokazy artystyczne\n• fotobudka\n• animatorzy dla dzieci\n• zabawki\, balony\n• dmuchane zjeżdżalnie\, trampoliny\, euro-bungee\n• zwiedzanie wozu strażackiego\, karetki oraz radiowozu\n• szkolenie z pierwszej pomocy\n• znakowanie rowerów\n• i wiele innych atrakcji
URL:https://www.pokladykultury.eu/event/festyn-na-koperniku/
LOCATION:Park im. Jana Pawła II\, al. Korfantego 18\, Zabrze\, śląskie\, 41-800\, Poland
ATTACH;FMTTYPE=image/jpeg:https://www.pokladykultury.eu/wp-content/uploads/2023/09/Festyn-na-Koperniku.jpg
END:VEVENT
BEGIN:VEVENT
DTSTART;VALUE=DATE:20230923
DTEND;VALUE=DATE:20230926
DTSTAMP:20260423T074113
CREATED:20230911T084739Z
LAST-MODIFIED:20230911T084739Z
UID:8533-1695434400-1695607199@www.pokladykultury.eu
SUMMARY:Turniej szachowy "Pierwszy dzień Jesieni"
DESCRIPTION:Dzielnicowy Ośrodek Kultury w Grzybowicach zaprasza wszystkich chętnych do wzięcia udziału w turnieju szachowym. Turniej odbędzie się w czterech kategoriach wiekowych: do lat 8 (rocznik 2015)\, do lat 10 (rocznik 2013)\, do lat 12 (rocznik 2011) oraz grupa Open. Turniej rozegrany zostanie systemem szwajcarskim 8 rund w tempie 60 minut na zawodnika w grupach juniorskich oraz 5 rund w grupie Open 60 + 30 sekund na zawodnika.\n \nLiczba miejsc ograniczona do 50. Zgłoszenia na turniej przyjmowane są przez serwis chessarbiter.com. Wpisowe wynosi 100 zł grupa Open\, 60\,00 zł grupy do lat 8 \, 10 i 12 w pełni przeznaczone na organizację turnieju\, płatne przed zawodami w dniu 23 września 2023 roku. Warunkiem uczestnictwa jest potwierdzenie udziału w zawodach do dnia 20 września 2023 na adres e-mail bensow1974@interia.pl. W zgłoszeniu należy podać imię\, nazwisko i rok urodzenia klub lub miasto.\n \nNagrody: rzeczowe za miejsca I – III w grupie do lat 8\, 10 \,12. Open – finansowe za I miejsce 300 złotych za II miejsce 200 złotych za III miejsce 100 złotych – gwarantowane przy udziale 10 uczestników.\nPozostałe uzależnione od ilości uczestników.\n \nTurniej przeprowadzony zostanie z zachowaniem reżimu sanitarnego.\n \nHarmonogram:\nsobota – 23 września\n9.00 – rozpoczęcie zapisów\n9.50 – odprawa techniczka\nStart rund 1-4: od 10.00 do 19.00 juniorzy oraz 1 – 3 grupa Open\nniedziela – 24 września\n10.00 – start rund 5-8 juniorzy i 4-5 grupa Open. Planowane zakończenie godz. 17.00.
URL:https://www.pokladykultury.eu/event/turniej-szachowy-pierwszy-dzien-jesieni/
LOCATION:Dzielnicowy Ośrodek Kultury Grzybowice\, ul. Badestinusa 60\, Zabrze\, śląskie\, 41-800\, Poland
ATTACH;FMTTYPE=image/jpeg:https://www.pokladykultury.eu/wp-content/uploads/2023/09/Turniej-szachowy.jpg
END:VEVENT
BEGIN:VEVENT
DTSTART;TZID=Europe/Warsaw:20230923T123000
DTEND;TZID=Europe/Warsaw:20230923T180000
DTSTAMP:20260423T074113
CREATED:20230727T082027Z
LAST-MODIFIED:20230727T082027Z
UID:8168-1695472200-1695492000@www.pokladykultury.eu
SUMMARY:Jesienny Bieg Leśny 2023
DESCRIPTION:Miejski Ośrodek Sportu i Rekreacji w Zabrzu zaprasza do udziału w drugiej edycji Jesiennego Biegu Leśnego.\n \nZ niezmierną radością możemy zaprosić was na bieg oraz marsz Nordic Walking.\nBiegi odbędą się na dystansach 5 km i 10 km\, marsz NW na 5 km.\nZapisy oraz regulamin biegu dostępne na https://www.zmierzymyczas.pl/…/ii-jesienny-bieg-lesny.html\n \nZGŁOSZENIA DO BIEGU\n1. Zgłoszenia internetowe za pośrednictwem strony: https://www.zmierzymyczas.pl/ do dnia 15 września 2023 roku lub osiągnięcia założonej liczby 250 uczestników.\n2. Organizator określa limit uczestników marszu nordic walking\, który wynosi 50 zawodników.\n3. Opłata startowa:\n– 40 zł bez koszulki technicznej do dnia 31.08.2023r.\n– 60 zł z koszulką techniczną do dnia 31.08.2023r.\n– 70 zł bez koszulki technicznej od 01.09.2023r. do 15.09.2023r.\n \nPłatność:\n– w kasie MOSiR ul. J. Matejki 6\,\n– przelew na konto ING Bank Śląski 27 1050 1214 1000 0090 3165 0998\n*w tytule „jesienny bieg + Imię Nazwisko”\n \nRamowy plan biegu:\n10:30 – otwarcie biura biegu\, wydawanie pakietów startowych i otwarcie depozytu\n12:45 – wspólna rozgrzewka\n13:00 – start wspólny biegu\n13:05 – start marszu Nordic Walking\n15:15 – dekoracja zwycięzców\, zamknięcie depozytu
URL:https://www.pokladykultury.eu/event/jesienny-bieg-lesny-2023/
LOCATION:Kąpielisko Leśne\, ul. Srebrna 10\, Zabrze\, śląskie\, 41-800\, Poland
ATTACH;FMTTYPE=image/jpeg:https://www.pokladykultury.eu/wp-content/uploads/2023/07/Jesienny-Bieg-Lesny.jpg
END:VEVENT
BEGIN:VEVENT
DTSTART;TZID=Europe/Warsaw:20230924T120000
DTEND;TZID=Europe/Warsaw:20230924T170000
DTSTAMP:20260423T074113
CREATED:20230904T075211Z
LAST-MODIFIED:20230904T075211Z
UID:8441-1695556800-1695574800@www.pokladykultury.eu
SUMMARY:Zabrzański Bieg dla Serca
DESCRIPTION:UWAGA – ruszamy! Kolejna edycja imprezy biegowej odbędzie się 24.09.2023 r.\n \nCo się zmieni w tym roku? Jedynie dwie rzeczy\, tj. zapisy online i symboliczne wpisowe (dla dorosłych)\, żeby zabezpieczyć podobną jakość imprezy\, co w tamtym roku. Dodatkowo pracujemy nad koszulką startową\, która będzie opcjonalnie dostępna\, a którą zaprojektuje dla nas profesjonalna firma. Myślimy o pomiarze czasu\, ale zobaczymy\, czy zmieści się w budżecie. Nie możemy się doczekać na spotkanie z Wami. Trasa i kategorie biegów pozostaną bez zmian\, niebawem plakat.\n\nW tym roku limit – 250 osób.\nPo szczegóły zapraszamy na www.ZabrzanskiBiegDlaSerca.pl
URL:https://www.pokladykultury.eu/event/zabrzanski-bieg-dla-serca-2/
LOCATION:Szkoła Podstawowa nr 30\, ul. Ludwiki Wawrzyńskiej 11\, Zabrze\, śląskie\, 41-813\, Poland
ATTACH;FMTTYPE=image/jpeg:https://www.pokladykultury.eu/wp-content/uploads/2023/09/Bieg.jpg
END:VEVENT
END:VCALENDAR