BEGIN:VCALENDAR
VERSION:2.0
PRODID:-//Pokładykultury.eu - ECPv5.16.3.1//NONSGML v1.0//EN
CALSCALE:GREGORIAN
METHOD:PUBLISH
X-WR-CALNAME:Pokładykultury.eu
X-ORIGINAL-URL:https://www.pokladykultury.eu
X-WR-CALDESC:Wydarzenia dla Pokładykultury.eu
REFRESH-INTERVAL;VALUE=DURATION:PT1H
X-Robots-Tag:noindex
X-PUBLISHED-TTL:PT1H
BEGIN:VTIMEZONE
TZID:Europe/Warsaw
BEGIN:DAYLIGHT
TZOFFSETFROM:+0100
TZOFFSETTO:+0200
TZNAME:CEST
DTSTART:20230326T010000
END:DAYLIGHT
BEGIN:STANDARD
TZOFFSETFROM:+0200
TZOFFSETTO:+0100
TZNAME:CET
DTSTART:20231029T010000
END:STANDARD
END:VTIMEZONE
BEGIN:VEVENT
DTSTART;TZID=Europe/Warsaw:20230105T200000
DTEND;TZID=Europe/Warsaw:20230105T220000
DTSTAMP:20260421T041456
CREATED:20230103T092308Z
LAST-MODIFIED:20230103T092308Z
UID:6327-1672948800-1672956000@www.pokladykultury.eu
SUMMARY:Zabrze / Stand-up: Sebastian Rejent - Optima Forma / 5.1.2023 / godz.19:00
DESCRIPTION:NOWY MATERIAŁ SEBASTIANA REJENTA – OPTIMA FORMA.\nNa poprzedni materiał stand-upowy Sebastiana Rejenta czekaliście 10 lat. To na kolejny też musicie poczekać 10…\nNie! 10 lat to zdecydowanie za długo! Pora przyśpieszyć!\n \nSebastian zaprasza na swój nowy program\, który będzie grał… już teraz! Znaczy nie „już teraz”; musisz przyjść na występ i wtedy będzie go grał… Ale „już teraz” możesz kupić bilet!\n \nBilety w cenie 40 zł do nabycia: https://bkb.pl/83468-87e9d.
URL:https://www.pokladykultury.eu/event/zabrze-stand-up-sebastian-rejent-optima-forma-5-1-2023-godz-1900/
LOCATION:Pub Oficyna\, ul. Wolności 211 a\, Zabrze\, śląskie\, 41-800\, Poland
ATTACH;FMTTYPE=image/jpeg:https://www.pokladykultury.eu/wp-content/uploads/2023/01/Sebastian-Rejent.jpg
END:VEVENT
END:VCALENDAR