BEGIN:VCALENDAR
VERSION:2.0
PRODID:-//Pokładykultury.eu - ECPv5.16.3.1//NONSGML v1.0//EN
CALSCALE:GREGORIAN
METHOD:PUBLISH
X-WR-CALNAME:Pokładykultury.eu
X-ORIGINAL-URL:https://www.pokladykultury.eu
X-WR-CALDESC:Wydarzenia dla Pokładykultury.eu
REFRESH-INTERVAL;VALUE=DURATION:PT1H
X-Robots-Tag:noindex
X-PUBLISHED-TTL:PT1H
BEGIN:VTIMEZONE
TZID:Europe/Warsaw
BEGIN:DAYLIGHT
TZOFFSETFROM:+0100
TZOFFSETTO:+0200
TZNAME:CEST
DTSTART:20230326T010000
END:DAYLIGHT
BEGIN:STANDARD
TZOFFSETFROM:+0200
TZOFFSETTO:+0100
TZNAME:CET
DTSTART:20231029T010000
END:STANDARD
END:VTIMEZONE
BEGIN:VEVENT
DTSTART;TZID=Europe/Warsaw:20230902T163000
DTEND;TZID=Europe/Warsaw:20230903T000000
DTSTAMP:20260423T081644
CREATED:20230816T081418Z
LAST-MODIFIED:20230816T081853Z
UID:8290-1693672200-1693699200@www.pokladykultury.eu
SUMMARY:Festyn Parafialny
DESCRIPTION:Już 2 września zaraz po wakacjach serdecznie zapraszamy na duży Festyn Parafialny przy kościele Św. Anny w Zabrzu.\nDochód z całej imprezy przeznaczony będzie na remont elewacji kościoła.\n \nGwiazdą dnia będzie znany z Kabaretu Młodych Panów – Robert Korólczyk\, którego występ odbędzie się o godzinie 14.30 w salce Domu Parafialnego. Cegiełki do nabycia w kancelarii parafialnej. Tel. 32 271 36 74.\n \nW tym samym czasie zapraszamy do ogrodu parafialnego gdzie odbędzie się dalsza część festynu z dodatkowymi atrakcjami. Nie zabraknie występów artystycznych\, dobrego jedzonka\, zabaw dla dzieci i dorosłych. Konkursów z nagrodami i losowania fantów.
URL:https://www.pokladykultury.eu/event/festyn-parafialny/
LOCATION:kościół pw. św. Anny\, ul. 3 Maja 18\, Zabrze\, śląskie\, 41-800\, Poland
ATTACH;FMTTYPE=image/jpeg:https://www.pokladykultury.eu/wp-content/uploads/2023/08/Festyn-Parafialny_2-wrzesnia.jpg
END:VEVENT
BEGIN:VEVENT
DTSTART;TZID=Europe/Warsaw:20230909T170000
DTEND;TZID=Europe/Warsaw:20230909T230000
DTSTAMP:20260423T081644
CREATED:20230908T080940Z
LAST-MODIFIED:20230908T080940Z
UID:8516-1694278800-1694300400@www.pokladykultury.eu
SUMMARY:Biesiada na Zandce
DESCRIPTION:Rada Dzielnicy Zandka zaprasza w sobotę\, 9 września na Biesiadę\, która odbędzie się przy ulicy Cmentarnej 7 (plac szkolny). Wystąpi zespół DE FACTO\, a na uczestników Biesiady czekać będzie wiele atrakcji i konkursów z nagrodami.\n\n 
URL:https://www.pokladykultury.eu/event/biesiada-na-zandce/
LOCATION:Plac szkolny na Zandce\, ul. Cmentarna 7\, Zabrze\, śląskie\, Poland
ATTACH;FMTTYPE=image/jpeg:https://www.pokladykultury.eu/wp-content/uploads/2023/09/Biesiada-na-Zandce-e1694167772629.jpg
END:VEVENT
BEGIN:VEVENT
DTSTART;TZID=Europe/Warsaw:20230909T170000
DTEND;TZID=Europe/Warsaw:20230909T230000
DTSTAMP:20260423T081644
CREATED:20230908T084817Z
LAST-MODIFIED:20230908T084817Z
UID:8520-1694278800-1694300400@www.pokladykultury.eu
SUMMARY:Jesienny Jarmark na Janku
DESCRIPTION:Rada Dzielnicy Guido zaprasza na Jesienny Jarmark na Janku\, który stał się już doroczną tradycją dla mieszkańców dzielnicy Guido. \nImpreza odbędzie się 9 września\, start o godz. 15.00 na terenie Ośrodka Sportowego Walka (ul. Jaskółcza 40). \n \nOrganizatorzy zadbali o atrakcje dla dzieci – m.in. wizyta alpak\, konkursy\, gry i zabawy oraz dmuchańce. Nie zabraknie również strefy gastronomicznej i stoisk handlowych\, a także pokazów artystycznych i sportowych. O oprawę muzyczną zadba Adrian Biskupek z zespołem. \nZapraszamy
URL:https://www.pokladykultury.eu/event/jesienny-jarmark-na-janku/
LOCATION:Ośrodek Sportowy Walka\, ul. Jaskółcza 40\, Zabrze\, śląskie\, 41-800\, Poland
ATTACH;FMTTYPE=image/jpeg:https://www.pokladykultury.eu/wp-content/uploads/2023/09/Jesienny-JArmark-na-Janku.jpg
END:VEVENT
BEGIN:VEVENT
DTSTART;TZID=Europe/Warsaw:20230916T133000
DTEND;TZID=Europe/Warsaw:20230916T163000
DTSTAMP:20260423T081644
CREATED:20230906T054048Z
LAST-MODIFIED:20230906T054048Z
UID:8477-1694871000-1694881800@www.pokladykultury.eu
SUMMARY:Na tropie Zabrza - gra terenowa
DESCRIPTION:Trwają zapisy do organizowanej przez Centrum Rozwoju Rodziny gry terenowej „Na tropie Zabrza”\, która odbędzie się w sobotę\, 16 września. Będzie to znakomita okazja do lepszego poznania naszego miasta i jego tajemnic oraz integracji nie tylko dla rodzin\, ale i całej zabrzańskiej społeczności. Udział w grze jest bezpłatny\, obowiązują jednak wcześniejsze zapisy – ze względu na ograniczoną ilość miejsc decydować będzie kolejność zgłoszeń. \nUczestnicy mogą brać udział w grze terenowej wyłącznie w drużynach rodzinnych\, w skład zespołu musi wchodzić przynajmniej jedna osoba dorosła. Aby wziąć udział\, należy zapisać się do 12 września: telefonicznie – 32 630 32 33 lub mailowo – zapisy@crr.miastozabrze.pl. Zgłaszając drużynę należy podać nazwę drużyny\, liczbę uczestników oraz ich imiona i nazwiska oraz telefon kontaktowy i adres e-mail kapitana drużyny. \nGra terenowa polega na znalezieniu wszystkich punktów kontrolnych oraz wykonaniu zadań według wskazówek\, zebraniu niezbędnych informacji według instrukcji oraz dotarciu do mety znajdującej się w dawnym Kinie Energetyk przy Elektrociepłowni Zabrze (ul. Wolności 416). \nDrużyny proszone są o przybycie na teren Centrum Rozwoju Rodziny 16 września w godzinach 11.30- 12.00 aby potwierdzić uczestnictwo w grze i pobrać kartę gry (mapkę). \nGra terenowa odbywa się w ramach projektu „Miasto Przestrzenią Rozwoju”\, finansowanego ze środków Norweskiego Mechanizmu Finansowego na lata 2014-2021.
URL:https://www.pokladykultury.eu/event/na-tropie-zabrza-gra-terenowa/
LOCATION:Zabrze\, Zabrze\, śląskie\, 41-800\, Poland
ATTACH;FMTTYPE=image/jpeg:https://www.pokladykultury.eu/wp-content/uploads/2023/09/Na-tropie-Zabrza.jpg
END:VEVENT
BEGIN:VEVENT
DTSTART;TZID=Europe/Warsaw:20230916T170000
DTEND;TZID=Europe/Warsaw:20230917T000000
DTSTAMP:20260423T081644
CREATED:20230904T074712Z
LAST-MODIFIED:20230904T074712Z
UID:8438-1694883600-1694908800@www.pokladykultury.eu
SUMMARY:U nos w Kończycach - Dożynki
DESCRIPTION:Rada Dzielnicy Kończyce zaprasza na Dożynki.
URL:https://www.pokladykultury.eu/event/u-nos-w-konczycach-dozynki/
LOCATION:Dzielnicowy Ośrodek Kultury Kończyce\, ul. Dorotki 3\, Zabrze\, śląskie\, 41-800\, Poland
ATTACH;FMTTYPE=image/jpeg:https://www.pokladykultury.eu/wp-content/uploads/2023/09/Dozynki.jpg
END:VEVENT
BEGIN:VEVENT
DTSTART;TZID=Europe/Warsaw:20230924T120000
DTEND;TZID=Europe/Warsaw:20230924T200000
DTSTAMP:20260423T081644
CREATED:20230913T051038Z
LAST-MODIFIED:20230913T051038Z
UID:8554-1695556800-1695585600@www.pokladykultury.eu
SUMMARY:Festiwal sportu
DESCRIPTION:Aktywne Zabrze zaprasza na FESTIWAL SPORTU\, który odbędzie się w niedzielę\, 24 września na kortach tenisowych przy ul. Piłsudskiego 83.\n \nLink do zapisów https://aktywnezabrze.inkontrahent.pl/wp/festiwal-sportu 200 miejsc.\nDla zarejestrowanych uczestników sporo niespodzianek.\n \nA atrakcji będzie sporo dla każdego coś innego: Aikido\, tenis\, zumba\, taniec\, pokaz tańca i zabawy dla dzieci\, pierwsza pomoc\, szachy\, pomiar mocy\, koło fortuny\, grlill\, mineralki\, akrobatyka\, joga\, konsultacje przedsiębiorczości\, centrum rozwoju rodziny\, muzyka na żywo\, deejay\, konsultacje diety i składu ciała\, rękodzieła sportowe.\n \nFestiwal jest współfinansowany ze środków Miasto Zabrze
URL:https://www.pokladykultury.eu/event/festiwal-sportu/
LOCATION:Korty Akademii Tenisowej Zabrze\, ul. Piłsudskiego 83\, Zabrze\, śląskie\, 41-800\, Poland
ATTACH;FMTTYPE=image/jpeg:https://www.pokladykultury.eu/wp-content/uploads/2023/09/Festiwal-sportu.jpg
END:VEVENT
END:VCALENDAR