BEGIN:VCALENDAR
VERSION:2.0
PRODID:-//Pokładykultury.eu - ECPv5.16.3.1//NONSGML v1.0//EN
CALSCALE:GREGORIAN
METHOD:PUBLISH
X-ORIGINAL-URL:https://www.pokladykultury.eu
X-WR-CALDESC:Wydarzenia dla Pokładykultury.eu
REFRESH-INTERVAL;VALUE=DURATION:PT1H
X-Robots-Tag:noindex
X-PUBLISHED-TTL:PT1H
BEGIN:VTIMEZONE
TZID:Europe/Warsaw
BEGIN:DAYLIGHT
TZOFFSETFROM:+0100
TZOFFSETTO:+0200
TZNAME:CEST
DTSTART:20220327T010000
END:DAYLIGHT
BEGIN:STANDARD
TZOFFSETFROM:+0200
TZOFFSETTO:+0100
TZNAME:CET
DTSTART:20221030T010000
END:STANDARD
END:VTIMEZONE
BEGIN:VEVENT
DTSTART;TZID=Europe/Warsaw:20220927T210000
DTEND;TZID=Europe/Warsaw:20220927T230000
DTSTAMP:20260421T193000
CREATED:20220920T051144Z
LAST-MODIFIED:20220920T051144Z
UID:4677-1664312400-1664319600@www.pokladykultury.eu
SUMMARY:Kolektyw Jednego Dzieła - pokaz tańca współczesnego
DESCRIPTION:Dzielnicowy Ośrodek Kultury w Zabrzu – Biskupicach wraz z Kolektywem Jednego Dzieła zaprasza 27 września (wtorek) godz. 19:00 na pokaz tańca współczesnego.\n \nTo wyjątkowe wydarzenie taneczno – teatralne przygotowały:\nKatarzyna Najder\, Anna Orkisz\, Elżbieta Sikora i Marta Stawik.\n \nWydarzenie jest bezpłatne i otwarte dla dużych i małych miłośników tańca nowoczesnego!\n \nW programie 3 pokazy:\n– solo zatytułowane „Taniec jednego człowieka”\n– duet zatytułowany „Pracownia masy własnej”\n– kwartet zatytułowany „Pod stołem”\n \nSerdecznie zapraszamy
URL:https://www.pokladykultury.eu/event/kolektyw-jednego-dziela-pokaz-tanca-wspolczesnego/
LOCATION:Dzielnicowy Ośrodek Kultury Biskupice\, ul. W. Kossaka 23\, Zabrze\, śląskie\, 41-800\, Poland
ATTACH;FMTTYPE=image/jpeg:https://www.pokladykultury.eu/wp-content/uploads/2022/09/Kolektyw-jednego-dziela.jpg
END:VEVENT
END:VCALENDAR