BEGIN:VCALENDAR
VERSION:2.0
PRODID:-//Pokładykultury.eu - ECPv5.16.3.1//NONSGML v1.0//EN
CALSCALE:GREGORIAN
METHOD:PUBLISH
X-WR-CALNAME:Pokładykultury.eu
X-ORIGINAL-URL:https://www.pokladykultury.eu
X-WR-CALDESC:Wydarzenia dla Pokładykultury.eu
REFRESH-INTERVAL;VALUE=DURATION:PT1H
X-Robots-Tag:noindex
X-PUBLISHED-TTL:PT1H
BEGIN:VTIMEZONE
TZID:Europe/Warsaw
BEGIN:DAYLIGHT
TZOFFSETFROM:+0100
TZOFFSETTO:+0200
TZNAME:CEST
DTSTART:20220327T010000
END:DAYLIGHT
BEGIN:STANDARD
TZOFFSETFROM:+0200
TZOFFSETTO:+0100
TZNAME:CET
DTSTART:20221030T010000
END:STANDARD
END:VTIMEZONE
BEGIN:VEVENT
DTSTART;TZID=Europe/Warsaw:20220324T190000
DTEND;TZID=Europe/Warsaw:20220324T210000
DTSTAMP:20260421T152117
CREATED:20220218T095744Z
LAST-MODIFIED:20220218T095744Z
UID:2657-1648148400-1648155600@www.pokladykultury.eu
SUMMARY:Poczytanie 74. Rokita Czyta "Walden\, czyli życie w lesie" H. D. Thoreau
DESCRIPTION:Walden\, czyli życie w lesie (ang. Walden\, albo Walden; or\, Life in the Woods) – zbiór 18 esejów filozoficznych napisanych przez Henry’ego Davida Thoreau w trakcie jego eksperymentu samotnego zamieszkiwania nad stawem Walden (4 lipca 1845 – 6 września 1847)\, dokończonych i opublikowanych w 1854 roku na własny koszt. Eseje mają postać autobiograficznej relacji z dwóch lat życia w lesie\, jednak wydarzenia skondensowane zostały do jednego roku. \nKsiążka ta nie jest ani powieścią\, ani pełnoprawną autobiografią\, ale społeczną krytyką współczesnego świata zachodniego\, wraz z jego konsumpcjonizmem oraz obojętnością na niszczenie natury. Jej celem jest sprowokowanie czytelników do krytycznej oceny sposobu ich życia i myślenia. Thoreau zwraca uwagę na konieczność świadomej egzystencji: weryfikującej ogólnie przyjęte przekonania\, nastawionej na poznanie siebie\, niezależnej od wpływów innych ludzi\, ograniczającej zbędne potrzeby\, bliskiej przyrodzie. Natura jest dla niego źródłem poznania\, a przebywanie w jej pobliżu wyrazem świadomości istnienia. Podkreśla\, że każdy powinien znaleźć swój indywidualny sposób na życie\, nie naśladując nikogo. Poczynania Thoreau mają wyraz optymistyczny\, nacechowany wielką energią życiową. \nKsiążka została starannie skomponowana\, odnaleźć w niej można bogactwo figur retorycznych oraz aluzje do Biblii i dzieł filozofów\, szczególnie wschodnich. Jest jednym z reprezentatywnych przykładów nurtu transcendentalnego w literaturze amerykańskiej.\n[źródło opisu: https://pl.wikipedia.org/wiki/Walden_(utw%C3%B3r) ]
URL:https://www.pokladykultury.eu/event/poczytanie-74-rokita-czyta-walden-czyli-zycie-w-lesie-h-d-thoreau/
LOCATION:RestoGym\, ul. Krakowska 48\, Zabrze\, śląskie\, 41-808\, Poland
ATTACH;FMTTYPE=image/jpeg:https://www.pokladykultury.eu/wp-content/uploads/2022/02/Poczytanie-74.jpg
END:VEVENT
END:VCALENDAR