BEGIN:VCALENDAR
VERSION:2.0
PRODID:-//Pokładykultury.eu - ECPv5.16.3.1//NONSGML v1.0//EN
CALSCALE:GREGORIAN
METHOD:PUBLISH
X-WR-CALNAME:Pokładykultury.eu
X-ORIGINAL-URL:https://www.pokladykultury.eu
X-WR-CALDESC:Wydarzenia dla Pokładykultury.eu
REFRESH-INTERVAL;VALUE=DURATION:PT1H
X-Robots-Tag:noindex
X-PUBLISHED-TTL:PT1H
BEGIN:VTIMEZONE
TZID:Europe/Warsaw
BEGIN:DAYLIGHT
TZOFFSETFROM:+0100
TZOFFSETTO:+0200
TZNAME:CEST
DTSTART:20220327T010000
END:DAYLIGHT
BEGIN:STANDARD
TZOFFSETFROM:+0200
TZOFFSETTO:+0100
TZNAME:CET
DTSTART:20221030T010000
END:STANDARD
END:VTIMEZONE
BEGIN:VEVENT
DTSTART;TZID=Europe/Warsaw:20220827T120000
DTEND;TZID=Europe/Warsaw:20220827T133000
DTSTAMP:20260420T184146
CREATED:20220704T073150Z
LAST-MODIFIED:20220704T073150Z
UID:4088-1661601600-1661607000@www.pokladykultury.eu
SUMMARY:Darmowe zajęcia jogi w Ogrodzie Botanicznym – VI edycja
DESCRIPTION:Po raz kolejny Synergia zaprasza do udziału w plenerowych zajęciach jogi. \nCykl jogi na trawie rozpoczął się 2 lipca 2022. Spotkania będą trwały przez całe wakacje. \nCotygodniowe zajęcia odbywać się będą na dużej łące pod wierzbą naprzeciw stawu\, w każdą sobotę\, aż do 27 sierpnia 2021 o godzinie 10.00. Zajęcia potrwają około 1\,5 godziny. \nWstęp na jogę jest darmowy\, bez ograniczeń miejsc\, natomiast wstęp do ogrodu płatny 2 zł. W razie niepogody zajęcia zostają odwołane. Zapraszamy! \nProsimy o zabranie własnych mat.
URL:https://www.pokladykultury.eu/event/darmowe-zajecia-jogi-w-ogrodzie-botanicznym-vi-edycja-9/
LOCATION:Miejski Ogród Botaniczny\, ul. Piłsudskiego 60\, Zabrze\, śląskie\, 41-800\, Poland
ATTACH;FMTTYPE=image/jpeg:https://www.pokladykultury.eu/wp-content/uploads/2022/07/Joga.jpg
END:VEVENT
BEGIN:VEVENT
DTSTART;TZID=Europe/Warsaw:20220827T190000
DTEND;TZID=Europe/Warsaw:20220827T220000
DTSTAMP:20260420T184146
CREATED:20220704T083102Z
LAST-MODIFIED:20220704T083102Z
UID:4117-1661626800-1661637600@www.pokladykultury.eu
SUMMARY:ZABRZE SUMMER FESTIVAL 2022 – DJ Hazel i Bueno Clinic
DESCRIPTION:Finałowy koncert Zabrze Summer Festival połączony z zakończeniem wakacji odbędzie się 27 sierpnia\, a występy zostaną wzbogacone pokazami laserowymi. Gwiazdami wieczoru będą Dj Hazel i Bueno Clinic. \nPierwszy z nich to polski DJ i producent muzyczny. Wchodzi w skład Pioneer DJ’s Team – grupy osób prezentującej i testującej sprzęt tej renomowanej marki. W 2001 wystartował w Mistrzostwach Europy DJ-ów w Niemczech i zdobył tytuł Wicemistrza Europy. \nBueno Clinic to natomiast jeden z czołowych artystów w branży klubowej w Polsce znany z znakomitego kontaktu z publiką. Jako jedyny Polak ma na swoim koncie występy w Korei Południowej na największych festiwalach muzycznych jak World Electronica Carnival u boku takich gwiazd jak Benny Benassi\, Armand van Helden\, Far East Movement\, Yolanda Be Cool\, Cazzette oraz Electrodash Festival jako headliner imprezy w sercu Seulu. W 2015 roku singlem “I love sex with my ex” przy współpracy z duetem DNF & VNALOGIC zdobył najwyższe miejsce podium w notowaniu GORĄCA 20 w ESKA TV.
URL:https://www.pokladykultury.eu/event/zabrze-summer-festival-2022-dj-hazel-i-bueno-clinic/
LOCATION:parking przy CH Platan\, Pl. Teatralny 12\, Zabrze\, śląskie\, 41-800\, Poland
ATTACH;FMTTYPE=image/png:https://www.pokladykultury.eu/wp-content/uploads/2022/07/ZSF-DJ-Hazel.png
END:VEVENT
BEGIN:VEVENT
DTSTART;TZID=Europe/Warsaw:20220827T200000
DTEND;TZID=Europe/Warsaw:20220828T015900
DTSTAMP:20260420T184146
CREATED:20220824T062158Z
LAST-MODIFIED:20220824T062158Z
UID:4381-1661630400-1661651940@www.pokladykultury.eu
SUMMARY:Kino Plenerowe w Artystycznej
DESCRIPTION:Kawiarnia Artystyczna zaprasza na drugą edycję Kina Plenerowego w Artystycznej.\n \nPierwsza edycja Kina Plenerowego w Artystycznej bardzo się spodobała! Dlatego Kino powraca. Tym razem z jeszcze większym rozmachem! Większy ekran\, więcej miejsc siedzących i więcej dobrych wspomnień! \n \nJuż 27/08/2022 wpadajcie ze znajomymi przed Artystyczną na drugie kino plenerowe!\nCzekać na was będzie grill\, leżaki i mnóstwo dobrej zabawy!\n \nPlan wydarzenia:\n 18:00 – Grillowanie\n 21:00 – Shrek 2\n 22:45 – TED\n \nGdzie?\nZabrze\, ul. De Gaulle’a 17 
URL:https://www.pokladykultury.eu/event/kino-plenerowe-w-artystycznej-2/
LOCATION:Artystyczna Zabrze\, ul. gen de Gaulle'a 17\, Zabrze\, śląskie\, 41-800\, Poland
ATTACH;FMTTYPE=image/jpeg:https://www.pokladykultury.eu/wp-content/uploads/2022/08/Kino-plenerowe-27.08.jpg
END:VEVENT
END:VCALENDAR