BEGIN:VCALENDAR
VERSION:2.0
PRODID:-//Pokładykultury.eu - ECPv5.16.3.1//NONSGML v1.0//EN
CALSCALE:GREGORIAN
METHOD:PUBLISH
X-WR-CALNAME:Pokładykultury.eu
X-ORIGINAL-URL:https://www.pokladykultury.eu
X-WR-CALDESC:Wydarzenia dla Pokładykultury.eu
REFRESH-INTERVAL;VALUE=DURATION:PT1H
X-Robots-Tag:noindex
X-PUBLISHED-TTL:PT1H
BEGIN:VTIMEZONE
TZID:Europe/Warsaw
BEGIN:DAYLIGHT
TZOFFSETFROM:+0100
TZOFFSETTO:+0200
TZNAME:CEST
DTSTART:20220327T010000
END:DAYLIGHT
BEGIN:STANDARD
TZOFFSETFROM:+0200
TZOFFSETTO:+0100
TZNAME:CET
DTSTART:20221030T010000
END:STANDARD
END:VTIMEZONE
BEGIN:VEVENT
DTSTART;TZID=Europe/Warsaw:20220818T210000
DTEND;TZID=Europe/Warsaw:20220818T230000
DTSTAMP:20260420T170103
CREATED:20220817T072914Z
LAST-MODIFIED:20220817T072914Z
UID:4355-1660856400-1660863600@www.pokladykultury.eu
SUMMARY:Letnia Scena w Szybie Maciej
DESCRIPTION:Szyb Maciej zaprasza na koncert Krzysztofa Kaczora.\nKoncert odbędzie się w ramach cyklu bezpłatnych koncertów organizowanych co czwartek w Szybie Maciej.\n \nZapraszamy
URL:https://www.pokladykultury.eu/event/letnia-scena-w-szybie-maciej-2/
LOCATION:Szyb Maciej\, ul. Srebrna 6\, Zabrze\, śląskie\, 41-800\, Poland
ATTACH;FMTTYPE=image/jpeg:https://www.pokladykultury.eu/wp-content/uploads/2022/08/Letnia-scena_Krzysztof-Kaczor.jpg
END:VEVENT
END:VCALENDAR