BEGIN:VCALENDAR
VERSION:2.0
PRODID:-//Pokładykultury.eu - ECPv5.16.3.1//NONSGML v1.0//EN
CALSCALE:GREGORIAN
METHOD:PUBLISH
X-WR-CALNAME:Pokładykultury.eu
X-ORIGINAL-URL:https://www.pokladykultury.eu
X-WR-CALDESC:Wydarzenia dla Pokładykultury.eu
REFRESH-INTERVAL;VALUE=DURATION:PT1H
X-Robots-Tag:noindex
X-PUBLISHED-TTL:PT1H
BEGIN:VTIMEZONE
TZID:Europe/Warsaw
BEGIN:DAYLIGHT
TZOFFSETFROM:+0100
TZOFFSETTO:+0200
TZNAME:CEST
DTSTART:20220327T010000
END:DAYLIGHT
BEGIN:STANDARD
TZOFFSETFROM:+0200
TZOFFSETTO:+0100
TZNAME:CET
DTSTART:20221030T010000
END:STANDARD
END:VTIMEZONE
BEGIN:VEVENT
DTSTART;TZID=Europe/Warsaw:20220722T190000
DTEND;TZID=Europe/Warsaw:20220722T220000
DTSTAMP:20260421T091645
CREATED:20220704T082202Z
LAST-MODIFIED:20220704T082226Z
UID:4109-1658516400-1658527200@www.pokladykultury.eu
SUMMARY:ZABRZE SUMMER FESTIVAL 2022 - Michał Wiśniewski
DESCRIPTION:Zapraszamy na drugi letni koncert organizowany w ramach Zabrze Summer Festival. \n22 lipca na scenie wystąpi Michał Wiśniewski\, polski piosenkarz\, autor tekstów oraz prezenter telewizyjny i osobowość medialna. Z zespołem Ich Troje wypromował wiele przebojów\, m.in.: „A wszystko to… (bo ciebie kocham)!”\, „Powiedz”\, „Zawsze z Tobą chciałbym być…”\, „Keine Grenzen – Żadnych granic” czy „Babski świat”. Jest laureatem licznych wyróżnień\, w tym nagroda publiczności w konkursie „Premier” podczas 38. Krajowego Festiwalu Piosenki Polskiej w Opolu\, pięć Superjedynek\, nagroda publiczności i Grand Prix 24. Festiwalu Krajów Nadbałtyckich. Dwukrotnie reprezentował Polskę w Konkursie Piosenki Eurowizji (2003\, 2006).
URL:https://www.pokladykultury.eu/event/zabrze-summe-festival-2022-michal-wisniewski/
LOCATION:parking przy CH Platan\, Pl. Teatralny 12\, Zabrze\, śląskie\, 41-800\, Poland
ATTACH;FMTTYPE=image/png:https://www.pokladykultury.eu/wp-content/uploads/2022/07/ZSF-Wisniewski.png
END:VEVENT
END:VCALENDAR