BEGIN:VCALENDAR
VERSION:2.0
PRODID:-//Pokładykultury.eu - ECPv5.16.3.1//NONSGML v1.0//EN
CALSCALE:GREGORIAN
METHOD:PUBLISH
X-WR-CALNAME:Pokładykultury.eu
X-ORIGINAL-URL:https://www.pokladykultury.eu
X-WR-CALDESC:Wydarzenia dla Pokładykultury.eu
REFRESH-INTERVAL;VALUE=DURATION:PT1H
X-Robots-Tag:noindex
X-PUBLISHED-TTL:PT1H
BEGIN:VTIMEZONE
TZID:Europe/Warsaw
BEGIN:DAYLIGHT
TZOFFSETFROM:+0100
TZOFFSETTO:+0200
TZNAME:CEST
DTSTART:20220327T010000
END:DAYLIGHT
BEGIN:STANDARD
TZOFFSETFROM:+0200
TZOFFSETTO:+0100
TZNAME:CET
DTSTART:20221030T010000
END:STANDARD
END:VTIMEZONE
BEGIN:VEVENT
DTSTART;TZID=Europe/Warsaw:20220806T120000
DTEND;TZID=Europe/Warsaw:20220806T133000
DTSTAMP:20260421T010114
CREATED:20220704T072719Z
LAST-MODIFIED:20220704T072719Z
UID:4082-1659787200-1659792600@www.pokladykultury.eu
SUMMARY:Darmowe zajęcia jogi w Ogrodzie Botanicznym – VI edycja
DESCRIPTION:Po raz kolejny Synergia zaprasza do udziału w plenerowych zajęciach jogi. \nCykl jogi na trawie rozpoczął się 2 lipca 2022. Spotkania będą trwały przez całe wakacje. \nCotygodniowe zajęcia odbywać się będą na dużej łące pod wierzbą naprzeciw stawu\, w każdą sobotę\, aż do 27 sierpnia 2021 o godzinie 10.00. Zajęcia potrwają około 1\,5 godziny. \nWstęp na jogę jest darmowy\, bez ograniczeń miejsc\, natomiast wstęp do ogrodu płatny 2 zł. W razie niepogody zajęcia zostają odwołane. Zapraszamy! \nProsimy o zabranie własnych mat.
URL:https://www.pokladykultury.eu/event/darmowe-zajecia-jogi-w-ogrodzie-botanicznym-vi-edycja-6/
LOCATION:Miejski Ogród Botaniczny\, ul. Piłsudskiego 60\, Zabrze\, śląskie\, 41-800\, Poland
ATTACH;FMTTYPE=image/jpeg:https://www.pokladykultury.eu/wp-content/uploads/2022/07/Joga.jpg
END:VEVENT
BEGIN:VEVENT
DTSTART;TZID=Europe/Warsaw:20220806T170000
DTEND;TZID=Europe/Warsaw:20220806T200000
DTSTAMP:20260421T010114
CREATED:20220707T093227Z
LAST-MODIFIED:20220804T052456Z
UID:4138-1659805200-1659816000@www.pokladykultury.eu
SUMMARY:MotoStrefa: Pokaż Swego Sprzęta - NOWY TERMIN!
DESCRIPTION:Po raz kolejny w imieniu Stowarzyszenia Śmiercioodporni mamy ogromną przyjemność zaprosić na integrację zabrzańskiego środowiska motocyklowego! Impreza otwarta jest dla wszystkich miłośników jednośladów – bez względu na ich wiek\, pojemność silnika\, moc oddaną na koło czy wreszcie staż na jednośladzie! \nImpreza pierwotnie miała odbyć się już 30 lipca 2022 roku (sobota). Z powodu fatalnych warunków pogodowych została przełożona na 6 sierpnia 2022 roku\, start o godz. 14 na placu manewrowym MotoRat – Szkoła Jazdy i Ratownictwa Drogowego przy ul. Knurowskiej w Zabrzu (wjazd naprzeciwko salonu samochodowego). Tam zapraszamy do wspólnej integracji środowiska motocyklowego. \nImprezę rozpoczniemy od parady motocyklowej ulicami Zabrza\, aby zaprezentować wszystkim mieszkańcom\, że jesteśmy wśród nich i aby nie tylko uatrakcyjnić im dzień\, ale także przypomnieć\, że pojawiamy się na drogach i jako niechronieni uczestnicy ruchu drogowego musimy wzajemnie na siebie uważać.\nPo paradzie zapraszamy na wspólnego grilla\, wykoszone trawniki\, na których będzie można wygrzać w słońcu i odpocząć\, a także na punkty naszych partnerów! \nW ramach promocji bezpieczeństwa motocyklistów zaprosiliśmy do współorganizacji warsztat Rebel Moto\, który nieodpłatnie będzie sprawdzał najważniejsze punkty dotyczące bezpieczeństwa w wytypowanych motocyklach i wskazywał czym ewentualnie warto się zająć. \nNasz partner – firma Fuchs Oil Polska – przedstawi wykład o najważniejszych kwestiach dotyczących technik olejowych i smarnych w motocyklach. \nZabrzańska komenda Państwowej Straży Pożarnej zaprezentuje wóz bojowy\, co będzie bezwzględną atrakcją dla tych młodszych i tych starszych. \nWreszcie Stowarzyszenie Śmiercioodporni zaprezentuje pozorację wypadku motocyklowego\, aby zaprezentować w jaki sposób zabezpieczyć miejsce zdarzenia i jak pomóc w wypadku motocykliście. \nCo więcej\, proponujemy Wam konkurs na najciekawszy motocykl na imprezie! W ramach plebiscytu\, w którym sami będziecie głosować\, wybierzemy najfajniejszy jednoślad\, który będzie uczestniczył w imprezie! Dla zwycięzcy rzecz jasna przygotujemy drobny upominek! \nNie czekaj i już dziś rezerwuj sobie sobotnie popołudnie! \nSkąd nazwa MotoStrefa? W 2016 roku zorganizowaliśmy ogromną imprezę charytatywną na parkingu Centrum Handlowego M1 w Zabrzu i chcieliśmy pobić rekord Guinessa w liczbie jednocześnie palących gumę motocykli. Wtedy wszelkie plany skomplikowała pogoda\, bo obfite opady deszczu spowodowały\, że impreza musiała zostać częściowo odwołana. Ale teraz chcemy zreaktywować tę markę i w nowym\, jeszcze bliższym na wydaniu. \nSzczegółowy harmonogram:\n14.00 – rozpoczęcie imprezy\n14.45 – odprawa dla uczestników\, przekazanie instrukcji bezpieczeństwa i zachowania się w kolumnie pilotowanej przez przedstawicieli Wydziału Ruchu Drogowego\n15.00 – rozpoczęcie i wyjazd parady wyznaczoną trasą\n16.00 – powrót parady\n16.40 – pozoracja wypadku motocyklowego wraz z omówieniem\n17.00 – wykład o technikach olejowych w motocyklach – Fuchs Silkolene\n18.00 – wygaszanie imprezy\nOsoby do kontaktu:\nRafał Bryła – tel. 695 732 850\nPaweł Franzke – tel. 601 878 708 \n 
URL:https://www.pokladykultury.eu/event/motostrefa-pokaz-swego-sprzeta/
LOCATION:plac manewrowy MotoRat\, ul. Knurowska\, Zabrze\, śląskie\, 41-800\, Poland
ATTACH;FMTTYPE=image/png:https://www.pokladykultury.eu/wp-content/uploads/2022/07/MotoStrefa_PokazSwegoSprzeta2022_plakat_zmianadaty.png
END:VEVENT
BEGIN:VEVENT
DTSTART;TZID=Europe/Warsaw:20220807T120000
DTEND;TZID=Europe/Warsaw:20220807T190000
DTSTAMP:20260421T010114
CREATED:20220711T091121Z
LAST-MODIFIED:20220711T091121Z
UID:4141-1659873600-1659898800@www.pokladykultury.eu
SUMMARY:Wielki Dzień Pszczół
DESCRIPTION:Miejska Biblioteka Publiczna w Zabrzu oraz Miejski Ogród Botaniczny w Zabrzu zapraszają wszystkich latających\, bzyczących\, czytających\, zakochanych w kwiatach oraz plastrach miodu i nie tylko na kolejną edycję WIELKIEGO DNIA PSZCZÓŁ.\n \nWidzimy się w niedzielę\, 7 sierpnia. Będzie się działo!\n \nNa łące czekają nas bardzo ciekawe SPOTKANIA:\n• 11.00 Sekretne życie pszczół – prowadzenie Urszula Mazurowska\n• 12.00 Spotkanie autorskie z Pauliną Płatkowską autorką książki „O pszczole\, która myślała\, że to źle być pszczołą”\n• 13.00 Spotkanie z Kicią Kocią\n \nPrzez cały czas będzie czynna przychodnia pod wierzbami – w której nasze bibliotekarki będą zachęcały do czytania\n \nNa ochotników pełnych energii\, kreatywności\, palących się do prac czekają WARSZTATY:\n• rośliny miododajne\, co 30 min. spacer z edukatorką Zofią Kardaszewicz-Skotak\n• zdobienie toreb ekologicznych\, których motywem przewodnim będą pszczoły oraz miasto Zabrze\n• budowanie domków dla owadów – prowadzenie Ryszard Kosmęda\n• hop siup owada zrób – prowadzenie Piotr Grzegorzek\n• przyjaciele z kwietnej łąki – prowadzenie Anna Ośmiałowska\n• świeczki na kole – zakręć kołem -> znajdź zagadkę -> zrób świeczkę\n• robótki na paluszkach – dzianinowe owady\n• ogrody w malarstwie polskim – prowadzenie Piotr Grzegorzek\n• Trash-art. z elektrośmieci – Wydział Gospodarki Odpadami Komunalnymi UM Zabrze i Fundacja Odzyskaj Środowisko.\n \nNa miejscu coś dla siebie znajdą także miłośnicy miodu\, naturalnych kosmetyków oraz rękodzieła. Wydawnictwo Dwie Siostry przygotuje specjalną wystawę plenerową z ilustracjami z książki Piotra Sochy „Pszczoły”. Nie zabraknie również gier\, przypinek i linorytu. Dzięki EcoBombs będziemy rozdawać nasiona roślin miododajnych\, które można w łatwy sposób posadzić na parapecie w doniczce lub na ogródku!\n \nO 16.00 WIELKI FINAŁ – usłyszymy „Pszczółkę Maję” w wykonaniu Orkiestry Muzeum Górnictwa Węglowego w Zabrzu pod batutą Pana Henryka Mandrysza\, która rozpocznie koncert plenerowy.\n \nZachęcamy do śledzenia wydarzenia\, gdzie na bieżąco będziemy podawać szczegóły zaplanowanych atrakcji…\n \nWydarzenie organizowane jest w ramach projektów „Książka na szóstkę\, wypełniamy pustkę” oraz „Obecność słowa w Zabrzu” dofinansowanych ze środków Ministra Kultury i Dziedzictwa Narodowego pochodzących z Funduszu Promocji Kultury.
URL:https://www.pokladykultury.eu/event/wielki-dzien-pszczol/
LOCATION:Miejski Ogród Botaniczny\, ul. Piłsudskiego 60\, Zabrze\, śląskie\, 41-800\, Poland
ATTACH;FMTTYPE=image/jpeg:https://www.pokladykultury.eu/wp-content/uploads/2022/07/Dzien-Pszczol.jpg
END:VEVENT
BEGIN:VEVENT
DTSTART;TZID=Europe/Warsaw:20220813T120000
DTEND;TZID=Europe/Warsaw:20220813T133000
DTSTAMP:20260421T010114
CREATED:20220704T072837Z
LAST-MODIFIED:20220704T072837Z
UID:4084-1660392000-1660397400@www.pokladykultury.eu
SUMMARY:Darmowe zajęcia jogi w Ogrodzie Botanicznym – VI edycja
DESCRIPTION:Po raz kolejny Synergia zaprasza do udziału w plenerowych zajęciach jogi. \nCykl jogi na trawie rozpoczął się 2 lipca 2022. Spotkania będą trwały przez całe wakacje. \nCotygodniowe zajęcia odbywać się będą na dużej łące pod wierzbą naprzeciw stawu\, w każdą sobotę\, aż do 27 sierpnia 2021 o godzinie 10.00. Zajęcia potrwają około 1\,5 godziny. \nWstęp na jogę jest darmowy\, bez ograniczeń miejsc\, natomiast wstęp do ogrodu płatny 2 zł. W razie niepogody zajęcia zostają odwołane. Zapraszamy! \nProsimy o zabranie własnych mat.
URL:https://www.pokladykultury.eu/event/darmowe-zajecia-jogi-w-ogrodzie-botanicznym-vi-edycja-7/
LOCATION:Miejski Ogród Botaniczny\, ul. Piłsudskiego 60\, Zabrze\, śląskie\, 41-800\, Poland
ATTACH;FMTTYPE=image/jpeg:https://www.pokladykultury.eu/wp-content/uploads/2022/07/Joga.jpg
END:VEVENT
BEGIN:VEVENT
DTSTART;TZID=Europe/Warsaw:20220813T190000
DTEND;TZID=Europe/Warsaw:20220813T220000
DTSTAMP:20260421T010114
CREATED:20220704T082614Z
LAST-MODIFIED:20220704T082614Z
UID:4114-1660417200-1660428000@www.pokladykultury.eu
SUMMARY:ZABRZE SUMMER FESTIVAL 2022 – Kamil Bednarek
DESCRIPTION:Zapraszamy na kolejny koncert organizowany w ramach Zabrze Summer Festival. \n13 sierpnia w klimacie muzyki reggae zaśpiewa Kamil Bednarek\, finalista popularnego show TVN Mam talent! Jego debiutancki album studyjny pt. Szanuj\, który nagrał z zespołem Star Guard Muffin\, trafił na szczyt listy bestsellerów płytowych OLiS oraz zdobył status multiplatynowej. W 2012 roku zwyciężył w programie TVP2 Bitwa na głosy\, w którym objął funkcję przewodniczącego szesnastoosobowej grupy wokalistów z Brzegu. Jest autorem przebojów\, min. „Cisza” i „Chodź ucieknijmy…”\, i „Chwile jak te”.
URL:https://www.pokladykultury.eu/event/zabrze-summer-festival-2022-kamil-bednarek/
LOCATION:parking przy CH Platan\, Pl. Teatralny 12\, Zabrze\, śląskie\, 41-800\, Poland
ATTACH;FMTTYPE=image/png:https://www.pokladykultury.eu/wp-content/uploads/2022/07/ZSF-Bednarek.png
END:VEVENT
BEGIN:VEVENT
DTSTART;TZID=Europe/Warsaw:20220816T170000
DTEND;TZID=Europe/Warsaw:20220816T210000
DTSTAMP:20260421T010114
CREATED:20220816T110600Z
LAST-MODIFIED:20220816T110600Z
UID:4330-1660669200-1660683600@www.pokladykultury.eu
SUMMARY:Koniec lata w Zabrzu - Holi Święto Kolorów
DESCRIPTION:Wracamy w sezonie 2022 kolejny raz z dobrymi wiadomościami. W końcu imprezy Holi bez limitów covidowych. \n \nOficjalnie informujemy – Holi Święto Kolorów odbędzie się na Kąpielisku Leśnym już 28 sierpnia 2022 ! Pora zapisać sobie tę datę w kalendarzach  Ten dzień na pewno długo pozostanie w Waszych głowach !\n \n 𝙒𝙨𝙩𝙚̨𝙥 𝙣𝙖 𝙣𝙖𝙨𝙯𝙖̨ 𝙞𝙢𝙥𝙧𝙚𝙯𝙚̨ 𝙟𝙚𝙨𝙩 𝙙𝙖𝙧𝙢𝙤𝙬𝙮 \n \n𝙎𝙥𝙧𝙖𝙬𝙙𝙯́ 𝙘𝙤 𝙥𝙧𝙯𝙮𝙜𝙤𝙩𝙤𝙬𝙖𝙡𝙞𝙨́𝙢𝙮:\n Przygotowaliśmy dla Was aż 9 kolorów proszków\n Nasi DJe zagrają tak\, abyście nawet na moment nie przestali się bawić\n Kolorowa wata cukrowa\n Kolorowe okulary\n Bazooki CO2\n Strefa foodtruck\n \nDaj się ponieść kolorowemu szaleństwu! Przyjdź ze swoimi znajomymi i wspólnie pokolorujcie się nawzajem w rytm najlepszej muzyki granej przez naszych DJów! \n \n𝗖𝘇𝗮𝘀 𝗻𝗮 𝗽𝗼𝗱𝘀𝘂𝗺𝗼𝘄𝗮𝗻𝗶𝗲!\n 28 sierpnia 2022\n 15.00 – 19.00\n Kąpielisko Leśne\n bezpłatny wstęp \n \nUWAGA! Ze względów bezpieczeństwa na teren imprezy obowiązuje zakaz wnoszenia własnych proszków\n \nChcesz abyśmy odwiedzili Twoje miasto? Napisz do nas na fanpage.\n \nZobacz też film z zeszłego roku:\nhttps://www.facebook.com/HoliSwietoKolorow/videos/619290985215145/
URL:https://www.pokladykultury.eu/event/koniec-lata-w-zabrzu-holi-swieto-kolorow/
LOCATION:Kąpielisko Leśne\, ul. Srebrna 10\, Zabrze\, śląskie\, 41-800\, Poland
ATTACH;FMTTYPE=image/jpeg:https://www.pokladykultury.eu/wp-content/uploads/2022/08/Holi_sierpien.jpg
END:VEVENT
BEGIN:VEVENT
DTSTART;TZID=Europe/Warsaw:20220818T210000
DTEND;TZID=Europe/Warsaw:20220818T230000
DTSTAMP:20260421T010114
CREATED:20220817T072914Z
LAST-MODIFIED:20220817T072914Z
UID:4355-1660856400-1660863600@www.pokladykultury.eu
SUMMARY:Letnia Scena w Szybie Maciej
DESCRIPTION:Szyb Maciej zaprasza na koncert Krzysztofa Kaczora.\nKoncert odbędzie się w ramach cyklu bezpłatnych koncertów organizowanych co czwartek w Szybie Maciej.\n \nZapraszamy
URL:https://www.pokladykultury.eu/event/letnia-scena-w-szybie-maciej-2/
LOCATION:Szyb Maciej\, ul. Srebrna 6\, Zabrze\, śląskie\, 41-800\, Poland
ATTACH;FMTTYPE=image/jpeg:https://www.pokladykultury.eu/wp-content/uploads/2022/08/Letnia-scena_Krzysztof-Kaczor.jpg
END:VEVENT
BEGIN:VEVENT
DTSTART;TZID=Europe/Warsaw:20220820T213000
DTEND;TZID=Europe/Warsaw:20220820T233000
DTSTAMP:20260421T010114
CREATED:20220817T065730Z
LAST-MODIFIED:20220817T065730Z
UID:4351-1661031000-1661038200@www.pokladykultury.eu
SUMMARY:Carnall Festivall - koncert BOOGIE BOYS
DESCRIPTION:Muzyczne lato w zrewitalizowanej strefie Carnall trwa. W każdą sobotę lata najbardziej industrialna strefa w Polsce wypełnia się dźwiękami muzyki. \nJuż w najbliższą sobotę\, 20 sierpnia zapraszamy na koncert zespołu BOOGIE BOYS (blues i rock and roll). \nNa wszystkich spragnionych uczty muzycznej czeka też i strefa gastro. \n 
URL:https://www.pokladykultury.eu/event/carnall-festivall-koncert-boogie-boys/
LOCATION:Strefa Carnall\, Sztolnia Królowa Luiza\, ul. Wolności 408\, Zabrze\, śląskie\, 41-800\, Poland
ATTACH;FMTTYPE=image/png:https://www.pokladykultury.eu/wp-content/uploads/2022/08/8-20.08.2022-KRAKOW-BOOGIE-BOYS.png
END:VEVENT
BEGIN:VEVENT
DTSTART;TZID=Europe/Warsaw:20220827T120000
DTEND;TZID=Europe/Warsaw:20220827T133000
DTSTAMP:20260421T010114
CREATED:20220704T073150Z
LAST-MODIFIED:20220704T073150Z
UID:4088-1661601600-1661607000@www.pokladykultury.eu
SUMMARY:Darmowe zajęcia jogi w Ogrodzie Botanicznym – VI edycja
DESCRIPTION:Po raz kolejny Synergia zaprasza do udziału w plenerowych zajęciach jogi. \nCykl jogi na trawie rozpoczął się 2 lipca 2022. Spotkania będą trwały przez całe wakacje. \nCotygodniowe zajęcia odbywać się będą na dużej łące pod wierzbą naprzeciw stawu\, w każdą sobotę\, aż do 27 sierpnia 2021 o godzinie 10.00. Zajęcia potrwają około 1\,5 godziny. \nWstęp na jogę jest darmowy\, bez ograniczeń miejsc\, natomiast wstęp do ogrodu płatny 2 zł. W razie niepogody zajęcia zostają odwołane. Zapraszamy! \nProsimy o zabranie własnych mat.
URL:https://www.pokladykultury.eu/event/darmowe-zajecia-jogi-w-ogrodzie-botanicznym-vi-edycja-9/
LOCATION:Miejski Ogród Botaniczny\, ul. Piłsudskiego 60\, Zabrze\, śląskie\, 41-800\, Poland
ATTACH;FMTTYPE=image/jpeg:https://www.pokladykultury.eu/wp-content/uploads/2022/07/Joga.jpg
END:VEVENT
BEGIN:VEVENT
DTSTART;TZID=Europe/Warsaw:20220827T190000
DTEND;TZID=Europe/Warsaw:20220827T220000
DTSTAMP:20260421T010114
CREATED:20220704T083102Z
LAST-MODIFIED:20220704T083102Z
UID:4117-1661626800-1661637600@www.pokladykultury.eu
SUMMARY:ZABRZE SUMMER FESTIVAL 2022 – DJ Hazel i Bueno Clinic
DESCRIPTION:Finałowy koncert Zabrze Summer Festival połączony z zakończeniem wakacji odbędzie się 27 sierpnia\, a występy zostaną wzbogacone pokazami laserowymi. Gwiazdami wieczoru będą Dj Hazel i Bueno Clinic. \nPierwszy z nich to polski DJ i producent muzyczny. Wchodzi w skład Pioneer DJ’s Team – grupy osób prezentującej i testującej sprzęt tej renomowanej marki. W 2001 wystartował w Mistrzostwach Europy DJ-ów w Niemczech i zdobył tytuł Wicemistrza Europy. \nBueno Clinic to natomiast jeden z czołowych artystów w branży klubowej w Polsce znany z znakomitego kontaktu z publiką. Jako jedyny Polak ma na swoim koncie występy w Korei Południowej na największych festiwalach muzycznych jak World Electronica Carnival u boku takich gwiazd jak Benny Benassi\, Armand van Helden\, Far East Movement\, Yolanda Be Cool\, Cazzette oraz Electrodash Festival jako headliner imprezy w sercu Seulu. W 2015 roku singlem “I love sex with my ex” przy współpracy z duetem DNF & VNALOGIC zdobył najwyższe miejsce podium w notowaniu GORĄCA 20 w ESKA TV.
URL:https://www.pokladykultury.eu/event/zabrze-summer-festival-2022-dj-hazel-i-bueno-clinic/
LOCATION:parking przy CH Platan\, Pl. Teatralny 12\, Zabrze\, śląskie\, 41-800\, Poland
ATTACH;FMTTYPE=image/png:https://www.pokladykultury.eu/wp-content/uploads/2022/07/ZSF-DJ-Hazel.png
END:VEVENT
BEGIN:VEVENT
DTSTART;TZID=Europe/Warsaw:20220827T200000
DTEND;TZID=Europe/Warsaw:20220828T015900
DTSTAMP:20260421T010114
CREATED:20220824T062158Z
LAST-MODIFIED:20220824T062158Z
UID:4381-1661630400-1661651940@www.pokladykultury.eu
SUMMARY:Kino Plenerowe w Artystycznej
DESCRIPTION:Kawiarnia Artystyczna zaprasza na drugą edycję Kina Plenerowego w Artystycznej.\n \nPierwsza edycja Kina Plenerowego w Artystycznej bardzo się spodobała! Dlatego Kino powraca. Tym razem z jeszcze większym rozmachem! Większy ekran\, więcej miejsc siedzących i więcej dobrych wspomnień! \n \nJuż 27/08/2022 wpadajcie ze znajomymi przed Artystyczną na drugie kino plenerowe!\nCzekać na was będzie grill\, leżaki i mnóstwo dobrej zabawy!\n \nPlan wydarzenia:\n 18:00 – Grillowanie\n 21:00 – Shrek 2\n 22:45 – TED\n \nGdzie?\nZabrze\, ul. De Gaulle’a 17 
URL:https://www.pokladykultury.eu/event/kino-plenerowe-w-artystycznej-2/
LOCATION:Artystyczna Zabrze\, ul. gen de Gaulle'a 17\, Zabrze\, śląskie\, 41-800\, Poland
ATTACH;FMTTYPE=image/jpeg:https://www.pokladykultury.eu/wp-content/uploads/2022/08/Kino-plenerowe-27.08.jpg
END:VEVENT
END:VCALENDAR