BEGIN:VCALENDAR
VERSION:2.0
PRODID:-//Pokładykultury.eu - ECPv5.16.3.1//NONSGML v1.0//EN
CALSCALE:GREGORIAN
METHOD:PUBLISH
X-WR-CALNAME:Pokładykultury.eu
X-ORIGINAL-URL:https://www.pokladykultury.eu
X-WR-CALDESC:Wydarzenia dla Pokładykultury.eu
REFRESH-INTERVAL;VALUE=DURATION:PT1H
X-Robots-Tag:noindex
X-PUBLISHED-TTL:PT1H
BEGIN:VTIMEZONE
TZID:Europe/Warsaw
BEGIN:DAYLIGHT
TZOFFSETFROM:+0100
TZOFFSETTO:+0200
TZNAME:CEST
DTSTART:20220327T010000
END:DAYLIGHT
BEGIN:STANDARD
TZOFFSETFROM:+0200
TZOFFSETTO:+0100
TZNAME:CET
DTSTART:20221030T010000
END:STANDARD
END:VTIMEZONE
BEGIN:VEVENT
DTSTART;TZID=Europe/Warsaw:20220624T193000
DTEND;TZID=Europe/Warsaw:20220624T233000
DTSTAMP:20260421T035937
CREATED:20220623T063944Z
LAST-MODIFIED:20220623T063944Z
UID:3979-1656099000-1656113400@www.pokladykultury.eu
SUMMARY:Biski witają wakacje!
DESCRIPTION:Rada Dzielnicy Biskupice zaprasza na Biski witają wakacje!!!!!!!!!!!!!!!!!!!!!!\, małe co nieco przy dobrej muzyce na powitanie wakacji!
URL:https://www.pokladykultury.eu/event/biski-witaja-wakacje/
LOCATION:Bistro Prowincja\, ul. Kossaka 15 (wejście od ul. Rodakowskiego)\, Zabrze\, śląskie\, Poland
ATTACH;FMTTYPE=image/jpeg:https://www.pokladykultury.eu/wp-content/uploads/2022/06/Biski-witaja-wakacje.jpg
END:VEVENT
END:VCALENDAR