BEGIN:VCALENDAR
VERSION:2.0
PRODID:-//Pokładykultury.eu - ECPv5.16.3.1//NONSGML v1.0//EN
CALSCALE:GREGORIAN
METHOD:PUBLISH
X-WR-CALNAME:Pokładykultury.eu
X-ORIGINAL-URL:https://www.pokladykultury.eu
X-WR-CALDESC:Wydarzenia dla Pokładykultury.eu
REFRESH-INTERVAL;VALUE=DURATION:PT1H
X-Robots-Tag:noindex
X-PUBLISHED-TTL:PT1H
BEGIN:VTIMEZONE
TZID:Europe/Warsaw
BEGIN:DAYLIGHT
TZOFFSETFROM:+0100
TZOFFSETTO:+0200
TZNAME:CEST
DTSTART:20220327T010000
END:DAYLIGHT
BEGIN:STANDARD
TZOFFSETFROM:+0200
TZOFFSETTO:+0100
TZNAME:CET
DTSTART:20221030T010000
END:STANDARD
END:VTIMEZONE
BEGIN:VEVENT
DTSTART;TZID=Europe/Warsaw:20220424T180000
DTEND;TZID=Europe/Warsaw:20220424T193000
DTSTAMP:20260421T183318
CREATED:20220317T074419Z
LAST-MODIFIED:20220317T074419Z
UID:2928-1650823200-1650828600@www.pokladykultury.eu
SUMMARY:Operetka & Musical
DESCRIPTION:Kino Roma zaprasza wszystkich miłośników dobrej zabawy\, operetki oraz musicalu na wyjątkowe wydarzenie\, jakim jest koncert ‘’Operetka & Musical’’.\n \n\n\n\nPrzeniesiemy się\, choćby na ten jeden wieczór\, w bajkowy\, muzyczny świat\, jakim jest świat Operetki i Musicalu.\n\nWszystko zostanie podane na najwyższym poziomie oraz ujęte w niebanalną formę. Będzie wesoło\, nostalgicznie\, momentami romantycznie i na pewno zaskakująco. Proponujemy: sporą dawkę uśmiechu\, humoru oraz dobrej zabawy w cudownej atmosferze.\n\n \nWystąpią:\n\n Joanna Wojtaszewska (zabrzanka) – sopran\n AniJa Nija – sopran\n Kamil Roch Karolczuk – tenor\n Miko Król – tenor\n Kameraliści Zespołu Operetkowego\n\n\n \nCzas trwania: ok. 90 minut.\n\n\nBilety dostępne w kasie Kina Roma oraz na stronie kupbilecik https://www.kupbilecik.pl/…/Zabrze/Operetka+%26+Musical/
URL:https://www.pokladykultury.eu/event/operetka-musical/
LOCATION:Kino Roma\, ul. Z. Padlewskiego 4\, Zabrze\, śląskie\, 41-800\, Poland
ATTACH;FMTTYPE=image/jpeg:https://www.pokladykultury.eu/wp-content/uploads/2022/03/Musical.jpg
END:VEVENT
END:VCALENDAR