BEGIN:VCALENDAR
VERSION:2.0
PRODID:-//Pokładykultury.eu - ECPv5.16.3.1//NONSGML v1.0//EN
CALSCALE:GREGORIAN
METHOD:PUBLISH
X-WR-CALNAME:Pokładykultury.eu
X-ORIGINAL-URL:https://www.pokladykultury.eu
X-WR-CALDESC:Wydarzenia dla Pokładykultury.eu
REFRESH-INTERVAL;VALUE=DURATION:PT1H
X-Robots-Tag:noindex
X-PUBLISHED-TTL:PT1H
BEGIN:VTIMEZONE
TZID:Europe/Warsaw
BEGIN:DAYLIGHT
TZOFFSETFROM:+0100
TZOFFSETTO:+0200
TZNAME:CEST
DTSTART:20220327T010000
END:DAYLIGHT
BEGIN:STANDARD
TZOFFSETFROM:+0200
TZOFFSETTO:+0100
TZNAME:CET
DTSTART:20221030T010000
END:STANDARD
END:VTIMEZONE
BEGIN:VEVENT
DTSTART;TZID=Europe/Warsaw:20220210T190000
DTEND;TZID=Europe/Warsaw:20220210T220000
DTSTAMP:20260419T192054
CREATED:20220119T091755Z
LAST-MODIFIED:20220119T091755Z
UID:2412-1644519600-1644530400@www.pokladykultury.eu
SUMMARY:Poczytanie 73. Rokita Czyta "W poszukiwaniu Matki Drzew" Suzanne Simard
DESCRIPTION:Suzanne Simard dzieli się historią swego życia poświęconego tropieniu zaskakujących prawd o drzewach – o ich wzajemnej współpracy\, mądrości i zdolności świadomego odczuwania. Badaczka udowodniła\, że las porozumiewa się za pomocą podziemnej sieci grzybni\, a jej ośrodkami są potężne drzewa\, nazwane matkami. To one karmią spokrewnione ze sobą osobniki i podtrzymują życie całego lasu. Matka Drzew otacza opieką las – podobnie jak człowiek dba o swoją rodzinę i społeczność. Simard przekonuje\, że więzi – i te między ludźmi\, i te między drzewami – warunkują nasze przetrwanie. Przełomowe odkrycia autorki były początkowo lekceważone przez innych badaczy. Dziś stoją za nimi twarde naukowe dane.\n \nŻywy\, poruszający do głębi pamiętnikarski zapis życiowej misji Suzanne Simard\, która udowadnia\, że las to coś znacznie więcej niż zbiorowisko drzew. – NEW YORK TIMES\n \nPoruszająca relacja dotycząca jednego z najważniejszych współczesnych odkryć w dziedzinie ekologii. Badania autorki to istotny krok w kierunku uzdrowienia naszej planety. – Isabella Tree\, autorka Wilding i The Living Goddess\n \nSuzanne Simard po mistrzowsku łączy błyskotliwy wywód naukowy z pełną emocji narracją.- Patrick Barkham\, autor Wild Child\n \nźródło opisu: https://publicat.pl/…/w-poszukiwaniu-matki-drzew-dowody… 
URL:https://www.pokladykultury.eu/event/poczytanie-73-rokita-czyta-w-poszukiwaniu-matki-drzew-suzanne-simard/
LOCATION:śląskie
ATTACH;FMTTYPE=image/jpeg:https://www.pokladykultury.eu/wp-content/uploads/2022/01/W-poszukiwaniu-matki-drzew.jpg
END:VEVENT
END:VCALENDAR