BEGIN:VCALENDAR
VERSION:2.0
PRODID:-//Pokładykultury.eu - ECPv5.16.3.1//NONSGML v1.0//EN
CALSCALE:GREGORIAN
METHOD:PUBLISH
X-ORIGINAL-URL:https://www.pokladykultury.eu
X-WR-CALDESC:Wydarzenia dla Pokładykultury.eu
REFRESH-INTERVAL;VALUE=DURATION:PT1H
X-Robots-Tag:noindex
X-PUBLISHED-TTL:PT1H
BEGIN:VTIMEZONE
TZID:Europe/Warsaw
BEGIN:DAYLIGHT
TZOFFSETFROM:+0100
TZOFFSETTO:+0200
TZNAME:CEST
DTSTART:20210328T010000
END:DAYLIGHT
BEGIN:STANDARD
TZOFFSETFROM:+0200
TZOFFSETTO:+0100
TZNAME:CET
DTSTART:20211031T010000
END:STANDARD
END:VTIMEZONE
BEGIN:VEVENT
DTSTART;TZID=Europe/Warsaw:20211216T190000
DTEND;TZID=Europe/Warsaw:20211216T210000
DTSTAMP:20260420T090509
CREATED:20211108T100251Z
LAST-MODIFIED:20211108T100251Z
UID:1730-1639681200-1639688400@www.pokladykultury.eu
SUMMARY:Poczytanie 71. Rokita Czyta "Kajś" Zbigniewa Rokity
DESCRIPTION:Przez większość życia uważałem Ślązaków za jaskiniowców z kilofem i roladą. Swoją śląskość wypierałem. W podstawówce pani Chmiel grała nam na akordeonie Rotę\, a ja nie miałem pojęcia\, że ów plujący w twarz Niemiec z pieśni był moim przodkiem.\n\nO swoich korzeniach wiedziałem mało. Nie wierzyłem\, że na Śląsku przed wojną odbyła się jakakolwiek historia. Moi antenaci byli jakby z innej planety\, nosili jakieś niemożliwe imiona: Urban\, Reinhold\, Lieselotte.\n \nPóźniej była ta nazistowska burdelmama\, major z Kaukazu\, pradziadek na „delegacjach” w Polsce we wrześniu 1939\, nagrobek z zeskrobanym nazwiskiem przy kompoście. Coś pękało. Pojąłem\, że za płotem wydarzyła się alternatywna historia\, dzieje odwrócone na lewą stronę. Postanowiłem pokręcić się po okolicy\, spróbować złożyć to w całość. I czego tam nie znalazłem: blisko milion ludzi deklarujących „nieistniejącą” narodowość\, katastrofę ekologiczną nieznanych rozmiarów\, opowieści o polskiej kolonii\, o separatyzmach i ludzi kibicujących nie tej reprezentacji co trzeba. Oto nasza silezjogonia.\nZbigniew Rokita\n \nźródło: opis wydawcy. https://czarne.com.pl/katalog/ksiazki/kajs\n…\nksiażka-laureatka Nagrody Literackiej Nike w dwóch kategoriach:\n– wybór publiczności\n– wybór jury 
URL:https://www.pokladykultury.eu/event/poczytanie-71-rokita-czyta-kajs-zbigniewa-rokity/
LOCATION:RestoGym\, ul. Krakowska 48\, Zabrze\, śląskie\, 41-808\, Poland
ATTACH;FMTTYPE=image/jpeg:https://www.pokladykultury.eu/wp-content/uploads/2021/11/Kajs.jpg
END:VEVENT
END:VCALENDAR