BEGIN:VCALENDAR
VERSION:2.0
PRODID:-//Pokładykultury.eu - ECPv5.16.3.1//NONSGML v1.0//EN
CALSCALE:GREGORIAN
METHOD:PUBLISH
X-ORIGINAL-URL:https://www.pokladykultury.eu
X-WR-CALDESC:Wydarzenia dla Pokładykultury.eu
REFRESH-INTERVAL;VALUE=DURATION:PT1H
X-Robots-Tag:noindex
X-PUBLISHED-TTL:PT1H
BEGIN:VTIMEZONE
TZID:Europe/Warsaw
BEGIN:DAYLIGHT
TZOFFSETFROM:+0100
TZOFFSETTO:+0200
TZNAME:CEST
DTSTART:20220327T010000
END:DAYLIGHT
BEGIN:STANDARD
TZOFFSETFROM:+0200
TZOFFSETTO:+0100
TZNAME:CET
DTSTART:20221030T010000
END:STANDARD
END:VTIMEZONE
BEGIN:VEVENT
DTSTART;TZID=Europe/Warsaw:20220702T120000
DTEND;TZID=Europe/Warsaw:20220702T143000
DTSTAMP:20260421T033442
CREATED:20220628T050328Z
LAST-MODIFIED:20220628T050655Z
UID:4013-1656763200-1656772200@www.pokladykultury.eu
SUMMARY:Śladami Donnesmarcków
DESCRIPTION:Śladami Donnersmarców to wydarzenie organizowane w ramach obchodów pierwszego Święta Metropolii. \nPodczas wycieczki poznamy tajemnice miejsc\, związanych z rodem von Donnersmarck. \nRodzina von Donnersmarck – to jej zawdzięczamy kształt miasta Zabrze. Podczas wycieczki zobaczymy miejsca ściśle związane z tym przemysłowym rodem\, takie jak: Kasyno\, pozostałości po Hucie\, zaskakujący Stalowy Dom oraz osiedle Zandka. Czy znasz ich tajemnice? \nGodzina startu: 10:00 – 12:30 \nTrasa: ul. Powstańców – Teatr Nowy – tyły Huty Zabrze – Ratusz Miejski – dzielnica Zandka – Stalowy Dom – Cmentarz Żydowski – powrót przez ul. Wolności \nMiejsce startu: ul. Powstańców Śląskich 2/1 – Punkt Informacji  o Mieście \n  \nRezerwacja:  \nPunkt Informacji o Mieście w Zabrzu\nPowstańców Śląskich 2/1\n41-800 Zabrze\ne-mail: info@um.zabrze.pl\ntel. 32 37 33 520
URL:https://www.pokladykultury.eu/event/sladami-donnesmarckow/
LOCATION:Zabrze\, Zabrze\, śląskie\, 41-800\, Poland
ATTACH;FMTTYPE=image/webp:https://www.pokladykultury.eu/wp-content/uploads/2022/06/Slasami-donnersmarckow.webp
END:VEVENT
BEGIN:VEVENT
DTSTART;TZID=Europe/Warsaw:20220702T120000
DTEND;TZID=Europe/Warsaw:20220702T150000
DTSTAMP:20260421T033442
CREATED:20220628T051254Z
LAST-MODIFIED:20220628T051254Z
UID:4016-1656763200-1656774000@www.pokladykultury.eu
SUMMARY:Spacer architektoniczny po Zabrzu
DESCRIPTION:Spacer Architektoniczny po Zabrzu to wydarzenie organizowane w ramach obchodów pierwszego Święta Metropolii. \nCzy kiedykolwiek byliście na wycieczce w ZUS-ie? Jeśli nie\, to macie wspaniałą okazję\, żeby odbyć wycieczkę z historyczką i popularyzatorką architektury Anną Syską. \nPoprowadzi Was ona przez dzieje dwudziestowiecznej architektury Zabrza\, opowiadając o jej wybranych i ciekawych przykładach. Dowiecie się co wspólnego ma Zabrze ze Śląską szkołą architektury\, jak uczestnictwo kobiet w sporcie wpłynęło na wygląd budynków oraz w jaki sposób można było zaprojektować funkcjonalny dworzec. \nArchitektura XX wieku\, zwłaszcza ta powojenna\, nie należy do tematów\, których szlakami podąża statystyczny turysta. Spacer architektoniczny po Zabrzu będzie więc wyśmienitą okazją dla odważnych i ciekawskich podróżników po regionie\, aby dowiedzieli się równie interesujących rzeczy\, jakie mogą usłyszeć w zamkach i muzeach\, a niekiedy znacznie bardziej interesujących\, bo dotyczących czasów\, które pamiętają. \nGodzina startu: 10:00 – 13:00 \nTrasa: Dworzec kolejowy – Admiralspalast – Miejski Zakład Kąpielowy – Zakład Ubezpieczeń Społecznych – Policja – Centrum Edukacji – Dom Muzyki i Tańca – plac Traugutta – ul. Wolności \nMiejsce startu: Plac dworcowy\, obok wejścia do dworca kolejowego \n  \nRezerwacja: \nPunkt Informacji o Mieście w Zabrzu\nPowstańców Śląskich 2/1\n41-800 Zabrze\ne-mail: info@um.zabrze.pl\ntel. 32 37 33 520 
URL:https://www.pokladykultury.eu/event/spacer-architektoniczny-po-zabrzu/
LOCATION:Zabrze\, Zabrze\, śląskie\, 41-800\, Poland
ATTACH;FMTTYPE=image/webp:https://www.pokladykultury.eu/wp-content/uploads/2022/06/Spacer-architektoniczny.webp
END:VEVENT
BEGIN:VEVENT
DTSTART;TZID=Europe/Warsaw:20220702T153000
DTEND;TZID=Europe/Warsaw:20220702T173000
DTSTAMP:20260421T033442
CREATED:20220628T051855Z
LAST-MODIFIED:20220628T052902Z
UID:4022-1656775800-1656783000@www.pokladykultury.eu
SUMMARY:Legenda Górnika Zabrze – wycieczka po Arenie Zabrze
DESCRIPTION:Legenda Górnika Zabrze – wycieczka po Arenie Zabrze to wydarzenie organizowane w ramach obchodów pierwszego Święta Metropolii. \nPoznajcie historię najbardziej utytułowanego klubu piłkarskiego w Polsce! Poczujcie na własnej skórze moc dopingu najlepszych kibiców w Polsce! Dowiedzcie się jak wygląda Górnik Zabrze od kuchni! Wszystko pod okiem świetnych przewodników\, którzy wprowadzą was w tajemnice stadionu im Ernesta Pohla w Zabrzu… a może spotkacie kogoś podczas wycieczki?  \nChcesz poznać Stadion im. Ernesta Pohla? Chcesz zobaczyć miejsca niewidoczne w trakcie meczu? Chcesz wybiec na murawę jak nasza drużyna? Chcesz popatrzeć na trybuny oczami piłkarzy\, chcesz zobaczyć jak wygląda praca klubu? Chcesz wejść do loży Lukasa Podolskiego? Chcesz zobaczyć najważniejsze trofea polskiej piłki klubowej?  \nZapraszamy do zwiedzania Areny Zabrze! \nW planie m.in. \n\nwejście na płytę boiska\nprzejście tunelem\, gdzie  na mecz wychodzą Wasi idole\nzwiedzanie trybun stadionu\nprzejście przez strefę VIP i biznes\nodwiedzenie loży LP10\nstrefa biur pracowników Klubu\nsala pucharowa\n\n* zwiedzanie szatni uzależnione jest od harmonogramu Drużyny. \nMiejsce: ul. Roosevelta 81\, Zabrze \nGodzina startu: 13:30 – 15:30 \n  \nRezerwacja: \nPunkt Informacji o Mieście w Zabrzu\nPowstańców Śląskich 2/1\n41-800 Zabrze\ne-mail: info@um.zabrze.pl\ntel. 32 37 33 520  \n 
URL:https://www.pokladykultury.eu/event/legenda-gornika-zabrze-wycieczka-po-arenie-zabrze/
LOCATION:Promenada Arena Zabrze\, ul. Roosvelta 81\, Zabrze\, śląskie\, 41-800\, Poland
ATTACH;FMTTYPE=image/webp:https://www.pokladykultury.eu/wp-content/uploads/2022/06/Legenda-gornika.webp
END:VEVENT
BEGIN:VEVENT
DTSTART;TZID=Europe/Warsaw:20220702T170000
DTEND;TZID=Europe/Warsaw:20220702T200000
DTSTAMP:20260421T033442
CREATED:20220628T052418Z
LAST-MODIFIED:20220628T052418Z
UID:4025-1656781200-1656792000@www.pokladykultury.eu
SUMMARY:Foto Piknik na Trawie Żurawkowe Love
DESCRIPTION:Foto Piknik na Trawie Żurawkowe Love to wydarzenie organizowane w ramach obchodów pierwszego Święta Metropolii. \nWarsztaty fotograficzne połączone z edukacją botaniczną i oprowadzaniem po Narodowej Kolekcji Żurawek  z założycielką Kolekcji. \nUczestnicy wycieczki mogą poznać najstarszy na Górnym Śląsku ogród botaniczny (założony w 1938 r.)\, w którym znajduje się Narodowa Kolekcja Żurawek – bylin\, które stanowią dużą atrakcję dla działkowiczów i właścicieli przydomowych ogródków. Kolekcja aktualnie liczy ponad 340 odmian i gatunków ogrodowych i botanicznych Żurawek. Jest największym zbiorem tych roślin w Polsce a nawet w Europie. Na 400 m2 został utworzony malowniczy zakątek pełen barw\, ponieważ żurawki to rośliny ozdobne zarówno z liści jak i kwiatów – i w lipcu będą malowniczo rozkwitać. \n  \nMiejsce: Miejski Ogród Botaniczny w Zabrzu – ul. Piłsudskiego 60 \nGodzina startu: 15:00 \nRezerwacja: \nPunkt Informacji o Mieście w Zabrzu\nPowstańców Śląskich 2/1\n41-800 Zabrze\ne-mail: info@um.zabrze.pl\ntel. 32 37 33 520 
URL:https://www.pokladykultury.eu/event/foto-piknik-na-trawie-zurawkowe-love/
LOCATION:Miejski Ogród Botaniczny\, ul. Piłsudskiego 60\, Zabrze\, śląskie\, 41-800\, Poland
ATTACH;FMTTYPE=image/webp:https://www.pokladykultury.eu/wp-content/uploads/2022/06/Foto-piknik.webp
END:VEVENT
END:VCALENDAR