BEGIN:VCALENDAR
VERSION:2.0
PRODID:-//Pokładykultury.eu - ECPv5.16.3.1//NONSGML v1.0//EN
CALSCALE:GREGORIAN
METHOD:PUBLISH
X-WR-CALNAME:Pokładykultury.eu
X-ORIGINAL-URL:https://www.pokladykultury.eu
X-WR-CALDESC:Wydarzenia dla Pokładykultury.eu
REFRESH-INTERVAL;VALUE=DURATION:PT1H
X-Robots-Tag:noindex
X-PUBLISHED-TTL:PT1H
BEGIN:VTIMEZONE
TZID:Europe/Warsaw
BEGIN:DAYLIGHT
TZOFFSETFROM:+0100
TZOFFSETTO:+0200
TZNAME:CEST
DTSTART:20220327T010000
END:DAYLIGHT
BEGIN:STANDARD
TZOFFSETFROM:+0200
TZOFFSETTO:+0100
TZNAME:CET
DTSTART:20221030T010000
END:STANDARD
END:VTIMEZONE
BEGIN:VEVENT
DTSTART;TZID=Europe/Warsaw:20220326T120000
DTEND;TZID=Europe/Warsaw:20220326T160000
DTSTAMP:20260424T010453
CREATED:20220318T060954Z
LAST-MODIFIED:20220318T060954Z
UID:2942-1648296000-1648310400@www.pokladykultury.eu
SUMMARY:Kiermasz wydawnictw Muzeum Miejskiego
DESCRIPTION:Muzeum Miejskie w Zabrzu zaprasza na Kiermasz wydawnictw. \nNa kiermaszu będzie można zakupić wydawnictwa w promocyjnych cenach\, w tym m.in. najnowszy numer Kronik Miasta Zabrze.
URL:https://www.pokladykultury.eu/event/kiermasz-wydawnictw-muzeum-miejskiego/
LOCATION:Galeria Muzeum Miejskiego Café Silesia\, ul. 3 Maja 6\, Zabrze\, śląskie\, 41-800\, Poland
ATTACH;FMTTYPE=image/jpeg:https://www.pokladykultury.eu/wp-content/uploads/2022/03/plakat-Kiermasz_m.jpg
END:VEVENT
END:VCALENDAR