BEGIN:VCALENDAR
VERSION:2.0
PRODID:-//Pokładykultury.eu - ECPv5.16.3.1//NONSGML v1.0//EN
CALSCALE:GREGORIAN
METHOD:PUBLISH
X-WR-CALNAME:Pokładykultury.eu
X-ORIGINAL-URL:https://www.pokladykultury.eu
X-WR-CALDESC:Wydarzenia dla Pokładykultury.eu
REFRESH-INTERVAL;VALUE=DURATION:PT1H
X-Robots-Tag:noindex
X-PUBLISHED-TTL:PT1H
BEGIN:VTIMEZONE
TZID:Europe/Warsaw
BEGIN:DAYLIGHT
TZOFFSETFROM:+0100
TZOFFSETTO:+0200
TZNAME:CEST
DTSTART:20230326T010000
END:DAYLIGHT
BEGIN:STANDARD
TZOFFSETFROM:+0200
TZOFFSETTO:+0100
TZNAME:CET
DTSTART:20231029T010000
END:STANDARD
END:VTIMEZONE
BEGIN:VEVENT
DTSTART;TZID=Europe/Warsaw:20231108T180000
DTEND;TZID=Europe/Warsaw:20231108T200000
DTSTAMP:20260419T195126
CREATED:20231108T104340Z
LAST-MODIFIED:20231108T104340Z
UID:9080-1699466400-1699473600@www.pokladykultury.eu
SUMMARY:Wspólny stół. Przyjdź\, opowiedz historię jednego przedmiotu związanego z Twoim życiem w Rokitnicy
DESCRIPTION:Nasze życie na Rokicie\, czyli historia jednego przedmiotu. Tworzymy archiwum codzienności dzielnicy.\n \nCzy masz w domu przedmiot\, który wiąże się z historią Twojego życia\, albo życia Twojej rodziny? Pokaż go i opowiedz\, dlaczego jest dla Ciebie ważny. Jakie wartości kryje? Jakie wspomnienia wywołuje? Dlaczego jest wart zapamiętania?\nTego wieczoru usiądziemy przy jednym\, wspólnym stole\, by opowiedzieć sobie historie domowe – związane ze zdjęciami\, artefaktami\, bibelotami. Zbudujemy rokitnickie archiwum pamięci codziennej\, prywatnej. Poszukamy odpowiedzi na pytanie\, czy historia Rokitnicy\, ta czytana z perspektywy domu\, jest historią\, którą chcemy pielęgnować.\nA jeśli tak – zastanowimy się\, w jaki sposób możemy to robić\, by najlepiej rozwijać naszą lokalną tożsamość.\n\nWydarzenie wspierane przez program Spójnik\, realizowany w ramach starań Katowic i Górnośląsko-Zagłębiowskiej Metropolii o tytuł Europejskiej Stolicy Kultury 2029.\n \nProjekt realizują wspólnie: Miejska Biblioteka Publiczna w Zabrzu\, Stowarzyszenie Kartel Kulturalny\, Rokita Czyta oraz Rada Dzielnicy Rokitnica – Stowarzyszenie Rokita.
URL:https://www.pokladykultury.eu/event/wspolny-stol-przyjdz-opowiedz-historie-jednego-przedmiotu-zwiazanego-z-twoim-zyciem-w-rokitnicy/
LOCATION:MBP Filia nr 6\, ul. Krakowska 52\, Zabrze\, śląskie\, 41-800\, Poland
ATTACH;FMTTYPE=image/jpeg:https://www.pokladykultury.eu/wp-content/uploads/2023/11/Wspolny-stol.jpg
END:VEVENT
END:VCALENDAR