BEGIN:VCALENDAR
VERSION:2.0
PRODID:-//Pokładykultury.eu - ECPv5.16.3.1//NONSGML v1.0//EN
CALSCALE:GREGORIAN
METHOD:PUBLISH
X-WR-CALNAME:Pokładykultury.eu
X-ORIGINAL-URL:https://www.pokladykultury.eu
X-WR-CALDESC:Wydarzenia dla Pokładykultury.eu
REFRESH-INTERVAL;VALUE=DURATION:PT1H
X-Robots-Tag:noindex
X-PUBLISHED-TTL:PT1H
BEGIN:VTIMEZONE
TZID:Europe/Warsaw
BEGIN:DAYLIGHT
TZOFFSETFROM:+0100
TZOFFSETTO:+0200
TZNAME:CEST
DTSTART:20250330T010000
END:DAYLIGHT
BEGIN:STANDARD
TZOFFSETFROM:+0200
TZOFFSETTO:+0100
TZNAME:CET
DTSTART:20251026T010000
END:STANDARD
END:VTIMEZONE
BEGIN:VEVENT
DTSTART;TZID=Europe/Warsaw:20250905T100000
DTEND;TZID=Europe/Warsaw:20250905T190000
DTSTAMP:20260425T031632
CREATED:20250523T092616Z
LAST-MODIFIED:20250523T092616Z
UID:15155-1757066400-1757098800@www.pokladykultury.eu
SUMMARY:Wspólny fundament
DESCRIPTION:Miejski Ośrodek Kultury w Zabrzu zaprasza na finisaż wystawy grupowej pt. Wspólny fundament\, która prezentuje twórczość absolwentów Liceum Sztuk Plastycznych w Zabrzu. Ich artystyczna droga – choć kształtowana ponadjednostkowym doświadczeniem edukacji w tych samych murach – prowadzi w wielu różnorodnych kierunkach. \nPunktem wyjścia autorów prezentowanych prac były solidne fundamenty artystyczne i kulturowe\, które otrzymali podczas nauki – wiedza\, wrażliwość estetyczna oraz szacunek do tradycji sztuki. Te wartości stały się bazą\, z której każdy z uczniów wyruszył w swoją indywidualną podróż – bez narzuconych schematów\, z odwagą do poszukiwań i eksploracji. \nWystawa ta ukazuje nie tylko różnorodność postaw twórczych\, ale również siłę wspólnoty\, z której wyrosła. To celebracja indywidualności budowanej na wspólnym gruncie poprzez dialog pokoleń\, mediów i wizji artystycznych. \nWystawa czynna od 9 czerwca do 5 września 2025.\nWstęp wolny. \nOrganizator: Liceum Sztuk Plastycznych w Zabrzu\nWspółorganizator: Miejski Ośrodek Kultury w Zabrzu \nGaleria MOK\, Zabrze\, ul. 3 Maja 91a \nGodziny otwarcia Galerii MOK*:
URL:https://www.pokladykultury.eu/event/wspolny-fundament/
LOCATION:Galeria MOK\, ul. 3 Maja 91a\, Zabrze\, ślaskie\, 41-800\, Poland
ATTACH;FMTTYPE=image/png:https://www.pokladykultury.eu/wp-content/uploads/2025/05/Fundament_plakat_rgb_www.png
END:VEVENT
BEGIN:VEVENT
DTSTART;TZID=Europe/Warsaw:20250929T190000
DTEND;TZID=Europe/Warsaw:20250929T210000
DTSTAMP:20260425T031632
CREATED:20250910T050835Z
LAST-MODIFIED:20250910T050835Z
UID:16292-1759172400-1759179600@www.pokladykultury.eu
SUMMARY:"Gutenbergowi drukiem" – Linoryty Ryśka D.
DESCRIPTION:Zapraszamy do Filii nr 2 wystawę prac Ryszarda Dasiewicza\, która będzie dostępna do 30 września!\n \nRyszard Dasiewicz – gliwiczanin i absolwent Liceum Ogólnokształcącego – to artysta o niezwykłej wrażliwości i fenomenalnej pamięci. Jego pasje obejmują literaturę\, teatr i muzykę\, a sztuka stała się dla niego najskuteczniejszą terapią i sposobem na życie. Od 2002 roku rozwija swoje umiejętności w pracowni Aleksandra Smolińskiego w MDK Gliwice\, zgłębiając tajniki linorytu.\nMotywy jego prac obejmują tematy ludowe\, religijne\, martwą naturę oraz ornamenty geometryczne i roślinne. Każda praca zachwyca dojrzałą formą i niepowtarzalnym stylem. Ryszard jest również laureatem licznych konkursów plastycznych\, w tym głównej nagrody w konkursie „Jaka jest moja mama” oraz Grand Prix w XXIV Konkursie Plastycznym dla Twórców Nieprofesjonalnych.\n \n Miejsce: Filia nr 2 (Biskupice) przy ul. Bytomskiej 28 Finisaż: 29 września 2025\, godz. 17.00 
URL:https://www.pokladykultury.eu/event/gutenbergowi-drukiem-linoryty-ryska-d/
LOCATION:MBP Filia nr 2\, ul. Bytomska 28\, Zabrze\, śląskie\, 41-800\, Poland
ATTACH;FMTTYPE=image/jpeg:https://www.pokladykultury.eu/wp-content/uploads/2025/09/Gutenbergowi.jpg
END:VEVENT
END:VCALENDAR