BEGIN:VCALENDAR
VERSION:2.0
PRODID:-//Pokładykultury.eu - ECPv5.16.3.1//NONSGML v1.0//EN
CALSCALE:GREGORIAN
METHOD:PUBLISH
X-ORIGINAL-URL:https://www.pokladykultury.eu
X-WR-CALDESC:Wydarzenia dla Pokładykultury.eu
REFRESH-INTERVAL;VALUE=DURATION:PT1H
X-Robots-Tag:noindex
X-PUBLISHED-TTL:PT1H
BEGIN:VTIMEZONE
TZID:Europe/Warsaw
BEGIN:DAYLIGHT
TZOFFSETFROM:+0100
TZOFFSETTO:+0200
TZNAME:CEST
DTSTART:20260329T010000
END:DAYLIGHT
BEGIN:STANDARD
TZOFFSETFROM:+0200
TZOFFSETTO:+0100
TZNAME:CET
DTSTART:20261025T010000
END:STANDARD
END:VTIMEZONE
BEGIN:VEVENT
DTSTART;TZID=Europe/Warsaw:20260430T160000
DTEND;TZID=Europe/Warsaw:20260430T230000
DTSTAMP:20260424T170216
CREATED:20260421T111601Z
LAST-MODIFIED:20260421T111601Z
UID:19024-1777564800-1777590000@www.pokladykultury.eu
SUMMARY:Misja E8
DESCRIPTION:Przed ósmoklasistami jedno z pierwszych poważnych wyzwań edukacyjnych – egzamin\, który otwiera kolejne drzwi. Dlatego Miasto Zabrze wraz z Partnerami przygotowało wyjątkowe wydarzenie\, które pomoże uporządkować wiedzę\, nabrać pewności siebie i podejść do testów ze spokojem. \nPodczas spotkania uczestnicy wezmą udział w intensywnych\, ale przystępnych powtórkach z języka polskiego\, matematyki i języka angielskiego\, prowadzonych przez nauczycieli z dużym doświadczeniem egzaminacyjnym. Nie zabraknie też czasu na chwilę oddechu i uzupełnienie energii. \nNa zakończenie  – coś\, co pozwoli rozładować stres i po prostu dobrze się bawić: wspólne grillowanie w plenerze. \n30 kwietnia\, godz. 16:00\nScena Kameralna Teatru Nowego w Zabrzu\, Park Hutniczy \nUdział jest bezpłatny\, a liczba miejsc ograniczona – zapisy prowadzone są w szkołach. \nTo idealna okazja\, by dobrze przygotować się do egzaminów i jednocześnie spędzić czas w świetnej atmosferze!
URL:https://www.pokladykultury.eu/event/misja-e8/
LOCATION:Scena Kameralna\, Park Hutniczy 11\, Zabrze\, śląskie\, 41-800\, Poland
ATTACH;FMTTYPE=image/png:https://www.pokladykultury.eu/wp-content/uploads/2026/04/MisjaE8-1-1086x1536-1.png
END:VEVENT
END:VCALENDAR