BEGIN:VCALENDAR
VERSION:2.0
PRODID:-//Pokładykultury.eu - ECPv5.16.3.1//NONSGML v1.0//EN
CALSCALE:GREGORIAN
METHOD:PUBLISH
X-ORIGINAL-URL:https://www.pokladykultury.eu
X-WR-CALDESC:Wydarzenia dla Pokładykultury.eu
REFRESH-INTERVAL;VALUE=DURATION:PT1H
X-Robots-Tag:noindex
X-PUBLISHED-TTL:PT1H
BEGIN:VTIMEZONE
TZID:Europe/Warsaw
BEGIN:DAYLIGHT
TZOFFSETFROM:+0100
TZOFFSETTO:+0200
TZNAME:CEST
DTSTART:20230326T010000
END:DAYLIGHT
BEGIN:STANDARD
TZOFFSETFROM:+0200
TZOFFSETTO:+0100
TZNAME:CET
DTSTART:20231029T010000
END:STANDARD
END:VTIMEZONE
BEGIN:VEVENT
DTSTART;VALUE=DATE:20231119
DTEND;VALUE=DATE:20231121
DTSTAMP:20260419T232351
CREATED:20231110T072411Z
LAST-MODIFIED:20231110T072411Z
UID:9124-1700355600-1700441999@www.pokladykultury.eu
SUMMARY:Mistrzostwa Zabrza w Pływaniu
DESCRIPTION:Aktywne Zabrze serdecznie zaprasza na Mistrzostwa Zabrza w Pływaniu o Puchar Prezydenta Miasta Zabrze.\n\n\nZawody odbędą się w niedzielę\, 19 listopada 2023 r. w Zabrzańskim Kompleksie Rekreacji Aquarius Kopernik.\n \n\nZapisy do zawodów przyjmowane są tylko poprzez formularz elektroniczny do 16.11.2023 21:00.\nOpłatę w wysokości 40 zł (dorośli)\, 30 zł (dzieci i młodzież) należy uiścić przelewem na konto: 89 1140 2004 0000 3902 8152 1517 do 18.11.2023 z tytułem ‘Zawody Pływackie oraz imię i nazwisko’. \nBrak wpłaty na konto skutkuje pobraniem opłaty na miejscu w wysokości 50 zł. \nPrzy wpłacie na konto należy okazać dowód wpłaty w biurze zawodów podczas weryfikacji przed zawodami. \nWięcej informacji znajdziesz TUTAJ.
URL:https://www.pokladykultury.eu/event/mistrzostwa-zabrza-w-plywaniu/
LOCATION:Zabrzański Kompleks Rekreacji „Aquarius Kopernik”\, Al. Wojciecha Korfantego 18\, Zabrze\, śląskie\, 41-800\, Poland
ATTACH;FMTTYPE=image/jpeg:https://www.pokladykultury.eu/wp-content/uploads/2023/11/Mistrzostwa-Zabrza-w-plywaniu.jpg
END:VEVENT
BEGIN:VEVENT
DTSTART;TZID=Europe/Warsaw:20231120T190000
DTEND;TZID=Europe/Warsaw:20231120T210000
DTSTAMP:20260419T232351
CREATED:20231114T071741Z
LAST-MODIFIED:20231114T071741Z
UID:9161-1700506800-1700514000@www.pokladykultury.eu
SUMMARY:Ahmed - Teatr Nieoetykietkowani zaprasza
DESCRIPTION:Teatr Nieoetykietkowani zaprasza na spektakl „Ahmed”\, który na X OGÓLNOPOLSKIM FESTIWALU TEATRALNYM „KARBIDKA 2022” zdobył III NAGRODĘ.\n \nNatomiast już 24 listopada 2024 w ramach 49 Tyskich Spotkań Teatralnych będziemy spektakl prezentować w nurcie konkursowym!\n \nscenariusz – Anna Mleczko\nreżyseria – Małgorzata Baryła\nruch sceniczny – praca zespołowa\nkostiumy – praca zespołowa\nmuzyka – wybór zespołu\nprojekt plakatu – Maria Rorot\nzdjęcia promocyjne – Marek Jusczyk\nobsługa techniczna –\n– Żaneta Garus\n– Małgorzata Baryła\nwystępują :\nAhmed – Piotr Orzechowski\nJadźka – Magdalena Baron/ Amelia Konieczka\nBogdan – Arkadiusz Nadarzewski / Miłosz Kaleta\nEwa – Maria Rorot/ Olga Norin Karmasz\nAdaś – Aleksandra Grela / Mateusz Wicher\nBabcia – Emilia Gola/ Wiktoria Frąckowiak\n \n“Żeby mi córka za obcego…! U nas wszystko lepsze\, chłopaki też lepsze…”\n„Kluski. Czy to czy On je lubi sprawia\, że jest bardziej nasz? Czy zakochanie w parku prowadzi do miłości większej niż tej\, której pierwsze rozmowy niósł światłowód? Czy dziesięć\, trzydzieści\, pięćdziesiąt lat tworzy przepaści\, nad którymi mostu już nie da się wybudować? Ahmed to opowieść o rodzinie\, miłości\, braku zrozumienia i jego poszukiwaniu\, różnicach\, które nas dzielą i próbie ich pokonania. A to wszystko jak niedzielny obiad z kompotem wzruszenia\, roladą humoru i kluskami okraszonymi zastanowieniem „\n \nZapraszamy na spektakl 
URL:https://www.pokladykultury.eu/event/ahmed-teatr-nieoetykietkowani-zaprasza/
LOCATION:Scena Kameralna\, Park Hutniczy 11\, Zabrze\, śląskie\, 41-800\, Poland
ATTACH;FMTTYPE=image/jpeg:https://www.pokladykultury.eu/wp-content/uploads/2023/11/Ahmed.jpg
END:VEVENT
END:VCALENDAR