BEGIN:VCALENDAR
VERSION:2.0
PRODID:-//Pokładykultury.eu - ECPv5.16.3.1//NONSGML v1.0//EN
CALSCALE:GREGORIAN
METHOD:PUBLISH
X-WR-CALNAME:Pokładykultury.eu
X-ORIGINAL-URL:https://www.pokladykultury.eu
X-WR-CALDESC:Wydarzenia dla Pokładykultury.eu
REFRESH-INTERVAL;VALUE=DURATION:PT1H
X-Robots-Tag:noindex
X-PUBLISHED-TTL:PT1H
BEGIN:VTIMEZONE
TZID:Europe/Warsaw
BEGIN:DAYLIGHT
TZOFFSETFROM:+0100
TZOFFSETTO:+0200
TZNAME:CEST
DTSTART:20230326T010000
END:DAYLIGHT
BEGIN:STANDARD
TZOFFSETFROM:+0200
TZOFFSETTO:+0100
TZNAME:CET
DTSTART:20231029T010000
END:STANDARD
END:VTIMEZONE
BEGIN:VEVENT
DTSTART;TZID=Europe/Warsaw:20231110T150000
DTEND;TZID=Europe/Warsaw:20231111T180000
DTSTAMP:20260419T232211
CREATED:20231108T114516Z
LAST-MODIFIED:20231108T114516Z
UID:9089-1699628400-1699725600@www.pokladykultury.eu
SUMMARY:Piłkarski Turniej Niepodległości
DESCRIPTION:Już w piątek\, 10 listopada\, rozpocznie się IV edycja 24-godzinnego Piłkarskiego Turnieju Niepodległości. \nW tym roku około 60 drużyn piłkarskich\, w różnych kategoriach wiekowych\, zmierzy się w hali MOSiR Zabrze. \nRozgrywki startują o godzinie 14.00 i potrwają do soboty\, 11 listopada\, do godziny 17.00.
URL:https://www.pokladykultury.eu/event/pilkarski-turniej-niepodleglosci/
LOCATION:Miejski Ośrodek Sportu i Rekreacji\, ul. Matejki 6\, Zabrze\, śląskie\, 41-800\, Poland
ATTACH;FMTTYPE=image/jpeg:https://www.pokladykultury.eu/wp-content/uploads/2023/11/Turniej-pilkarski-14.jpg
END:VEVENT
BEGIN:VEVENT
DTSTART;TZID=Europe/Warsaw:20231110T190000
DTEND;TZID=Europe/Warsaw:20231110T210000
DTSTAMP:20260419T232211
CREATED:20231106T111442Z
LAST-MODIFIED:20231106T111442Z
UID:9013-1699642800-1699650000@www.pokladykultury.eu
SUMMARY:Gdzie są kwiaty z tamtych lat
DESCRIPTION:Drodzy Melomani!      \n  \nFilharmonia Zabrzańska serdecznie zaprasza na koncert muzyki polskiej pn. „Gdzie są kwiaty z tamtych lat” organizowany z okazji Narodowego Święta Niepodległości. \nOdbędzie się on w najbliższy piątek\, 10 listopada br. o godz. 18.00 w naszej Sali koncertowej przy ulicy Park Hutniczy 7. \nSolistami wieczoru będą śpiewacy – Anita Maszczyk i Tomasz Furman. Orkiestrę poprowadzi Leopold Stawarz. Koncert słowem opatrzą Martyna Serwińska oraz Tomasz Krasuski – uczniowie III LO w Zabrzu. \n  \nKoncert wypełnią piosenki żołnierskie i patriotyczne\, także polska muzyka filmowa. \n 
URL:https://www.pokladykultury.eu/event/gdzie-sa-kwiaty-z-tamtych-lat/
LOCATION:Filharmonia Zabrzańska\, Park Hutniczy 7\, Zabrze\, śląskie\, 41-800\, Poland
ATTACH;FMTTYPE=image/jpeg:https://www.pokladykultury.eu/wp-content/uploads/2021/07/Filharmonia.jpg
END:VEVENT
BEGIN:VEVENT
DTSTART;TZID=Europe/Warsaw:20231110T220000
DTEND;TZID=Europe/Warsaw:20231110T230000
DTSTAMP:20260419T232211
CREATED:20230904T071653Z
LAST-MODIFIED:20230904T071653Z
UID:8422-1699653600-1699657200@www.pokladykultury.eu
SUMMARY:II termin Olka Szcześniak "Skąpiec poznawczy"
DESCRIPTION:II Termin w Zabrzu!!\nTrasa z okazji dziesięciolecia na scenie stand-upowej Olki Szcześniak. Olka wystąpi z programem „Skąpiec poznawczy” w miejscach\, o których do niedawna mogła tylko pomarzyć.\n \nWłożyła w ten materiał sporo pracy i serca (mrocznego\, ale zawsze). Już nie może się doczekać\, aż go opowiem! Wraz z nią na scenie pojawi się też support.\n \nKażdy z nas nosi w sobie ‘’skąpca poznawczego”. Upraszczamy rzeczywistość\, posługując się schematami i stereotypami\, żeby zaoszczędzić sobie czasu i energii. W wielu przypadkach skąpiec się przydaje\, czasem jednak wprowadza w błąd i działa na naszą niekorzyść.\n18:00 – https://www.kupbilecik.pl/imprezy/91782/Zabrze/Olka+Szczęśniak/\n21:00 – https://www.kupbilecik.pl/imprezy/91783/Zabrze/Olka+Szczęśniak/\n \n* Występ tylko dla widzów pełnoletnich.\n* Prosimy o wyciszenie telefonów na czas występu.\n* Nagrywanie występu w formie audio i video jest zabronione.\n* Bilet nie daje prawa do przeszkadzania występującym.\n* Ze względu na komfort widowni : Organizator zastrzega sobie prawo do wyproszenia osoby zakłócającej przebieg wydarzenia\, bez możliwości zwrotu za bilety.\n* Kupując bilet akceptujesz powyższe warunki.\n* Występ może być rejestrowany przez organizatora. Zakup biletu równoważny jest ze zgodą na upublicznienie swojego wizerunku.
URL:https://www.pokladykultury.eu/event/ii-termin-olka-szczesniak-skapiec-poznawczy/
LOCATION:Dom Muzyki i Tańca w Zabrzu\, ul. Gen. de Gaulle'a 17\, Zabrze\, śląskie\, 41-800\, Poland
ATTACH;FMTTYPE=image/jpeg:https://www.pokladykultury.eu/wp-content/uploads/2023/09/Olka-Szczesniak.jpg
END:VEVENT
END:VCALENDAR