BEGIN:VCALENDAR
VERSION:2.0
PRODID:-//Pokładykultury.eu - ECPv5.16.3.1//NONSGML v1.0//EN
CALSCALE:GREGORIAN
METHOD:PUBLISH
X-ORIGINAL-URL:https://www.pokladykultury.eu
X-WR-CALDESC:Wydarzenia dla Pokładykultury.eu
REFRESH-INTERVAL;VALUE=DURATION:PT1H
X-Robots-Tag:noindex
X-PUBLISHED-TTL:PT1H
BEGIN:VTIMEZONE
TZID:Europe/Warsaw
BEGIN:DAYLIGHT
TZOFFSETFROM:+0100
TZOFFSETTO:+0200
TZNAME:CEST
DTSTART:20230326T010000
END:DAYLIGHT
BEGIN:STANDARD
TZOFFSETFROM:+0200
TZOFFSETTO:+0100
TZNAME:CET
DTSTART:20231029T010000
END:STANDARD
END:VTIMEZONE
BEGIN:VEVENT
DTSTART;TZID=Europe/Warsaw:20231011T140000
DTEND;TZID=Europe/Warsaw:20231011T170000
DTSTAMP:20260420T071158
CREATED:20230929T073535Z
LAST-MODIFIED:20230929T073535Z
UID:8713-1697032800-1697043600@www.pokladykultury.eu
SUMMARY:Kawa i książka
DESCRIPTION:Miejska Biblioteka Publiczna w Zabrzu zaprasza drogie Seniorki i drogich Seniorów na przyjacielskie pogaduchy o książkach\, pasjach\, życiu. Zachęca do współtworzenia przyjaznej dla seniorów przestrzeni\, gdzie mogą wspólnie spędzać czas. 
URL:https://www.pokladykultury.eu/event/kawa-i-ksiazka/
LOCATION:MBP Filia nr 11\, ul. Wolności 177\, Zabrze\, śląskie\, 41-800\, Poland
ATTACH;FMTTYPE=image/jpeg:https://www.pokladykultury.eu/wp-content/uploads/2023/09/Kawa-i-ksiazka.jpg
END:VEVENT
BEGIN:VEVENT
DTSTART;TZID=Europe/Warsaw:20231011T210000
DTEND;TZID=Europe/Warsaw:20231011T223000
DTSTAMP:20260420T071158
CREATED:20230808T041521Z
LAST-MODIFIED:20230808T041521Z
UID:8223-1697058000-1697063400@www.pokladykultury.eu
SUMMARY:DANIEL MIDAS – Pokaz Magi* stand-up comedy + support
DESCRIPTION:Zapraszamy do Miejskiego Ośrodka Kultury w Zabrzu na występ Daniela Midasa\, który zaprezentuje nowy program – POKAZ MAGI. \nDaniel Midas – odkrycie roku 2022. Komik\, którego „Szopkę dla reportera” oglądają już chyba wszyscy. Jego internetową twórczość możecie sprawdzić na wszystkich popularnych portalach społecznościowych i przekonać się\, że tak szybko nie rozbawił Was jeszcze nikt. \nPrywatnie – bardzo pozytywny i zawsze uśmiechnięty chłopak. Gość ma dwa metry wzrostu\, więc jak go poprosicie\, to pewnie zdejmie Wam coś z górnej półki. \n* zabieg z błędem celowy \n  \nCzas trwania: ok. 1\,5 h (bez przerwy) \nBilety w cenie 79 zł/os. dostępne w serwisie KupBilecik. \n \nMiejski Ośrodek Kultury\nZabrze\, ul. 3 Maja 91a \n* Nie drukuj biletu\, bądź EKO! Wystarczy\, jak pokażesz bilet w telefonie. \n* Nagrywanie występu jest zabronione.  \n* Osoby przeszkadzające podczas występu będą wypraszane z sali\, bez możliwości ubiegania się o zwrot pieniędzy za zakupiony bilet. \n* Występ przeznaczony jest dla osób dorosłych. \n  \nOrganizator: Eduapps Group sp. z o.o.\, Beata Cieślowska – tel. 602 523 689
URL:https://www.pokladykultury.eu/event/daniel-midas-pokaz-magi-stand-up-comedy-support/
LOCATION:Miejski Ośrodek Kultury w Zabrzu\, ul. 3 Maja 91a\, Zabrze\, śląskie\, 41-800\, Poland
ATTACH;FMTTYPE=image/jpeg:https://www.pokladykultury.eu/wp-content/uploads/2023/08/Stand-up_Daniel-Midas_Pokaz-Magi_baner_rgb-scaled.jpg
END:VEVENT
END:VCALENDAR