BEGIN:VCALENDAR
VERSION:2.0
PRODID:-//Pokładykultury.eu - ECPv5.16.3.1//NONSGML v1.0//EN
CALSCALE:GREGORIAN
METHOD:PUBLISH
X-WR-CALNAME:Pokładykultury.eu
X-ORIGINAL-URL:https://www.pokladykultury.eu
X-WR-CALDESC:Wydarzenia dla Pokładykultury.eu
REFRESH-INTERVAL;VALUE=DURATION:PT1H
X-Robots-Tag:noindex
X-PUBLISHED-TTL:PT1H
BEGIN:VTIMEZONE
TZID:Europe/Warsaw
BEGIN:DAYLIGHT
TZOFFSETFROM:+0100
TZOFFSETTO:+0200
TZNAME:CEST
DTSTART:20230326T010000
END:DAYLIGHT
BEGIN:STANDARD
TZOFFSETFROM:+0200
TZOFFSETTO:+0100
TZNAME:CET
DTSTART:20231029T010000
END:STANDARD
END:VTIMEZONE
BEGIN:VEVENT
DTSTART;TZID=Europe/Warsaw:20231007T100000
DTEND;TZID=Europe/Warsaw:20231007T190000
DTSTAMP:20260421T005130
CREATED:20231003T090707Z
LAST-MODIFIED:20231003T090707Z
UID:8743-1696672800-1696705200@www.pokladykultury.eu
SUMMARY:Noc Naukowców Politechniki Śląskiej
DESCRIPTION:Noc Naukowców Politechniki Śląskiej już w sobotę\, 7 października! W tym roku odbywa się pod hasłem „Nauka bez granic”. Przygotowanych zostało ponad 170 aktywności z 20 różnych obszarów nauki. Będzie się działo!\n\n\n \nSprawdźcie program wydarzenia: https://nocnaukowcow.com.pl/skomponuj-swoja-noc/ i „skomponujcie swoją Noc”! Są jeszcze wolne miejsca na wybranych warsztatach  Rejestracji możecie dokonać poprzez system dostępny przez stronę https://nocnaukowcow.com.pl/.\n \n\n\nPamiętajcie także o uzyskaniu bezpłatnej wejściówki\, która uprawnia Was do wejścia na wydarzenie oraz udziału w pokazach\, wykładach i stoiskach.
URL:https://www.pokladykultury.eu/event/noc-naukowcow-politechniki-slaskiej/
LOCATION:śląskie
ATTACH;FMTTYPE=image/jpeg:https://www.pokladykultury.eu/wp-content/uploads/2023/10/Noc-naukowcow.jpg
END:VEVENT
BEGIN:VEVENT
DTSTART;TZID=Europe/Warsaw:20231007T120000
DTEND;TZID=Europe/Warsaw:20231007T170000
DTSTAMP:20260421T005130
CREATED:20230913T045208Z
LAST-MODIFIED:20230913T045208Z
UID:8548-1696680000-1696698000@www.pokladykultury.eu
SUMMARY:Alterhist 2023 - Literackie spotkania z pisarzami
DESCRIPTION:Szczegóły wkrótce.
URL:https://www.pokladykultury.eu/event/alterhist-2023-literackie-spotkania-z-pisarzami/
LOCATION:Łaźnia Łańcuszkowa\, Sztolnia Królowa Luiza\, ul. Wolności 410\, Zabrze\, śląskie\, 41-800\, Poland
ATTACH;FMTTYPE=image/jpeg:https://www.pokladykultury.eu/wp-content/uploads/2023/09/Alterhist.jpg
END:VEVENT
BEGIN:VEVENT
DTSTART;TZID=Europe/Warsaw:20231007T140000
DTEND;TZID=Europe/Warsaw:20231007T190000
DTSTAMP:20260421T005130
CREATED:20230927T081458Z
LAST-MODIFIED:20230927T081458Z
UID:8690-1696687200-1696705200@www.pokladykultury.eu
SUMMARY:Hubertus 2023
DESCRIPTION:Miejski Ośrodek Sportu i Rekreacji oraz Klub Jeździecki Maciejówka MOSiR Zabrze zapraszają w pierwszą sobotę października na tradycyjne podsumowanie sezonu jeździeckiego – Hubertus 2023. \nOficjalne otwarcie imprezy zaplanowano na godz. 12.00. Gonitwa za lisem w wykonaniu juniorów odbędzie się o godz. 12.15 a w wykonaniu seniorów o godz. 13.00. Swoją konkurencję będą mieli również najmłodsi uczestnicy Hubertusa\, których organizatorzy zapraszają do wzięcia udziału w licznych grach i zabawach\, m.in. w szukaniu liska (godz. 13.00). O godz. 14.00 odbędą się natomiast zawody skokowe. \nNie zabraknie też miasteczka zabaw dla dzieci i konkursów z nagrodami. Publiczność będzie mogła podziwiać w tym roku pokazy Bractwa Rycerskiego Ziemi Ogrodzienieckiej. \n 
URL:https://www.pokladykultury.eu/event/hubertus-2023/
LOCATION:Kąpielisko Leśne\, ul. Srebrna 10\, Zabrze\, śląskie\, 41-800\, Poland
ATTACH;FMTTYPE=image/jpeg:https://www.pokladykultury.eu/wp-content/uploads/2023/09/Hubertus-plakat-2023-1448x2048-1.jpg
END:VEVENT
BEGIN:VEVENT
DTSTART;TZID=Europe/Warsaw:20231007T180000
DTEND;TZID=Europe/Warsaw:20231008T000000
DTSTAMP:20260421T005130
CREATED:20231002T081111Z
LAST-MODIFIED:20231002T081111Z
UID:8732-1696701600-1696723200@www.pokladykultury.eu
SUMMARY:Zabrzański Piknik Muzyczny
DESCRIPTION:Arena Zabrze zaprasza na „Zabrzański Piknik Muzyczny” – Połączenie Muzyki i Rodzinnej Atmosfery!\n \nCiesz się niezapomnianymi chwilami w rytmie ulubionych przebojów i spędź fantastyczny czas razem z rodziną nanaszym wyjątkowym wydarzeniu!\n \nNa scenie pojawią się prawdziwe perły polskiej muzyki: CLEO\, myslovitz oraz KARO GLAZER!\nTo będzie prawdziwa muzyczna uczta!\n \nPrzygotowaliśmy wiele atrakcji dla najmłodszych uczestników\, w tym:\n– Wirtualna Rzeczywistość: Dzieci będą mogły odkrywać fascynujący świat wirtualnej rzeczywistości!\n– Animacje dla Najmłodszych: Zabawki i atrakcje\, które dostarczą mnóstwo radości i uśmiechu!\n– Dmuchance: Skoki\, śmiech i niezapomniane chwile dla najmłodszych uczestników!\n– Edukacja pierwszej pomocy i bezpieczeństwa\n– Spotkanie z maskotką numeru alarmowego 112 – Ratusiem\nDołącz do naszej muzycznej rodziny i przeżyj razem z nami niezapomniany dzień!\n \nNie przegap tego wyjątkowego wydarzenia! Oznacz znajomych\, zaplanujcie wspólnie czas i dołączcie do nas w rytmie muzyki i radości! „Zabrzański Piknik Muzyczny” czeka na Was!\nPartnerem wydarzenia jest spółka WĘGLOKOKS
URL:https://www.pokladykultury.eu/event/zabrzanski-piknik-muzyczny/
LOCATION:Arena Zabrze\, ul. Roosevelta 81\, Zabrze\, śląskie\, 41-800\, Poland
ATTACH;FMTTYPE=image/jpeg:https://www.pokladykultury.eu/wp-content/uploads/2023/10/piknik-muzyczny.jpg
END:VEVENT
END:VCALENDAR