BEGIN:VCALENDAR
VERSION:2.0
PRODID:-//Pokładykultury.eu - ECPv5.16.3.1//NONSGML v1.0//EN
CALSCALE:GREGORIAN
METHOD:PUBLISH
X-ORIGINAL-URL:https://www.pokladykultury.eu
X-WR-CALDESC:Wydarzenia dla Pokładykultury.eu
REFRESH-INTERVAL;VALUE=DURATION:PT1H
X-Robots-Tag:noindex
X-PUBLISHED-TTL:PT1H
BEGIN:VTIMEZONE
TZID:Europe/Warsaw
BEGIN:DAYLIGHT
TZOFFSETFROM:+0100
TZOFFSETTO:+0200
TZNAME:CEST
DTSTART:20230326T010000
END:DAYLIGHT
BEGIN:STANDARD
TZOFFSETFROM:+0200
TZOFFSETTO:+0100
TZNAME:CET
DTSTART:20231029T010000
END:STANDARD
END:VTIMEZONE
BEGIN:VEVENT
DTSTART;TZID=Europe/Warsaw:20230916T120000
DTEND;TZID=Europe/Warsaw:20230917T015500
DTSTAMP:20260419T232347
CREATED:20230818T065647Z
LAST-MODIFIED:20230818T070749Z
UID:8310-1694865600-1694915700@www.pokladykultury.eu
SUMMARY:MOTOSERCE 2023
DESCRIPTION:Rusza XV edycja MOTOSERCA! \n \nJuż 16 września kolejna Ogólnopolska Zbiórka Krwi. W zeszłym roku zebraliśmy 1.577 litrów\, a łącznie podsumowując wszystkie edycje festiwalu\, aż 36 659 litrów! Dlatego i w tym roku spotkajmy się w Sztolnia Królowa Luiza w Zabrzu!\n \nHarmonogram wydarzenia \nOd 11:00 możecie już zacząć oddawać krew \n11:30 – Orkiestra Muzeum Górnictwa Węglowego w Zabrzu\n12:00 – Parada motocykli ulicami miasta \n13:00 – Koncert Coria\n14:00 – Koncert CoverNostra\n15:00 – Alcoholica\n16:30 – 418\n17:30 – Szkuo\n \nZ cyklu Świeże Brzmienia do północy zagra DJ MC- Specjalista od muzyki.\nRazem mamy ogromną moc\, dlatego bądź z nami i oddaj swoją krew! Dla kogoś możesz zostać superbohaterem! 
URL:https://www.pokladykultury.eu/event/motoserce-2023/
LOCATION:Strefa Carnall\, Sztolnia Królowa Luiza\, ul. Wolności 408\, Zabrze\, śląskie\, 41-800\, Poland
ATTACH;FMTTYPE=image/jpeg:https://www.pokladykultury.eu/wp-content/uploads/2023/08/Motoserce.jpg
END:VEVENT
BEGIN:VEVENT
DTSTART;TZID=Europe/Warsaw:20230917T120000
DTEND;TZID=Europe/Warsaw:20230917T200000
DTSTAMP:20260419T232347
CREATED:20230913T053102Z
LAST-MODIFIED:20230913T054536Z
UID:8564-1694952000-1694980800@www.pokladykultury.eu
SUMMARY:Star Wars Armada Store Championship
DESCRIPTION:W imieniu śląskiego community\, Godzuki3D\, Gwiezdne Hanysy oraz firmy REBEL; pragniemy zaprosić na trzeci w tym sezonie turniej rangi Store Championship – Star Wars Armada Store Championship. \nZapisy 9:30- 9:50 \n\n \nRunda 1: 10.00 – 12:15\nRunda 2: 12:30 – 14.45\nPrzerwa: 14.45 – 15.30\nRunda 3: 15.30 – 17.45\nZakończenie\, rozdanie nagród: 18.00\nIlość miejsc: 22 ( staramy się o więcej )\n \nZapisy w poście poniżej. Przedpłata gwarantuje miejsce!\nKoszt:\n– przedpłata przelewem 30 PLN\nKonto organizatora do zbiórki: Radosław Godzimirski\, 15 1140 2004 0000 3202 3585 4331\nTytuł przelewu: Armada Store „Imię Nazwisko” lub blik 511656538.\n \nNagrody:\n– Oficjalny kit turniejowy Store Championship 2023\n– Nagrody dodatkowe.\n \nRegulamin:\nFlotę budujemy zgodnie z zasadami głównego podręcznika na 400 pt. Obowiązuje najnowszy FAQ\, oraz najnowsze Tournament Regulations z oficjalnej strony dystrybutora:\nhttps://www.atomicmassgames.com/star-wars-armada oraz https://forums.atomicmassgames.com/…/45-star-wars…/\n– Nie używamy Proxy\n– Gracz powinien mieć wszystkie karty dodatków jakie ma w rozpisce\n– Organizatorzy zastrzegają sobie prawo do zmiany regulaminu\n– Osoby z zaksięgowaną wpłatą będą oznaczone „+” w liście zgłoszeń\n– Przelew jest bezzwrotny\, chyba\, że turniej się nie odbędzie\n– Przelew daje pierwszeństwo w zapisach\n– Do turnieju dopuszczone są wszystkie oficjalne produkty SW Armada\n– Na terenie MDK i w obrębie jest całkowity zakaz spożywania napojów alkoholowych.
URL:https://www.pokladykultury.eu/event/star-wars-armada-store-championship/
LOCATION:Młodzieżowy Dom Kultury nr 1\, ul. Tarnopolska 50\, Zabrze\, śląskie\, 41-807\, Poland
ATTACH;FMTTYPE=image/jpeg:https://www.pokladykultury.eu/wp-content/uploads/2023/09/Star-Wars-Armada.jpg
END:VEVENT
BEGIN:VEVENT
DTSTART;TZID=Europe/Warsaw:20230917T190000
DTEND;TZID=Europe/Warsaw:20230917T220000
DTSTAMP:20260419T232347
CREATED:20230830T090218Z
LAST-MODIFIED:20230830T090218Z
UID:8407-1694977200-1694988000@www.pokladykultury.eu
SUMMARY:All Brass Colors
DESCRIPTION:Rusza nowa odsłona projektu Zrozumieć Śląsk. Tym razem zachwycimy się różnorodnością orkiestr dętych.\n \nW niedzielę 17 września odbędzie się festiwal All Brass Colors\, czyli współczesny hołd dla górniczych orkiestr dętych.\nSpotykamy się w Strefie Carnall Sztolnia Królowa Luiza w Zabrzu. Wstęp bezpłatny!\n \nAll Brass Colors prezentuje różnorodność orkiestr dętych i różnorodność muzyki\, którą mogą z powodzeniem wykonywać.\nWystąpią między innymi:\n+ Fanfara Avantura\,\n+ L.U.C & Rebel Babel Ensemble\,\n+ Jazzband Młynarski-Masecki\,\n+ Vavamuffin z sekcją dętą Brassers\,\n+ Brass Federacja\,\n+ Pasimito\,\n+ Pogodno\,\n+ Rahim\,\n+ Fokus\n+ Ziut Gralak\n+ Orkiestry dęte KWK Rydułtowy\, KWK JASMOS\, KWK MARCEL\, KWK SOŚNICA.\n \nWydarzenie będzie miało bardzo otwarty i integrujący charakter. W przerwach pomiędzy występami na scenie muzycy będą występować wśród uczestników.\n \nFanfara Avantura – Prawdziwie Polskie Techno\nProjekt powstał na zamówienie Radiowego Centrum Kultury Ludowej w Polskim Radiu. Michał Fetler skomponował dziewięć autorskich wariacji melodii ludowych południowo-wschodniej Polski. Zestawił w nich stylistykę srogiego techno i muzyki elektronicznej z brzmieniem Orkiestry Reprezentacyjnej Sił Zbrojnych oraz kapeli ludowej z towarzyszeniem syntezatorów.\n \nL.U.C & Rebel Babel Ensemble & Rahim i Fokus\nInnowacyjna orkiestra\, która w ciągu jedenastu lat połączyła 11.000 instrumentalistów reprezentujących różne gatunki muzyczne. Rebel Babel splata ze sobą tradycyjną muzykę regionalną z hip-hopem\, jazzem i rapem zapraszając do koncertów i performensów znane nazwiska oraz lokalnych muzyków a także orkiestry. Tym razem wsparta przez Rahima i Fokusa oraz śląskie orkiestry dęte zaprezentuje między innymi klasykę śląskiego rapu.\n \nPasimito / Pogodno / Ziut Gralak – Górniczo Hutnicza Orkiestra Dęta\nGórniczo-hutnicza orkiestra dęta robi nam paparara\, wiadomo! Te frazę znają wszyscy fani dęciaków. A kto jej jeszcze nie kojarzy\, na pewno będzie ją nucił po zabrzańskim koncercie. Tym bardziej\, że utwór zostanie zagrany wspólnie przez wszystkie obecne na koncercie orkiestry.\n \nJazzband Młynarski-Masecki\nJakieś sto lat temu jazz trafił do Polski. W tym samym czasie na Górnym Śląsku masowo powstawały orkiestry dęte. Czego możemy się zatem spodziewać? Na pewno dobrej muzyki. Takiej i do tańca\, i do wzruszeń.\n \nVavamuffin + sekcja dęta Brassers\nCzy można ich nazwać najbardziej śląskim z warszawskich zespołów? Pewnie nie\, ale faktem jest\, że zespół powstawał w cieniu kominów Elektrociepłowni Siekierki\, drugiej co do wielkości w Europie. Pewnie dlatego oddech znaleźli w muzyce reggae.\n \nFestiwal All Brass Colors to święto orkiestr dętych\, dlatego w przerwach między koncertami na terenie festiwalu\, wśród publiczności\, występować będą Fanfara Awantura z projektem Turbo Balkan Groove oraz Brass Federacja. Tańce mile widziane.\n \nAll Brass Colors\, 17 września\, godz.17.00\, Strefa Carnall Sztolnia Królowa Luiza w Zabrzu \n\nOrganizatorzy: Stowarzyszenie Pokolenie\, Muzeum Górnictwa Węglowego w Zabrzu\nPartnerzy: Lotto\, Tauron Dystrybucja\nKampania społeczna dofinansowana z ramach dotacji celowej z budżetu państwa.
URL:https://www.pokladykultury.eu/event/all-brass-colors/
LOCATION:Strefa Carnall\, Sztolnia Królowa Luiza\, ul. Wolności 408\, Zabrze\, śląskie\, 41-800\, Poland
ATTACH;FMTTYPE=image/jpeg:https://www.pokladykultury.eu/wp-content/uploads/2023/08/all-brass-color.jpg
END:VEVENT
BEGIN:VEVENT
DTSTART;TZID=Europe/Warsaw:20230917T190000
DTEND;TZID=Europe/Warsaw:20230917T230000
DTSTAMP:20260419T232347
CREATED:20230913T052523Z
LAST-MODIFIED:20230913T052523Z
UID:8561-1694977200-1694991600@www.pokladykultury.eu
SUMMARY:Gryształek
DESCRIPTION:Rada Dzielnicy Mikulczyce zaprasza wszystkich miłośników planszówek do wspólnego grania i spędzenia wolnego czasu. Organizatorzy chcą promować tę formę rozrywki\, ponieważ integruje ona ludzi w pasjonujących rozgrywkach przy stole\, a także rozwija zdolności organizacyjne\, uczy współpracy i zasad fair play. \nI Mikulczyckie spotkanie przy planszy „Gryształek” odbędzie się już w najbliższą niedzielę\, 17 września\, o godzinie 12.00\, w Młodzieżowym Domu Kultury nr 1 w Zabrzu. Honorowy patronat nad wydarzeniem objęła prezydent Zabrza Małgorzata Mańka-Szulik. Wstęp wolny. \nDlaczego warto wybrać się na to wydarzenie? \nGry planszowe to doskonała okazja do spędzenia czasu z rodziną i przyjaciółmi\, z dala od wirtualnej rzeczywistości.\nRozgrywki planszowe kształtują umiejętności podejmowania decyzji\, zarządzania zasobami i strategii.\nUczestnictwo w „Gryształku” to szansa na poznanie nowych osób\, nawiązanie przyjaźni i wspólną zabawę.\nTo pierwsze takie spotkanie\, natomiast organizatorzy wierzą\, że uda się przy planszówkach cyklicznie gromadzić zarówno mieszkańców Mikulczyc\, jak i całego Zabrza oraz Śląska. \nW trakcie „Gryształka” odbędą się Mistrzostwa Polski w Star Wars Armada Store Championship – emocjonującej grze figurkowej osadzonej w świecie Star Wars! 22 uczestników z całej Polski stanie do rywalizacji o główną nagrodę. \nAtrakcje podczas eventu: \n\nGames Room z grami Portal Games: Oferujący szeroki wybór gier planszowych i karcianych. Portal Games to czołowy polski producent gier planszowych\, który zdobył uznanie na arenie międzynarodowej\, tworząc innowacyjne i angażujące gry dla graczy na całym świecie. Każdą grę prezentują i tłumaczą wolontariusze z Silesian Board Gamers.\nStowarzyszenie „Zalew Gier”: Grupa zapalonych pasjonatów gier planszowych\, którzy z entuzjazmem dzielą się swoją wiedzą i doświadczeniem\, pomagając nowicjuszom w zgłębianiu tajników rozmaitych gier.\nSpołeczność „Bitewniaków”: Fascynujące zanurzenie w świat gier figurkowych. Uczestnicy będą mieli okazję poznać różne systemy\, takie jak „Song of Ice and Fire”\, „Blood Bowl”\, czy „Star Wars Legion”\, a także spotkać się z doświadczonymi graczami i wymienić się doświadczeniami.\n\nWspółorganizatorami wydarzenia są: Młodzieżowy Dom Kultury nr 1 w Zabrzu i Miasto Zabrze. \nPartnerzy: Portal Games\, Zalew Gier oraz Silesian Board Gamers.
URL:https://www.pokladykultury.eu/event/grysztalek/
LOCATION:Młodzieżowy Dom Kultury nr 1\, ul. Tarnopolska 50\, Zabrze\, śląskie\, 41-807\, Poland
ATTACH;FMTTYPE=image/jpeg:https://www.pokladykultury.eu/wp-content/uploads/2023/09/Grysztalek.jpg
END:VEVENT
END:VCALENDAR