BEGIN:VCALENDAR
VERSION:2.0
PRODID:-//Pokładykultury.eu - ECPv5.16.3.1//NONSGML v1.0//EN
CALSCALE:GREGORIAN
METHOD:PUBLISH
X-WR-CALNAME:Pokładykultury.eu
X-ORIGINAL-URL:https://www.pokladykultury.eu
X-WR-CALDESC:Wydarzenia dla Pokładykultury.eu
REFRESH-INTERVAL;VALUE=DURATION:PT1H
X-Robots-Tag:noindex
X-PUBLISHED-TTL:PT1H
BEGIN:VTIMEZONE
TZID:Europe/Warsaw
BEGIN:DAYLIGHT
TZOFFSETFROM:+0100
TZOFFSETTO:+0200
TZNAME:CEST
DTSTART:20230326T010000
END:DAYLIGHT
BEGIN:STANDARD
TZOFFSETFROM:+0200
TZOFFSETTO:+0100
TZNAME:CET
DTSTART:20231029T010000
END:STANDARD
END:VTIMEZONE
BEGIN:VEVENT
DTSTART;TZID=Europe/Warsaw:20230728T140000
DTEND;TZID=Europe/Warsaw:20230730T230000
DTSTAMP:20260423T005728
CREATED:20230726T072322Z
LAST-MODIFIED:20230726T072322Z
UID:8157-1690552800-1690758000@www.pokladykultury.eu
SUMMARY:Festiwal Street Food'u
DESCRIPTION:CH Platan zaprasza na Festiwal Street Food’u. Dużo dobrego jedzenia z 4 stron świata przez cały Weekend. \nSprawdź jakie FoodTrucki przyjadą do naszego miasta. Lista FoodTrucków dostępna na WYDARZENIU\n \nGodziny trwania imprezy\n Piątek 14:00 – 21:00\n Sobota 12:00 – 21:00\n Niedziela 12:00 – 21:00
URL:https://www.pokladykultury.eu/event/festiwal-street-foodu/
LOCATION:parking przy CH Platan\, Pl. Teatralny 12\, Zabrze\, śląskie\, 41-800\, Poland
ATTACH;FMTTYPE=image/jpeg:https://www.pokladykultury.eu/wp-content/uploads/2023/07/Food-Street.jpg
END:VEVENT
BEGIN:VEVENT
DTSTART;TZID=Europe/Warsaw:20230728T200000
DTEND;TZID=Europe/Warsaw:20230729T000000
DTSTAMP:20260423T005728
CREATED:20230725T054350Z
LAST-MODIFIED:20230725T054350Z
UID:8112-1690574400-1690588800@www.pokladykultury.eu
SUMMARY:Stand up w Artystycznej
DESCRIPTION:Z okazji dwóch lat działalności  Artystycznej\, zabrzańska kawiarnia zaprasza na długo wyczekiwany STAND UP.\nWystąpią m.in.:\n Mateusz Burkacki\, Kuba Wileczek – ulubieńcy publiczności\n Śląsko nuta – Sławek Janus\, Jan Zachorowski\, Damian Woźniak.\n Wrocławskie Girl Power – Martyna Podwysocka\, Dolly Stand Up i Lilly Niewiadomska.\nCałość poprowadzi:\n Aleksander „Olo” Mokros\n \nPlan wydarzenia:\n 18:00 – Grill\n 19:00 – Stand up\n 22:00 – Koniec (bo sąsiedzi potem narzekają\, że głośno)\n \nWstęp wolny.\n \nImpreza przeznaczona dla osób +16 lat.
URL:https://www.pokladykultury.eu/event/stand-up-w-artystycznej/
LOCATION:Artystyczna Zabrze\, ul. gen de Gaulle'a 17\, Zabrze\, śląskie\, 41-800\, Poland
ATTACH;FMTTYPE=image/jpeg:https://www.pokladykultury.eu/wp-content/uploads/2023/07/Stand-up.jpg
END:VEVENT
BEGIN:VEVENT
DTSTART;TZID=Europe/Warsaw:20230728T200000
DTEND;TZID=Europe/Warsaw:20230729T000000
DTSTAMP:20260423T005728
CREATED:20230725T055056Z
LAST-MODIFIED:20230725T055056Z
UID:8115-1690574400-1690588800@www.pokladykultury.eu
SUMMARY:Chillout w Szybie Maciej 2023
DESCRIPTION:Szyb Maciej w Zabrzu zaprasza na chilloutowe spotkania.\n \nJeżeli lubisz wypoczywać pod chmurką\, poznawać nowych ludzi\, wypoczywać z przyjaciółmi\, testować nowości kulinarne\, relaksować się przy dobrej muzyce w industrialnym otoczeniu\, to propozycja dla Ciebie.\n \nCzekają na Ciebie:\n wygodne leżaczki\,\n siedziska z kocykami na chłodne wieczory\,\n set DJ’ski w godzinach 19:00-23:00\,\n zimne piwo\,\n wyśmienite drinki\,\n pyszne jedzenie z Bistro Szyb Maciej i z grilla serwowane przez naszego Szefa Kuchni.\n \nKiedy? – w każdy piątek (od 16 czerwca do 1 września) w godzinach 18.00-24.00.\n \nWstęp wolny – ograniczona ilość miejsc siedzących.\n \nZapraszamy wszystkich fanów relaksu pod chmurką – małych\, dużych i czworonożnych.
URL:https://www.pokladykultury.eu/event/chillout-w-szybie-maciej-2023-3/
LOCATION:Szyb Maciej\, ul. Srebrna 6\, Zabrze\, śląskie\, 41-800\, Poland
ATTACH;FMTTYPE=image/jpeg:https://www.pokladykultury.eu/wp-content/uploads/2023/06/Chillout.jpg
END:VEVENT
BEGIN:VEVENT
DTSTART;TZID=Europe/Warsaw:20230728T230000
DTEND;TZID=Europe/Warsaw:20230729T010000
DTSTAMP:20260423T005728
CREATED:20230727T080908Z
LAST-MODIFIED:20230727T081030Z
UID:8162-1690585200-1690592400@www.pokladykultury.eu
SUMMARY:Kino Letnie na Kąpielisku Leśnym w Zabrzu
DESCRIPTION:Zapraszamy na srebrny ekran na Kąpielisku Leśnym w Zabrzu. Już w piątek projekcja kina plenerowego. Na pewno nie zabraknie pysznych przekąsek oraz napojów.\n \nAgent i pół (2016 r.)\n \nWstęp na pokaz jest BEZPŁATNY
URL:https://www.pokladykultury.eu/event/kino-letnie-na-kapielisku-lesnym-w-zabrzu/
LOCATION:Kąpielisko Leśne\, ul. Srebrna 10\, Zabrze\, śląskie\, 41-800\, Poland
ATTACH;FMTTYPE=image/jpeg:https://www.pokladykultury.eu/wp-content/uploads/2023/07/Kino-letnie.jpg
END:VEVENT
END:VCALENDAR