BEGIN:VCALENDAR
VERSION:2.0
PRODID:-//Pokładykultury.eu - ECPv5.16.3.1//NONSGML v1.0//EN
CALSCALE:GREGORIAN
METHOD:PUBLISH
X-ORIGINAL-URL:https://www.pokladykultury.eu
X-WR-CALDESC:Wydarzenia dla Pokładykultury.eu
REFRESH-INTERVAL;VALUE=DURATION:PT1H
X-Robots-Tag:noindex
X-PUBLISHED-TTL:PT1H
BEGIN:VTIMEZONE
TZID:Europe/Warsaw
BEGIN:DAYLIGHT
TZOFFSETFROM:+0100
TZOFFSETTO:+0200
TZNAME:CEST
DTSTART:20230326T010000
END:DAYLIGHT
BEGIN:STANDARD
TZOFFSETFROM:+0200
TZOFFSETTO:+0100
TZNAME:CET
DTSTART:20231029T010000
END:STANDARD
END:VTIMEZONE
BEGIN:VEVENT
DTSTART;TZID=Europe/Warsaw:20230721T180000
DTEND;TZID=Europe/Warsaw:20230721T220000
DTSTAMP:20260421T005109
CREATED:20230629T054917Z
LAST-MODIFIED:20230629T054917Z
UID:7999-1689962400-1689976800@www.pokladykultury.eu
SUMMARY:Ręcznie szyte grubymi nićmi
DESCRIPTION:Miejski Ośrodek Kultury zaprasza na warsztaty kaletnicze – Małe elementy galanterii skórzanej. \nPodczas warsztatów nauczysz się ręcznego szycia ze skóry. Na warsztat bierzemy tym razem małe elementy galanterii skórzanej (piórniki\, portfele\, etui itp.). Cały proces tworzenia przebiega „bez napinki” i żargonu z kosmosu. \nPracujemy w małej grupie\, krok po kroku. Każdy uczestnik wraca do domu z gotowym cackiem. Używamy wysokiej jakości materiałów (skóry garbowane roślinnie) i profesjonalnych narzędzi. \nW Najmniej Odpowiednim Momencie dba o jakość i przyjemną atmosferę podczas pracy – zapach\, faktura skóry\, szum narzędzi… to prawdziwa uczta sensoryczna dla poszukiwaczy nowych doświadczeń! \n \nKoszt: 150 zł\nCzas trwania: ok. 4h\nZapisy: poprzez formularz zgłoszeniowy – TUTAJ lub mailowo: kontakt@wnom.pl \n  \nLiczba miejsc ograniczona! Decyduje kolejność zgłoszeń. \nMiejski Ośrodek Kultury w Zabrzu\nul. 3 Maja 91a \nOrganizator: W Najmniej Odpowiednim Momencie – Justyna Liszkowska
URL:https://www.pokladykultury.eu/event/recznie-szyte-grubymi-nicmi/
LOCATION:Miejski Ośrodek Kultury w Zabrzu\, ul. 3 Maja 91a\, Zabrze\, śląskie\, 41-800\, Poland
ATTACH;FMTTYPE=image/jpeg:https://www.pokladykultury.eu/wp-content/uploads/2023/06/Warsztaty-kaletnicze_Recznie-szyte-grubymi-nicmi_baner_rgb-scaled.jpg
END:VEVENT
BEGIN:VEVENT
DTSTART;TZID=Europe/Warsaw:20230721T230000
DTEND;TZID=Europe/Warsaw:20230722T003000
DTSTAMP:20260421T005109
CREATED:20230629T050153Z
LAST-MODIFIED:20230629T050254Z
UID:7995-1689980400-1689985800@www.pokladykultury.eu
SUMMARY:Nocne zwiedzanie Szybu Maciej
DESCRIPTION:Szyb Maciej w Zabrzu zaprasza na kolejną edycję Nocnego zwiedzania z przewodnikiem – już 21 lipca 2023. \nCzekać na Was będzie noc pełna zagadek i tajemnic\, skrywanych na terenie Zabytkowego Kompleksu Szyb Maciej w Zabrzu-Maciejowie. \nDaj się zaskoczyć ciekawostkami\, tajemnicami i niezwykle ciekawą historią obiektu! Podczas tej wyjątkowej nocy\, odkrywając tajemnice i zagadki\, będziesz mieć szanse na zdobycie wyjątkowych niespodzianek. \nUWAGA! Zwiedzanie odbywa się w ciemności – prosimy o zabranie własnych latarek.\nZe względu na ograniczone miejsca wymagana jest wcześniejszy zakup biletów – link do zakupu biletów \nPartnerami wydarzenia są: PG DEMEX sp. z o.o.\, Stowarzyszenie Kopalnia Sztuki\, Stowarzyszenie Rowery Zabytkowe Zabrze\, Szlak Zabytków Techniki Województwa Śląskiego.
URL:https://www.pokladykultury.eu/event/nocne-zwiedzanie-szybu-maciej-2/
LOCATION:Szyb Maciej\, ul. Srebrna 6\, Zabrze\, śląskie\, 41-800\, Poland
ATTACH;FMTTYPE=image/png:https://www.pokladykultury.eu/wp-content/uploads/2023/06/szybmaciej_nocne-zwiedzanie_2023_PREV_baner.png
END:VEVENT
END:VCALENDAR