BEGIN:VCALENDAR
VERSION:2.0
PRODID:-//Pokładykultury.eu - ECPv5.16.3.1//NONSGML v1.0//EN
CALSCALE:GREGORIAN
METHOD:PUBLISH
X-WR-CALNAME:Pokładykultury.eu
X-ORIGINAL-URL:https://www.pokladykultury.eu
X-WR-CALDESC:Wydarzenia dla Pokładykultury.eu
REFRESH-INTERVAL;VALUE=DURATION:PT1H
X-Robots-Tag:noindex
X-PUBLISHED-TTL:PT1H
BEGIN:VTIMEZONE
TZID:Europe/Warsaw
BEGIN:DAYLIGHT
TZOFFSETFROM:+0100
TZOFFSETTO:+0200
TZNAME:CEST
DTSTART:20230326T010000
END:DAYLIGHT
BEGIN:STANDARD
TZOFFSETFROM:+0200
TZOFFSETTO:+0100
TZNAME:CET
DTSTART:20231029T010000
END:STANDARD
END:VTIMEZONE
BEGIN:VEVENT
DTSTART;TZID=Europe/Warsaw:20230701T160000
DTEND;TZID=Europe/Warsaw:20230701T190000
DTSTAMP:20260421T004834
CREATED:20230622T054933Z
LAST-MODIFIED:20230622T063218Z
UID:7942-1688227200-1688238000@www.pokladykultury.eu
SUMMARY:Organowe LOVE - KIERUNEK GZM
DESCRIPTION:Co łączy Miasto Zabrze z Panamą? To przecież oczywiste! Organy!\n \nJeśli chcesz na własne oczy zobaczyć jak wygląda zakład\, w którym powstają te niesamowite instrumenty\, nie czekaj! Jedna\, jedyna wycieczka ze zwiedzaniem Zakładu Budowy i Renowacji Organów w Zabrzu\, odbędzie się 1 lipca o 14:00!\n \nMało? To dorzucamy jeszcze koncert muzyki organowej w kościele św. Józefa! na Kierunek GZM gramy z fantazją.\n \nZobacz\, jak powstają ograny i zachwyć się muzyką organową w jednym z najpiękniejszych kościołów w regionie.\n \nWięcej informacji na: www.kierunekgzm.pl/program/organowe-love/\n \nWstęp bezpłatny\, konieczna wcześniejsza rezerwacja miejsc.\nZapisy osobiste lub telefoniczne w Punkcie Informacji o Mieście\, Zabrze ul. Powstańców Śląskich 2/1\n32 373 35 20\n \nZrealizowano z udziałem środków finansowych z budżetu Górnośląsko-Zagłębiowskiej Metropolii.
URL:https://www.pokladykultury.eu/event/organowe-love-kierunek-gzm/
LOCATION:Zabrze\, Zabrze\, śląskie\, 41-800\, Poland
ATTACH;FMTTYPE=image/jpeg:https://www.pokladykultury.eu/wp-content/uploads/2023/06/Organowe-LOVE.jpg
END:VEVENT
BEGIN:VEVENT
DTSTART;TZID=Europe/Warsaw:20230701T200000
DTEND;TZID=Europe/Warsaw:20230702T010000
DTSTAMP:20260421T004834
CREATED:20230613T060513Z
LAST-MODIFIED:20230613T060513Z
UID:7843-1688241600-1688259600@www.pokladykultury.eu
SUMMARY:#3 Kino Plenerowe w Artystycznej
DESCRIPTION:Artystyczna zaprasza na trzecią edycję Kina plenerowego.\n \nKina plenerowe w zeszłym roku\, cieszyło się gorącym przyjęciem… Dlatego wracamy do Was z trzecią edycją!\nTym razem z jeszcze większym rozmachem! Wielki ekran\, więcej miejsc siedzących\, miejsce na własny kocyk i filmy wybrane przez Was.\nJuż 01/07/2023 wpadajcie ze znajomymi przed Artystyczną na nasze trzecie kino plenerowe! Ciężko wyobrazić sobie lepsze rozpoczęcie wakacji! Czekać na was będzie grill\, leżaki i mnóstwo dobrej zabawy!\n \nPlan wydarzenia:\n 18:00 – Grillowanie\n 20:30 – Madagaskar\n 22:00 – Palm springs 
URL:https://www.pokladykultury.eu/event/3-kino-plenerowe-w-artystycznej/
LOCATION:Artystyczna Zabrze\, ul. gen de Gaulle'a 17\, Zabrze\, śląskie\, 41-800\, Poland
ATTACH;FMTTYPE=image/jpeg:https://www.pokladykultury.eu/wp-content/uploads/2023/06/Kino-plenerowe.jpg
END:VEVENT
BEGIN:VEVENT
DTSTART;TZID=Europe/Warsaw:20230701T210000
DTEND;TZID=Europe/Warsaw:20230701T230000
DTSTAMP:20260421T004834
CREATED:20230613T055957Z
LAST-MODIFIED:20230613T055957Z
UID:7840-1688245200-1688252400@www.pokladykultury.eu
SUMMARY:Letnia scena w Szybie Maciej 2023
DESCRIPTION:Zapraszamy na cykl bezpłatnych koncertów w Szybie Maciej.\nZapewniamy przyjazny\, weekendowy klimat z muzyką na żywo.\nCo czwartek od godz. 19:00 do 21:00 czas umilać Wam będą soliści\, duety czy zespoły z pogranicza różnych gatunków. Gwarantujemy\, że każdy znajdzie coś dla siebie.\nGdzie:\nOgródek Letni przy Bistro Szyb Maciej\nKto pojawi się na scenie:\nJuż wkrótce ukaże się lista wykonawców na fanpage Szybu Maciej..\nŚpiewająco zapraszamy.
URL:https://www.pokladykultury.eu/event/letnia-scena-w-szybie-maciej-2023/
LOCATION:Szyb Maciej\, ul. Srebrna 6\, Zabrze\, śląskie\, 41-800\, Poland
ATTACH;FMTTYPE=image/jpeg:https://www.pokladykultury.eu/wp-content/uploads/2023/06/Letnia-scena.jpg
END:VEVENT
END:VCALENDAR