BEGIN:VCALENDAR
VERSION:2.0
PRODID:-//Pokładykultury.eu - ECPv5.16.3.1//NONSGML v1.0//EN
CALSCALE:GREGORIAN
METHOD:PUBLISH
X-ORIGINAL-URL:https://www.pokladykultury.eu
X-WR-CALDESC:Wydarzenia dla Pokładykultury.eu
REFRESH-INTERVAL;VALUE=DURATION:PT1H
X-Robots-Tag:noindex
X-PUBLISHED-TTL:PT1H
BEGIN:VTIMEZONE
TZID:Europe/Warsaw
BEGIN:DAYLIGHT
TZOFFSETFROM:+0100
TZOFFSETTO:+0200
TZNAME:CEST
DTSTART:20230326T010000
END:DAYLIGHT
BEGIN:STANDARD
TZOFFSETFROM:+0200
TZOFFSETTO:+0100
TZNAME:CET
DTSTART:20231029T010000
END:STANDARD
END:VTIMEZONE
BEGIN:VEVENT
DTSTART;VALUE=DATE:20230623
DTEND;VALUE=DATE:20230626
DTSTAMP:20260423T010215
CREATED:20230411T102946Z
LAST-MODIFIED:20230411T102946Z
UID:7470-1687485600-1687658399@www.pokladykultury.eu
SUMMARY:CARBON Silesia Festival
DESCRIPTION:CARBON Silesia Festival wraca z pierwszym ogłoszeniem! Po sukcesie dwóch pierwszych edycji\, pora na kolejną odsłonę tego nietuzinkowego festiwalu. 23 i 24 czerwca miłośnicy muzyki elektronicznej ponownie spotkają się w Sztolni Królowa Luiza w Zabrzu. To jedyne miejsce w Polsce\, gdzie elektronika brzmi tak dobrze w postindustrialnej przestrzeni starej kopalni.\n \nCzerwiec to idealna okazja\, by rozpocząć sezon letnich festiwali. W programie CARBON Silesia Festival znajdziecie idealny zestaw na przygotowanie się do wakacyjnej muzycznej przygody.\n \nWięcej informacji znajdziesz na www.carbonfestival.pl\,
URL:https://www.pokladykultury.eu/event/carbon-silesia-festival/
LOCATION:Strefa Carnall\, Sztolnia Królowa Luiza\, ul. Wolności 408\, Zabrze\, śląskie\, 41-800\, Poland
ATTACH;FMTTYPE=image/png:https://www.pokladykultury.eu/wp-content/uploads/2023/04/Carbon.png
END:VEVENT
BEGIN:VEVENT
DTSTART;TZID=Europe/Warsaw:20230624T120000
DTEND;TZID=Europe/Warsaw:20230624T170000
DTSTAMP:20260423T010215
CREATED:20230622T045155Z
LAST-MODIFIED:20230622T045155Z
UID:7935-1687608000-1687626000@www.pokladykultury.eu
SUMMARY:Gra terenowa - OGRÓD
DESCRIPTION:Trwają zapisy do organizowanej przez Centrum Rozwoju Rodziny w Zabrzu  gry terenowej w Miejski Ogród Botaniczny w Zabrzu.\n\n\n \nGra terenowa będzie znakomitą okazją do poznania zabrzańskiego botanika i jego tajemnic oraz integracji nie tylko dla rodzin\, ale i całej zabrzańskiej społeczności.\n \n\n\nUdział w grze jest bezpłatny\, obowiązują jednak wcześniejsze zapisy – ze względu na ograniczoną ilość miejsc decydować będzie kolejność zgłoszeń.\n\n\n \nZgłoszenia można dokonać za pośrednictwem: poczty elektronicznej wysyłając e- maila na adres: zapisy@crr.miastozabrze.pl (w tytule wpisując „Gra terenowa- Ogród”)\, telefonicznie pod numer 32 630 32 33 lub osobiście w CRR przy ul. Park Hutniczy 8 w Zabrzu.
URL:https://www.pokladykultury.eu/event/gra-terenowa-ogrod/
LOCATION:Miejski Ogród Botaniczny\, ul. Piłsudskiego 60\, Zabrze\, śląskie\, 41-800\, Poland
CATEGORIES:Aktywnie
ATTACH;FMTTYPE=image/jpeg:https://www.pokladykultury.eu/wp-content/uploads/2023/06/Gra-terenowa.jpg
END:VEVENT
BEGIN:VEVENT
DTSTART;TZID=Europe/Warsaw:20230624T170000
DTEND;TZID=Europe/Warsaw:20230624T210000
DTSTAMP:20260423T010215
CREATED:20230622T050010Z
LAST-MODIFIED:20230622T050010Z
UID:7938-1687626000-1687640400@www.pokladykultury.eu
SUMMARY:Otwarcie tężni solankowej w Maciejowie
DESCRIPTION:Zapraszamy na piknik pn. „Natężenie zdrowia”\, podczas którego nastąpi oficjalne otwarcie tężni solankowej w Maciejowie. Będzie to druga tężnia solankowa wybudowana przy wsparciu Funduszy Norweskich.\n\n \nUroczyste otwarcie tężni w Maciejowie odbędzie się w trakcie pikniku pn. „Natężenie zdrowia”\, który rozpocznie się na terenie Orlika Maciejów przy ul. Kondratowicza o godz. 15.00.
URL:https://www.pokladykultury.eu/event/otwarcie-tezni-solankowej-w-maciejowie/
LOCATION:Boisko Orlik\, ul. Kondratowicza 16a\, Zabrze\, śląskie\, 41-800\, Poland
CATEGORIES:Aktywnie
ATTACH;FMTTYPE=image/jpeg:https://www.pokladykultury.eu/wp-content/uploads/2023/06/Teznia-w-MAciejowie.jpg
END:VEVENT
END:VCALENDAR