BEGIN:VCALENDAR
VERSION:2.0
PRODID:-//Pokładykultury.eu - ECPv5.16.3.1//NONSGML v1.0//EN
CALSCALE:GREGORIAN
METHOD:PUBLISH
X-WR-CALNAME:Pokładykultury.eu
X-ORIGINAL-URL:https://www.pokladykultury.eu
X-WR-CALDESC:Wydarzenia dla Pokładykultury.eu
REFRESH-INTERVAL;VALUE=DURATION:PT1H
X-Robots-Tag:noindex
X-PUBLISHED-TTL:PT1H
BEGIN:VTIMEZONE
TZID:Europe/Warsaw
BEGIN:DAYLIGHT
TZOFFSETFROM:+0100
TZOFFSETTO:+0200
TZNAME:CEST
DTSTART:20230326T010000
END:DAYLIGHT
BEGIN:STANDARD
TZOFFSETFROM:+0200
TZOFFSETTO:+0100
TZNAME:CET
DTSTART:20231029T010000
END:STANDARD
END:VTIMEZONE
BEGIN:VEVENT
DTSTART;VALUE=DATE:20230623
DTEND;VALUE=DATE:20230626
DTSTAMP:20260423T005729
CREATED:20230411T102946Z
LAST-MODIFIED:20230411T102946Z
UID:7470-1687485600-1687658399@www.pokladykultury.eu
SUMMARY:CARBON Silesia Festival
DESCRIPTION:CARBON Silesia Festival wraca z pierwszym ogłoszeniem! Po sukcesie dwóch pierwszych edycji\, pora na kolejną odsłonę tego nietuzinkowego festiwalu. 23 i 24 czerwca miłośnicy muzyki elektronicznej ponownie spotkają się w Sztolni Królowa Luiza w Zabrzu. To jedyne miejsce w Polsce\, gdzie elektronika brzmi tak dobrze w postindustrialnej przestrzeni starej kopalni.\n \nCzerwiec to idealna okazja\, by rozpocząć sezon letnich festiwali. W programie CARBON Silesia Festival znajdziecie idealny zestaw na przygotowanie się do wakacyjnej muzycznej przygody.\n \nWięcej informacji znajdziesz na www.carbonfestival.pl\,
URL:https://www.pokladykultury.eu/event/carbon-silesia-festival/
LOCATION:Strefa Carnall\, Sztolnia Królowa Luiza\, ul. Wolności 408\, Zabrze\, śląskie\, 41-800\, Poland
ATTACH;FMTTYPE=image/png:https://www.pokladykultury.eu/wp-content/uploads/2023/04/Carbon.png
END:VEVENT
BEGIN:VEVENT
DTSTART;TZID=Europe/Warsaw:20230623T120000
DTEND;TZID=Europe/Warsaw:20230623T210000
DTSTAMP:20260423T005729
CREATED:20230621T084905Z
LAST-MODIFIED:20230621T093952Z
UID:7899-1687521600-1687554000@www.pokladykultury.eu
SUMMARY:Rozpoczęcie sezonu na Kąpielisku Leśnym
DESCRIPTION:Od piątku\, 23 czerwca rozpoczyna się sezon letni. Do dyspozycji korzystających z kąpieliska będą obie niecki basenowe. \n𝗚𝗼𝗱𝘇𝗶𝗻𝘆 𝗼𝘁𝘄𝗮𝗿𝗰𝗶𝗮 𝗞𝗮̨𝗽𝗶𝗲𝗹𝗶𝘀𝗸𝗮 𝗟𝗲𝘀́𝗻𝗲𝗴𝗼 𝘄 𝗦𝗲𝘇𝗼𝗻𝗶𝗲 𝗹𝗲𝘁𝗻𝗶𝗺 𝟮𝟬𝟮𝟯\nod 23.06.2023 r. do 15.08.2023 r.\nw dni powszednie – 10.00 – 19.00\nw soboty\, niedziele\, święta – 09.00 – 20.00 \nod 16.08.2023 r. do 31.08.2023 r.\nw dni powszednie – 10.00 – 18.00\nw soboty\, niedziele\, święta – 09.00 – 19.00 \n𝗖𝗲𝗻𝘆 𝗯𝗶𝗹𝗲𝘁𝗼́𝘄 𝘄𝘀𝘁𝗲̨𝗽𝘂 𝘄 𝘀𝗲𝘇𝗼𝗻𝗶𝗲 𝟮𝟬𝟮𝟯*\nCennik do godz. 16.00\ndzieci do lat 6 – 2 zł\nulgowy – 10 zł\ndorośli – 14 zł\nparking – 8 zł \nCennik po godz. 16.00\ndzieci do lat 6 – 2 zł\nulgowy – 7 zł\ndorośli – 9 zł\nparking – 4 zł \n*Szczegółowy cennik (opis grupy uprawnionej do zniżek\, cennik grupowy oraz „Rodzina na 5+”) dostępny w kasach stacjonarnych oraz na www.mosir.zabrze.pl
URL:https://www.pokladykultury.eu/event/%f0%9d%97%a5%f0%9d%97%bc%f0%9d%98%87%f0%9d%97%bd%f0%9d%97%bc%f0%9d%97%b0%f0%9d%98%87%f0%9d%97%b2%cc%a8%f0%9d%97%b0%f0%9d%97%b6%f0%9d%97%b2-%f0%9d%98%80%f0%9d%97%b2%f0%9d%98%87%f0%9d%97%bc%f0%9d%97%bb/
LOCATION:Kąpielisko Leśne\, ul. Srebrna 10\, Zabrze\, śląskie\, 41-800\, Poland
CATEGORIES:Aktywnie
ATTACH;FMTTYPE=image/jpeg:https://www.pokladykultury.eu/wp-content/uploads/2023/06/Kapielisko.jpg
END:VEVENT
END:VCALENDAR