BEGIN:VCALENDAR
VERSION:2.0
PRODID:-//Pokładykultury.eu - ECPv5.16.3.1//NONSGML v1.0//EN
CALSCALE:GREGORIAN
METHOD:PUBLISH
X-WR-CALNAME:Pokładykultury.eu
X-ORIGINAL-URL:https://www.pokladykultury.eu
X-WR-CALDESC:Wydarzenia dla Pokładykultury.eu
REFRESH-INTERVAL;VALUE=DURATION:PT1H
X-Robots-Tag:noindex
X-PUBLISHED-TTL:PT1H
BEGIN:VTIMEZONE
TZID:Europe/Warsaw
BEGIN:DAYLIGHT
TZOFFSETFROM:+0100
TZOFFSETTO:+0200
TZNAME:CEST
DTSTART:20230326T010000
END:DAYLIGHT
BEGIN:STANDARD
TZOFFSETFROM:+0200
TZOFFSETTO:+0100
TZNAME:CET
DTSTART:20231029T010000
END:STANDARD
END:VTIMEZONE
BEGIN:VEVENT
DTSTART;TZID=Europe/Warsaw:20230618T120000
DTEND;TZID=Europe/Warsaw:20230618T200000
DTSTAMP:20260423T005727
CREATED:20230526T064300Z
LAST-MODIFIED:20230526T064300Z
UID:7709-1687089600-1687118400@www.pokladykultury.eu
SUMMARY:Basket na Placu 2023
DESCRIPTION:Zapraszamy na 3 edycję turnieju koszykówki ulicznej 3×3 „Basket na placu” organizowanego przez Miejski Ośrodek Sportu i Rekreacji wraz „SASport”.\n \nW tegorocznej edycji turnieju spotkamy się na boisku szkolnym ZS 3 w Zabrzu\n* Miejsce – Zabrze (Guido) ul. 3 maja 118\n* Data 18. 06. 2023\n* Start godzina 10:00\n* Zapisy drogą mailową: tchsasport@gmail.com\n* Kategoria OPEN\n* Limit 24 zespołów\n* Zapisy trwają do 15.06 lub do wyczerpania miejsc.\n* Wpisowe 50 zł\n* Drużyna 3+1\nWarunki dopuszczenia do rozgrywek:\n1. Do dnia 15.07.2022 do godziny 12.00\n– opłacenie wpisowego w pełnej kwocie 50 zł. brutto /drużyna\n– w kasie MOSiR ul. J. Matejki 6 lub przelewem na konto\nPKO BP 52 1020 2313 0000 3602 1065 8864\nw tytule Turniej Koszykówki + nazwa drużyny (w przypadku zapotrzebowania na fakturę VAT proszę o dopisanie w tytule przelewu „faktura + nr telefonu”)\n2. W dzień turnieju\, tj. 18.06.2023 r. do rozpoczęcia rozgrywania turnieju\n– opłacenie wpisowego w pełnej kwocie 50 zł. brutto /drużyna\nKTO PIERWSZY TEN LEPSZY – (podstawą poprawnego zgłoszenia jest opłacenie wpisowego).
URL:https://www.pokladykultury.eu/event/basket-na-placu-2023/
LOCATION:Zespół Szkół nr 3 im. rtm. Witolda Pileckiego w Zabrzu\, ul. 3 Maja 118\, Zabrze\, śląskie\, 41-800\, Poland
ATTACH;FMTTYPE=image/jpeg:https://www.pokladykultury.eu/wp-content/uploads/2023/05/basket-na-placu.jpg
END:VEVENT
BEGIN:VEVENT
DTSTART;TZID=Europe/Warsaw:20230618T125000
DTEND;TZID=Europe/Warsaw:20230618T171500
DTSTAMP:20260423T005727
CREATED:20230605T131625Z
LAST-MODIFIED:20230605T131625Z
UID:7774-1687092600-1687108500@www.pokladykultury.eu
SUMMARY:Śląskie Święto Rowerzysty 2023
DESCRIPTION:Zapraszamy na wspólny przejazd z Parku Śląskiego na gliwicki Rynek\, przez Chorzów\, Świętochłowice\, Rudę Śląską i Zabrze. Całość trasy to 32 km\, większość ulicami aglomeracji\, ale również przez tereny parkowe i leśne.\nHarmonogram:\n• 10.50 – odjazd spod Pelikanów w Parku Śląskim\n• 12.25 – odjazd z placu Jana Pawła II w Rudzie Śląskiej\n• 13.30 – odjazd z Parku Pileckiego w Zabrzu\n• 15.15 – przyjazd na gliwicki Rynek\n \nUdział w imprezie jest bezpłatny. Wymagane są uprawnienia do kierowania rowerem.\nSzczegółowy regulamin oraz dodatkowe informacje będą się pojawiać w formie postów w wydarzeniu. 
URL:https://www.pokladykultury.eu/event/slaskie-swieto-rowerzysty-2023/
LOCATION:Zabrze\, Zabrze\, śląskie\, 41-800\, Poland
ATTACH;FMTTYPE=image/jpeg:https://www.pokladykultury.eu/wp-content/uploads/2023/06/Slaskie-swieto-rowerzysty.jpg
END:VEVENT
BEGIN:VEVENT
DTSTART;TZID=Europe/Warsaw:20230618T210000
DTEND;TZID=Europe/Warsaw:20230618T230000
DTSTAMP:20260423T005727
CREATED:20230616T093006Z
LAST-MODIFIED:20230616T093006Z
UID:7878-1687122000-1687129200@www.pokladykultury.eu
SUMMARY:POMIŁOŚĆ - Teatr Nieoetykietkowani
DESCRIPTION:Teatr Nieoetykietkowani i Ognisko Pracy Pozaszkolnej nr 3 w Zabrzu zapraszają na POMIŁOŚĆ.\n \nscenariusz Artur Pałyga\nreżyseria Małgorzata Baryła\nobsada:\nMagdalena Baron\nMagda Cebula\nOliver Cieślak\nŻaneta Garus\nEmilia Gola\nAleksandra Grela\nKarolina Hewlik\nFranek Kisielewski\nAmelia Konieczka\nPiotr Orzechowski\nAnna Siedlecka\nMichał Szymański\nAgnieszka Urbańczyk\nMateusz Wicher\nOliwia Wywrót\nEmilia Wrzosok\nDaniel Ziółkowski\n \n(…) Naprawdę uważacie\, że miłość jest źródłem czegoś ? Serio?\nTe stare poetyckie metafory\n(…)\nWierzycie w „długo i szczęśliwie”?\nWierzycie w zjednoczenie dusz?\nWierzycie\, że jest w tym obłędzie coś prawdziwego?\nTo tylko ulotny poryw! Zawsze gaśnie!\n(…)\nAle zabawa jest fajna (…)\n \nMiejsca na spektakl można zarezerwować poprzez stronę Teatr Nieoetykietkowani lub bezpośrednio u twórców projektu. Zapraszamy serdecznie
URL:https://www.pokladykultury.eu/event/pomilosc-teatr-nieoetykietkowani-2/
LOCATION:Scena Kameralna\, Park Hutniczy 11\, Zabrze\, śląskie\, 41-800\, Poland
ATTACH;FMTTYPE=image/jpeg:https://www.pokladykultury.eu/wp-content/uploads/2023/06/Pomilosc.jpg
END:VEVENT
END:VCALENDAR