BEGIN:VCALENDAR
VERSION:2.0
PRODID:-//Pokładykultury.eu - ECPv5.16.3.1//NONSGML v1.0//EN
CALSCALE:GREGORIAN
METHOD:PUBLISH
X-ORIGINAL-URL:https://www.pokladykultury.eu
X-WR-CALDESC:Wydarzenia dla Pokładykultury.eu
REFRESH-INTERVAL;VALUE=DURATION:PT1H
X-Robots-Tag:noindex
X-PUBLISHED-TTL:PT1H
BEGIN:VTIMEZONE
TZID:Europe/Warsaw
BEGIN:DAYLIGHT
TZOFFSETFROM:+0100
TZOFFSETTO:+0200
TZNAME:CEST
DTSTART:20230326T010000
END:DAYLIGHT
BEGIN:STANDARD
TZOFFSETFROM:+0200
TZOFFSETTO:+0100
TZNAME:CET
DTSTART:20231029T010000
END:STANDARD
END:VTIMEZONE
BEGIN:VEVENT
DTSTART;TZID=Europe/Warsaw:20230616T200000
DTEND;TZID=Europe/Warsaw:20230617T015900
DTSTAMP:20260423T005943
CREATED:20230613T055539Z
LAST-MODIFIED:20230613T055539Z
UID:7837-1686945600-1686967140@www.pokladykultury.eu
SUMMARY:Chillout w Szybie Maciej 2023
DESCRIPTION:Czas zacząć chilloutowe spotkania w Szybie Maciej.\nJeżeli lubisz wypoczywać pod chmurką\, poznawać nowych ludzi\, wypoczywać z przyjaciółmi\, testować nowości kulinarne\, relaksować się przy dobrej muzyce w industrialnym otoczeniu\, to zapraszamy do Szybu Maciej.\nCzekają na Ciebie: \n\nwygodne leżaczki\,\nsiedziska z kocykami na chłodne wieczory\,\nset DJ’ski w godzinach 19:00-23:00\,\nzimne piwo\,\nwyśmienite drinki\,\npyszne jedzenie z Bistro Szyb Maciej i z grilla serwowane przez naszego Szefa Kuchni.\n\nKiedy:\nW każdy piątek (od 16 czerwca do 1 września) w godzinach 18.00-24.00\nO ewentualnych zmianach Szyb Maciej będzie informować na bieżąco na swoim fanpage.\nWstęp wolny – ograniczona ilość miejsc siedzących.\nZapraszamy wszystkich fanów relaksu pod chmurką – małych\, dużych i czworonożnych. Nie może Cię tutaj zabraknąć.\nDo zobaczenia 
URL:https://www.pokladykultury.eu/event/chillout-w-szybie-maciej-2023/
LOCATION:Szyb Maciej\, ul. Srebrna 6\, Zabrze\, śląskie\, 41-800\, Poland
ATTACH;FMTTYPE=image/jpeg:https://www.pokladykultury.eu/wp-content/uploads/2023/06/Chillout.jpg
END:VEVENT
BEGIN:VEVENT
DTSTART;TZID=Europe/Warsaw:20230617T110000
DTEND;TZID=Europe/Warsaw:20230617T230000
DTSTAMP:20260423T005943
CREATED:20230612T075946Z
LAST-MODIFIED:20230612T075946Z
UID:7829-1686999600-1687042800@www.pokladykultury.eu
SUMMARY:INDUSTRIADA 2023
DESCRIPTION:W tym roku już po raz czternasty zapraszamy do wspólnego świętowania INDUSTRIADY – święta Szlaku Zabytków Techniki województwa śląskiego. \nZgodnie z tegorocznym motywem przewodnim – \,\,Sztuka Przemysłu”\, obiekty biorące udział w INDUSTRIADZIE postarają się pokazać\, jak dwa – zgoła odmienne światy: sztuki i przemysłu – wzajemnie się przenikają\, i jak wbrew pozorom idealnie się odnajdują. \nSztolnia Królowa Luiza zaprasza na Muzyczne oblicza techniki – Podziemny Spływ Sztolnią\, tematyczne zwiedzanie podziemi\, miejsca pełnego dźwięków\, niezwykłych postaci i historii. \nW dniu INDUSTRIADY\, ukryte na co dzień Podziemne Królestwo Maszyn zamieni się na w pracownię artysty\, a podziemia będzie można zwiedzać na trasie Maszyna jak malowana. \nW czasie zjazdu 320 metrów pod ziemię w Kopalni Guido będzie się można poczuć jak na planie filmowym! W dodatku zwiedzanie kopalni pt. Szychta jak z filmu odbędzie się w wyborowym towarzystwie samego hrabiego Guido. Jednocześnie w Kopalni Guido powstanie MURAL\, który oficjalnie zostanie odsłonięty o 18:30. \nW trakcie festiwalu nie zabraknie atrakcji także na powierzchni. Na terenie Parku 12C i w strefie Carnall będą się odbywały liczne warsztaty i animacje dla dzieci\, w tym warsztaty plastyczne i kreatywne\, aktywności ruchowe i sportowe oraz koncerty i występy artystów. \nW godzinach 14:30 –  17:15 na terenie strefy Carnall odbywać się będą koncerty Orkiestr Górniczych i chórów – zagrają Górnicza Orkiestra Dęta KWK \,\,Sośnica”\, Śląski Chór Górniczy Polonia Harmonia\, Orkiestra Dęta Muzeum Górnictwa Węglowego w Zabrzu i Chór Uniwersytetu Ekonomicznego w Katowicach. \n17:30 – wielki performance pod tytułem \,\,Pnioki\, krzoki\, ptoki”\, odbędzie się przy wejściu do Maszyny Parowej w Strefie Carnall. Udział w tym wydarzeniu wezmą artyści Teatru Obecności\, Teatru Off Roud\, chór i Górnicza Orkiestra Dęta pod batutą Henryka Mandrysza. W słuchowisku „Szola” udział biorą aktorzy Teatru Nowego w Zabrzu. \n18:30 – 19:30 – czas na spektakl! „Kosmiczna Podróż Guliwera” to zaproszenie do wspólnej podróży (i nie\, tym razem nie pod ziemię ale… aż do gwiazd\, na magicznym statku Guliwera.
URL:https://www.pokladykultury.eu/event/industriada-2023/
LOCATION:obiekty Muzeum Górnictwa Węglowego w Zabrzu
ATTACH;FMTTYPE=image/png:https://www.pokladykultury.eu/wp-content/uploads/2023/06/wydarzenie-FACEBOOK-INDU.png
END:VEVENT
BEGIN:VEVENT
DTSTART;TZID=Europe/Warsaw:20230617T110000
DTEND;TZID=Europe/Warsaw:20230617T230000
DTSTAMP:20260423T005943
CREATED:20230612T080253Z
LAST-MODIFIED:20230612T080253Z
UID:7832-1686999600-1687042800@www.pokladykultury.eu
SUMMARY:INDUSTRIADA w Szybie Maciej
DESCRIPTION:Szyb Macie zaprasza na wyjątkowe atrakcje przygotowane z okazji INDUSTRIADY\, święta Szlaku Zabytków Techniki. Zwiedzanie\, atrakcje dla młodszych i starszych\, muzyka na żywo i wiele więcej. Czyli porządna dawka wiedzy i dobra zabawa. Na wszystkie wydarzenia organizowane w ramach INDUSTRIADY 2023 w Szybie Maciej obowiązuje wstęp wolny! Nie jest prowadzona rezerwacja ani zapisy.
URL:https://www.pokladykultury.eu/event/industriada-w-szybie-maciej/
LOCATION:Szyb Maciej\, ul. Srebrna 6\, Zabrze\, śląskie\, 41-800\, Poland
ATTACH;FMTTYPE=image/jpeg:https://www.pokladykultury.eu/wp-content/uploads/2023/06/szyb-Maciej-INDU.jpg
END:VEVENT
BEGIN:VEVENT
DTSTART;TZID=Europe/Warsaw:20230617T113000
DTEND;TZID=Europe/Warsaw:20230617T130000
DTSTAMP:20260423T005943
CREATED:20230616T053054Z
LAST-MODIFIED:20230616T053054Z
UID:7870-1687001400-1687006800@www.pokladykultury.eu
SUMMARY:ROKITAROLL - darmowe warsztaty z jazdy na rolkach | vol.1
DESCRIPTION:Zapraszamy wszystkich na DARMOWE warsztaty rolkowe z @elka.roll.\nKażdy znajdzie coś dla siebie\, od podstawy jazdy aż po tych już bardziej wtajemniczonych. Pokażemy Wam m.in.: jak poćwiczyć jazdę przodem\, tyłem\, przekładankę czy różne techniki hamowania.\n \nMasz między 5 a 100 lat?\nPotrafisz stać na rolkach i chciałbyś jechać do przodu?\nŚwietnie jedziesz do przodu i chciałbyś czegoś więcej?\nJedziesz\, skręcasz i hamujesz\, ale chciałbyś czegoś więcej?\nNIE WAHAJ SIĘ I PRZYJDŹ!\n \nSpakuj rolki\, kask\, dobry humor i widzimy się na miejscu!\nSpotykamy się na strefie ekonomicznej\, o tutaj: https://goo.gl/maps/YAEDMvPJihtbQBFg8
URL:https://www.pokladykultury.eu/event/rokitaroll-darmowe-warsztaty-z-jazdy-na-rolkach-vol-1/
LOCATION:Strefa Ekonomiczna\, ul. ul. Folwark Wesoła przy Pomniku\, Zabrze\, śląskie\, 41-800\, Poland
ATTACH;FMTTYPE=image/jpeg:https://www.pokladykultury.eu/wp-content/uploads/2023/06/rokitaroll.jpg
END:VEVENT
BEGIN:VEVENT
DTSTART;TZID=Europe/Warsaw:20230617T130000
DTEND;TZID=Europe/Warsaw:20230617T170000
DTSTAMP:20260423T005943
CREATED:20230605T131145Z
LAST-MODIFIED:20230605T131145Z
UID:7771-1687006800-1687021200@www.pokladykultury.eu
SUMMARY:Zabrzańska Masakra Bieżnią Atletyczną
DESCRIPTION:Zabrzańskie Towarzystwo Triathlonowe zaprasza na kolejną odsłonę imprezy biegowej Zabrzańską Masakrę Bieżnią Atletyczną. \nTegoroczna impreza odbędzie się 17 czerwca (sobota) na boisku „Walki” Makoszowy. Zapisy na biegi w dniu zawodów od godziny 10:00 do 11:00.
URL:https://www.pokladykultury.eu/event/zabrzanska-masakra-bieznia-atletyczna/
LOCATION:Stadion Walka Makoszowy\, ul. Jaskółcza\, Zabrze\, śląskie\, 41-800\, Poland
ATTACH;FMTTYPE=image/jpeg:https://www.pokladykultury.eu/wp-content/uploads/2023/06/Zabrzanska-masakra.jpg
END:VEVENT
BEGIN:VEVENT
DTSTART;TZID=Europe/Warsaw:20230617T210000
DTEND;TZID=Europe/Warsaw:20230617T230000
DTSTAMP:20260423T005943
CREATED:20230616T092815Z
LAST-MODIFIED:20230616T092815Z
UID:7876-1687035600-1687042800@www.pokladykultury.eu
SUMMARY:POMIŁOŚĆ - Teatr Nieoetykietkowani
DESCRIPTION:Teatr Nieoetykietkowani i Ognisko Pracy Pozaszkolnej nr 3 w Zabrzu zapraszają na POMIŁOŚĆ.\n \nscenariusz Artur Pałyga\nreżyseria Małgorzata Baryła\nobsada:\nMagdalena Baron\nKlara Baron\nMagda Cebula\nOliver Cieślak\nŻaneta Garus\nEmilia Gola\nAleksandra Grela\nKarolina Hewlik\nFranek Kisielewski\nAmelia Konieczka\nPiotr Orzechowski\nAnna Siedlecka\nMichał Szymański\nAgnieszka Urbańczyk\nMateusz Wicher\nOliwia Wywrót\nEmilia Wrzosok\nDaniel Ziółkowski\n \n(…) Naprawdę uważacie\, że miłość jest źródłem czegoś ? Serio?\nTe stare poetyckie metafory\n(…)\nWierzycie w „długo i szczęśliwie”?\nWierzycie w zjednoczenie dusz?\nWierzycie\, że jest w tym obłędzie coś prawdziwego?\nTo tylko ulotny poryw! Zawsze gaśnie!\n(…)\nAle zabawa jest fajna (…)\n \nMiejsca na spektakl można zarezerwować poprzez stronę Teatr Nieoetykietkowani lub bezpośrednio u twórców projektu. Zapraszamy serdecznie \n \nkolejny termin grania spektaklu\n18.06 2023 godz. 18.00 
URL:https://www.pokladykultury.eu/event/pomilosc-teatr-nieoetykietkowani/
LOCATION:Scena Kameralna\, Park Hutniczy 11\, Zabrze\, śląskie\, 41-800\, Poland
ATTACH;FMTTYPE=image/jpeg:https://www.pokladykultury.eu/wp-content/uploads/2023/06/Pomilosc.jpg
END:VEVENT
END:VCALENDAR