BEGIN:VCALENDAR
VERSION:2.0
PRODID:-//Pokładykultury.eu - ECPv5.16.3.1//NONSGML v1.0//EN
CALSCALE:GREGORIAN
METHOD:PUBLISH
X-WR-CALNAME:Pokładykultury.eu
X-ORIGINAL-URL:https://www.pokladykultury.eu
X-WR-CALDESC:Wydarzenia dla Pokładykultury.eu
REFRESH-INTERVAL;VALUE=DURATION:PT1H
X-Robots-Tag:noindex
X-PUBLISHED-TTL:PT1H
BEGIN:VTIMEZONE
TZID:Europe/Warsaw
BEGIN:DAYLIGHT
TZOFFSETFROM:+0100
TZOFFSETTO:+0200
TZNAME:CEST
DTSTART:20230326T010000
END:DAYLIGHT
BEGIN:STANDARD
TZOFFSETFROM:+0200
TZOFFSETTO:+0100
TZNAME:CET
DTSTART:20231029T010000
END:STANDARD
END:VTIMEZONE
BEGIN:VEVENT
DTSTART;TZID=Europe/Warsaw:20230616T200000
DTEND;TZID=Europe/Warsaw:20230616T210000
DTSTAMP:20260423T005730
CREATED:20230612T035116Z
LAST-MODIFIED:20230612T035230Z
UID:7810-1686945600-1686949200@www.pokladykultury.eu
SUMMARY:Zakończenie sezonu 2022/2023 w Filharmonii Zabrzańskiej
DESCRIPTION:Filharmonia Zabrzańska serdecznie zaprasza na Uroczysty Koncert będący zakończeniem 73 sezonu artystycznego. Koncert odbędzie się w Sali koncertowej w piątek 16 czerwca br. o godzinie 18.00. \nSolistką wieczoru będzie znakomita\, wielce utalentowana \, młoda polska skrzypaczka Zofia Olesik. Orkiestrę poprowadzi od pulpitu dyrygenckiego Sławomir Chrzanowski.          \n  \nKoncert wypełnią dwa potężne dzieła światowej symfoniki- Koncert skrzypcowy d-moll Jeana Sibeliusa oraz II Symfonia D-dur Johannesa Brahmsa. \n  \nGorąco zapraszamy!
URL:https://www.pokladykultury.eu/event/7810/
LOCATION:Filharmonia Zabrzańska\, Park Hutniczy 7\, Zabrze\, śląskie\, 41-800\, Poland
ATTACH;FMTTYPE=image/jpeg:https://www.pokladykultury.eu/wp-content/uploads/2021/07/Filharmonia.jpg
END:VEVENT
BEGIN:VEVENT
DTSTART;TZID=Europe/Warsaw:20230616T200000
DTEND;TZID=Europe/Warsaw:20230617T015900
DTSTAMP:20260423T005730
CREATED:20230613T055539Z
LAST-MODIFIED:20230613T055539Z
UID:7837-1686945600-1686967140@www.pokladykultury.eu
SUMMARY:Chillout w Szybie Maciej 2023
DESCRIPTION:Czas zacząć chilloutowe spotkania w Szybie Maciej.\nJeżeli lubisz wypoczywać pod chmurką\, poznawać nowych ludzi\, wypoczywać z przyjaciółmi\, testować nowości kulinarne\, relaksować się przy dobrej muzyce w industrialnym otoczeniu\, to zapraszamy do Szybu Maciej.\nCzekają na Ciebie: \n\nwygodne leżaczki\,\nsiedziska z kocykami na chłodne wieczory\,\nset DJ’ski w godzinach 19:00-23:00\,\nzimne piwo\,\nwyśmienite drinki\,\npyszne jedzenie z Bistro Szyb Maciej i z grilla serwowane przez naszego Szefa Kuchni.\n\nKiedy:\nW każdy piątek (od 16 czerwca do 1 września) w godzinach 18.00-24.00\nO ewentualnych zmianach Szyb Maciej będzie informować na bieżąco na swoim fanpage.\nWstęp wolny – ograniczona ilość miejsc siedzących.\nZapraszamy wszystkich fanów relaksu pod chmurką – małych\, dużych i czworonożnych. Nie może Cię tutaj zabraknąć.\nDo zobaczenia 
URL:https://www.pokladykultury.eu/event/chillout-w-szybie-maciej-2023/
LOCATION:Szyb Maciej\, ul. Srebrna 6\, Zabrze\, śląskie\, 41-800\, Poland
ATTACH;FMTTYPE=image/jpeg:https://www.pokladykultury.eu/wp-content/uploads/2023/06/Chillout.jpg
END:VEVENT
BEGIN:VEVENT
DTSTART;TZID=Europe/Warsaw:20230616T210000
DTEND;TZID=Europe/Warsaw:20230616T230000
DTSTAMP:20260423T005730
CREATED:20230616T092544Z
LAST-MODIFIED:20230616T092544Z
UID:7873-1686949200-1686956400@www.pokladykultury.eu
SUMMARY:POMIŁOŚĆ - Premiera Teatr Nieoetykietkowani
DESCRIPTION:Teatr Nieoetykietkowani oraz Ognisko Pracy Pozaszkolnej nr 3 w Zabrzu zapraszają na POMIŁOŚĆ.\n \nscenariusz Artur Pałyga\nreżyseria Małgorzata Baryła\nobsada:\nMagdalena Baron\nMagda Cebula\nOliver Cieślak\nŻaneta Garus\nEmilia Gola\nAleksandra Grela\nKarolina Hewlik\nFranek Kisielewski\nAmelia Konieczka\nPiotr Orzechowski\nAnna Siedlecka\nMichał Szymański\nAgnieszka Urbańczyk\nMateusz Wicher\nOliwia Wywrót\nEmilia Wrzosok\nDaniel Ziółkowski\n \n(…) Naprawdę uważacie\, że miłość jest źródłem czegoś ? Serio?\nTe stare poetyckie metafory\n(…)\nWierzycie w „długo i szczęśliwie”?\nWierzycie w zjednoczenie dusz?\nWierzycie\, że jest w tym obłędzie coś prawdziwego?\nTo tylko ulotny poryw! Zawsze gaśnie!\n(…)\nAle zabawa jest fajna (…)\n \nMiejsca na spektakl można zarezerwować poprzez stronę Teatr Nieoetykietkowani lub bezpośrednio u twórców projektu. Zapraszamy serdecznie \n \nkolejne terminy grania spektaklu\n17.06.2023 godz. 19.00\n18.06 2023 godz. 18.00
URL:https://www.pokladykultury.eu/event/pomilosc-premiera-teatr-nieoetykietkowani/
LOCATION:Scena Kameralna\, Park Hutniczy 11\, Zabrze\, śląskie\, 41-800\, Poland
ATTACH;FMTTYPE=image/jpeg:https://www.pokladykultury.eu/wp-content/uploads/2023/06/Pomilosc.jpg
END:VEVENT
END:VCALENDAR