BEGIN:VCALENDAR
VERSION:2.0
PRODID:-//Pokładykultury.eu - ECPv5.16.3.1//NONSGML v1.0//EN
CALSCALE:GREGORIAN
METHOD:PUBLISH
X-WR-CALNAME:Pokładykultury.eu
X-ORIGINAL-URL:https://www.pokladykultury.eu
X-WR-CALDESC:Wydarzenia dla Pokładykultury.eu
REFRESH-INTERVAL;VALUE=DURATION:PT1H
X-Robots-Tag:noindex
X-PUBLISHED-TTL:PT1H
BEGIN:VTIMEZONE
TZID:Europe/Warsaw
BEGIN:DAYLIGHT
TZOFFSETFROM:+0100
TZOFFSETTO:+0200
TZNAME:CEST
DTSTART:20230326T010000
END:DAYLIGHT
BEGIN:STANDARD
TZOFFSETFROM:+0200
TZOFFSETTO:+0100
TZNAME:CET
DTSTART:20231029T010000
END:STANDARD
END:VTIMEZONE
BEGIN:VEVENT
DTSTART;VALUE=DATE:20230526
DTEND;VALUE=DATE:20230529
DTSTAMP:20260423T005726
CREATED:20230525T061257Z
LAST-MODIFIED:20230525T061257Z
UID:7691-1685066400-1685239199@www.pokladykultury.eu
SUMMARY:VIII Międzynarodowe Sympozjum Fotograficzno-Socjologiczne
DESCRIPTION:Już w najbliższy piątek\, o godz. 10.00\, w budynku Edissona w Strefie Carnall Sztolni Królowa Luiza w Zabrzu rozpocznie się VIII Międzynarodowe Sympozjum Fotograficzno-Socjologiczne. Tegorocznemu sympozjum towarzyszyć będzie hasło: “Zobaczmy się nawzajem – transformacja społeczna w fotografii dokumentalnej”. \nO godz. 12.45 zaplanowano tu panel dyskusyjny\, do uczestnictwa w którym zaproszono m.in.: prof. Krystynę Doktorowicz – dziekan Wydziału Radia i Telewizji Uniwersytetu Śląskiego w Katowicach\, prof. Aleksandrę Kuzior z Katedry Stosowanych Nauk Społecznych Wydział Organizacji i Zarządzania Politechniki Śląskiej w Zabrzu\, prof. Jiriego Siostrzonka z Instytutu Fotografii Kreatywnej z Opawy\, mgr Artura Reszko fotoreportera Polskiej Agencji Prasowej\, fotoreporter „LAJF-Magazyn Lubelski”\, Maksa Skrzeczkowskiego wykładowcę akademickiego Uniwersytetu Marii Curie-Skłodowskiej\, prof. Piotra Muschalika z Akademii Sztuk Pięknych w Katowicach i Arkadiusza Golę – artystę fotografa\, fotoreportera\, członka zarządu Okręgu Śląskiego Związku Polskich Artystów Fotografików\, absolwenta Instytutu Kreatywnej Fotografii Uniwersytetu Śląskiego w Opawie. \nTego dnia\, Galerii Cafe Silesia przy ul. 3 maja 6\, zaplanowano także projekcję filmów o fotografii Jindřicha Štreita „Między światłem a ciemnością” (początek o godz. 16). \n27 maja\, o godz. 10.00\, rozpoczną się warsztaty i plener fotograficzny na terenie Zabrza\, które potrwają do godz. 16.00.  \nMiasto Zabrze realizuje to przedsięwzięcie wspólnie z Uniwersytetem Śląskim w Opawie – Instytutem Fotografii Kreatywnej oraz Uniwersytetem Śląskim w Katowicach – Wydziałem Radia i Telewizji. Adresowane jest do środowisk naukowych\, fotografów\, studentów i uczniów. Jego celem jest nie tylko pogłębianie wiedzy na temat procesów społecznych zachodzących w naszym województwie\, ale także ukazanie niezwykłego krajobrazu będącego połączeniem przyrody\, przemysłu i architektury. \nWydarzenie patronatem honorowym objęli: Małgorzata Mańka-Szulik – prezydent Miasta Zabrze\, prof. PhDr. Irena Korbelárová\, dr. – děkanka Filozoficko-přírodovědecké fakulty Slezské Univerzity v Opavě\, prof. PhDr. Vladimír Birgus – Vedoucí Institutu tvůrčí fotografie Filozoficko-přírodovědecká fakulta Slezské Univerzity v Opavě\, prof. dr hab. Grzegorz Hańderek- rektor Akademii Sztuk Pięknych w Katowicach oraz prof. dr hab. Ryszard Koziołek – rektor Uniwersytetu Śląskiego w Katowicach. \nWięcej informacji nt. VIII Sympozjum Fotograficzno-Socjologicznego można znaleźć na stronie: www.foto-zabrze.pl.
URL:https://www.pokladykultury.eu/event/viii-miedzynarodowe-sympozjum-fotograficzno-socjologiczne/
LOCATION:Strefa Carnall\, Sztolnia Królowa Luiza\, ul. Wolności 408\, Zabrze\, śląskie\, 41-800\, Poland
ATTACH;FMTTYPE=image/jpeg:https://www.pokladykultury.eu/wp-content/uploads/2023/05/Sympozjum-foto.jpg
END:VEVENT
BEGIN:VEVENT
DTSTART;TZID=Europe/Warsaw:20230528T120000
DTEND;TZID=Europe/Warsaw:20230528T160000
DTSTAMP:20260423T005726
CREATED:20230525T044456Z
LAST-MODIFIED:20230525T044456Z
UID:7688-1685275200-1685289600@www.pokladykultury.eu
SUMMARY:Nieoficjalne Mistrzostwa Polski w Wolnej Jeździe Motocyklem
DESCRIPTION:Zapraszamy na pierwsze w historii Nieoficjalne Mistrzostwa Polski w Jeździe Wolnej Motocyklem\, które organizuje Stowarzyszenie Śmiercioodporni w kooperacji z MotoRat – Szkołą Jazdy i Ratownictwa Drogowego oraz Areną Zabrze!\n \nNieoficjalne Mistrzostwa Polski w Wolnej Jeździe Motocyklem to impreza\, która promuje bezpieczeństwo wśród motocyklistów i prawidłową technikę prowadzenia pojazdów jednośladowych. Jak bowiem wiadomo\, prawdziwą sztuką jest prowadzić motocykl powoli\, na granicy utraty równowagi\, a jednocześnie w pełni w kontrolowany sposób. Formuła zawodów szczegółowo opisana jest w załączonym regulaminie\, ale w największym uproszczeniu to rywalizacja sportowa motocyklistów ustawionych na dwóch równoległych torach o długości 70 stóp (około 21 metrów)\, w której zwycięzcą zostaje ten zawodnik\, który do mety dojedzie jako ostatni\, nie tracąc równowagi\, nie podpierając się czy nie wyjeżdżając poza wyznaczone pole.\n \nImpreza odbywa się w całkowicie darmowej formule –uczestnictwo zwolnione jest z wszelkich dodatkowych opłat\, z wyjątkiem kosztów paliwa oraz amortyzacji sprzętu.\n \nSerdecznie zapraszamy do zapisu do udziału w naszej imprezie. Zapisy prosimy kierować na adres e-mail kontakt@smiercioodporni.pl\, a wiadomość prosimy tytułować: „JAZDA WOLNA – ZAPIS”. W treści prosimy o podanie imienia i nazwiska uczestnika oraz telefonu kontaktowego.\nDopuszczamy zapisy w dniu imprezy z puli wolnych miejsc (o ile nie zostaną wyczerpane wcześniej).\n \nHarmonogram imprezy:\n10.00 – oficjalne rozpoczęcie potwierdzenia zapisów i ewentualnie dodatkowe zapisy z puli wolnych miejsc (o ile nie zostaną wyczerpane wcześniej)\n10.15 – rozpoczęcie Badania Kontrolnego motocykli uczestniczących w rywalizacji oraz sprzętu motocyklistów\n10.45 – odprawa dla uczestników\n11.00 – rozpoczęcie rywalizacji sportowej\n14.00 – planowane zakończenie imprezy
URL:https://www.pokladykultury.eu/event/nieoficjalne-mistrzostwa-polski-w-wolnej-jezdzie-motocyklem/
LOCATION:Arena Zabrze\, ul. Roosevelta 81\, Zabrze\, śląskie\, 41-800\, Poland
ATTACH;FMTTYPE=image/jpeg:https://www.pokladykultury.eu/wp-content/uploads/2023/05/wolna-jazda.jpg
END:VEVENT
BEGIN:VEVENT
DTSTART;TZID=Europe/Warsaw:20230528T120000
DTEND;TZID=Europe/Warsaw:20230528T200000
DTSTAMP:20260423T005726
CREATED:20230517T080331Z
LAST-MODIFIED:20230525T083455Z
UID:7662-1685275200-1685304000@www.pokladykultury.eu
SUMMARY:Śląski Dzień Dziecka w Sztolni Królowa Luiza w Zabrzu
DESCRIPTION:Świętuj razem z nami jedyny taki\, niepowtarzalny i wyjątkowy Śląski Dzień Dziecka w Sztolni Królowa Luiza w Zabrzu! \nBędziemy malować\, tworzyć\, i świetnie się bawić. W programie całodniowa strefa animacji i warsztatów\, wielkie dmuchańce\, festiwal baniek mydlanych i wodne kule. \nTo nie wszystko! Wydarzyło się coś jeszcze – nasze podziemia zamarzły! Nastała Era Lodu…\nSpecjalnie z okazji Dnia Dziecka zapraszamy na zwiedzanie podziemi Sztolni Królowa Luiza w Zabrzu\, zaaranżowanych na wzór lodowego świata i wspólne poszukiwanie zaginionego mleczyka. Co czeka Was po drodze? Niezwykłe spotkania – podobno widziano mamuty\, zadania i zagadki\, a na koniec przejażdżka górniczą kolejką.\nBilety na trasę kupicie na podziemnaprzygoda.pl \nA na koniec dnia?! HIT!! Koncert gwiazd!\nZmieniamy lokalizacje – przenosimy się na sąsiednią strefą Carnall\, którą tego wieczora zawładnie muzyka!\nNa scenie\, specjalnie dla Was wystąpią Julia Żugaj i Dawid Kwiatkowski!\nStartujemy o 18:00. \n*Wstęp wolny na koncert i na teren Parku 12C.
URL:https://www.pokladykultury.eu/event/slaski-dzien-dziecka-w-sztolni-krolowa-luzia-w-zabrzu/
LOCATION:Park 12C\, Sztolnia Królowa Luiza\, ul. M. Mochnackiego 12\, Zabrze\, śląskie\, 41-800\, Poland
ATTACH;FMTTYPE=image/jpeg:https://www.pokladykultury.eu/wp-content/uploads/2023/05/Dzien-dziecka.jpg
END:VEVENT
END:VCALENDAR