BEGIN:VCALENDAR
VERSION:2.0
PRODID:-//Pokładykultury.eu - ECPv5.16.3.1//NONSGML v1.0//EN
CALSCALE:GREGORIAN
METHOD:PUBLISH
X-WR-CALNAME:Pokładykultury.eu
X-ORIGINAL-URL:https://www.pokladykultury.eu
X-WR-CALDESC:Wydarzenia dla Pokładykultury.eu
REFRESH-INTERVAL;VALUE=DURATION:PT1H
X-Robots-Tag:noindex
X-PUBLISHED-TTL:PT1H
BEGIN:VTIMEZONE
TZID:Europe/Warsaw
BEGIN:DAYLIGHT
TZOFFSETFROM:+0100
TZOFFSETTO:+0200
TZNAME:CEST
DTSTART:20230326T010000
END:DAYLIGHT
BEGIN:STANDARD
TZOFFSETFROM:+0200
TZOFFSETTO:+0100
TZNAME:CET
DTSTART:20231029T010000
END:STANDARD
END:VTIMEZONE
BEGIN:VEVENT
DTSTART;VALUE=DATE:20230526
DTEND;VALUE=DATE:20230529
DTSTAMP:20260422T134736
CREATED:20230525T061257Z
LAST-MODIFIED:20230525T061257Z
UID:7691-1685066400-1685239199@www.pokladykultury.eu
SUMMARY:VIII Międzynarodowe Sympozjum Fotograficzno-Socjologiczne
DESCRIPTION:Już w najbliższy piątek\, o godz. 10.00\, w budynku Edissona w Strefie Carnall Sztolni Królowa Luiza w Zabrzu rozpocznie się VIII Międzynarodowe Sympozjum Fotograficzno-Socjologiczne. Tegorocznemu sympozjum towarzyszyć będzie hasło: “Zobaczmy się nawzajem – transformacja społeczna w fotografii dokumentalnej”. \nO godz. 12.45 zaplanowano tu panel dyskusyjny\, do uczestnictwa w którym zaproszono m.in.: prof. Krystynę Doktorowicz – dziekan Wydziału Radia i Telewizji Uniwersytetu Śląskiego w Katowicach\, prof. Aleksandrę Kuzior z Katedry Stosowanych Nauk Społecznych Wydział Organizacji i Zarządzania Politechniki Śląskiej w Zabrzu\, prof. Jiriego Siostrzonka z Instytutu Fotografii Kreatywnej z Opawy\, mgr Artura Reszko fotoreportera Polskiej Agencji Prasowej\, fotoreporter „LAJF-Magazyn Lubelski”\, Maksa Skrzeczkowskiego wykładowcę akademickiego Uniwersytetu Marii Curie-Skłodowskiej\, prof. Piotra Muschalika z Akademii Sztuk Pięknych w Katowicach i Arkadiusza Golę – artystę fotografa\, fotoreportera\, członka zarządu Okręgu Śląskiego Związku Polskich Artystów Fotografików\, absolwenta Instytutu Kreatywnej Fotografii Uniwersytetu Śląskiego w Opawie. \nTego dnia\, Galerii Cafe Silesia przy ul. 3 maja 6\, zaplanowano także projekcję filmów o fotografii Jindřicha Štreita „Między światłem a ciemnością” (początek o godz. 16). \n27 maja\, o godz. 10.00\, rozpoczną się warsztaty i plener fotograficzny na terenie Zabrza\, które potrwają do godz. 16.00.  \nMiasto Zabrze realizuje to przedsięwzięcie wspólnie z Uniwersytetem Śląskim w Opawie – Instytutem Fotografii Kreatywnej oraz Uniwersytetem Śląskim w Katowicach – Wydziałem Radia i Telewizji. Adresowane jest do środowisk naukowych\, fotografów\, studentów i uczniów. Jego celem jest nie tylko pogłębianie wiedzy na temat procesów społecznych zachodzących w naszym województwie\, ale także ukazanie niezwykłego krajobrazu będącego połączeniem przyrody\, przemysłu i architektury. \nWydarzenie patronatem honorowym objęli: Małgorzata Mańka-Szulik – prezydent Miasta Zabrze\, prof. PhDr. Irena Korbelárová\, dr. – děkanka Filozoficko-přírodovědecké fakulty Slezské Univerzity v Opavě\, prof. PhDr. Vladimír Birgus – Vedoucí Institutu tvůrčí fotografie Filozoficko-přírodovědecká fakulta Slezské Univerzity v Opavě\, prof. dr hab. Grzegorz Hańderek- rektor Akademii Sztuk Pięknych w Katowicach oraz prof. dr hab. Ryszard Koziołek – rektor Uniwersytetu Śląskiego w Katowicach. \nWięcej informacji nt. VIII Sympozjum Fotograficzno-Socjologicznego można znaleźć na stronie: www.foto-zabrze.pl.
URL:https://www.pokladykultury.eu/event/viii-miedzynarodowe-sympozjum-fotograficzno-socjologiczne/
LOCATION:Strefa Carnall\, Sztolnia Królowa Luiza\, ul. Wolności 408\, Zabrze\, śląskie\, 41-800\, Poland
ATTACH;FMTTYPE=image/jpeg:https://www.pokladykultury.eu/wp-content/uploads/2023/05/Sympozjum-foto.jpg
END:VEVENT
BEGIN:VEVENT
DTSTART;TZID=Europe/Warsaw:20230527T121000
DTEND;TZID=Europe/Warsaw:20230527T163000
DTSTAMP:20260422T134736
CREATED:20230418T083015Z
LAST-MODIFIED:20230418T083015Z
UID:7506-1685189400-1685205000@www.pokladykultury.eu
SUMMARY:II Rajd pieszy szlakiem przedwojennych przejść granicznych
DESCRIPTION:Z okazji setnej rocznicy przyłączenia części Górnego Śląska do Polski\, Muzeum Miejskie w Zabrzu zorganizowało rajd pieszy szlakiem przedwojennych przejść granicznych. Wszystkich chętnych\, którzy nie mogli wówczas wziąć w nim udziału\, zapraszamy w sobotę 27 maja 2023 roku na powtórkę tegoż rajdu – dystans do przejścia to ok. 13\,5 km.\n \nPo drodze odwiedzimy miejsca\, w których mieściło się siedem przejść drogowych.\nZbiórka o godz. 10.10 przy pętli tramwajowej w Zabrzu-Biskupicach przy ul. Bytomskiej.\nZakończenie ok. godz. 14–15 przy pętli tramwajowej w Zabrzu-Makoszowach.\n \nOsoby chętne do udziału w rajdzie prosimy o zgłaszanie się\, do dnia 19 maja 2023 roku\, na adres:\np.hnatyszyn@muzeumzabrze.pl.\n \nProszę pamiętać o wygodnym obuwiu\, napojach i prowiancie na drogę.
URL:https://www.pokladykultury.eu/event/ii-rajd-pieszy-szlakiem-przedwojennych-przejsc-granicznych/
LOCATION:Zabrze\, Zabrze\, śląskie\, 41-800\, Poland
ATTACH;FMTTYPE=image/jpeg:https://www.pokladykultury.eu/wp-content/uploads/2023/04/Rajd-pieszy-27.05.jpg
END:VEVENT
BEGIN:VEVENT
DTSTART;TZID=Europe/Warsaw:20230527T130000
DTEND;TZID=Europe/Warsaw:20230527T230000
DTSTAMP:20260422T134736
CREATED:20230526T064939Z
LAST-MODIFIED:20230526T064939Z
UID:7713-1685192400-1685228400@www.pokladykultury.eu
SUMMARY:16 Śląski Turniej Tańca Ulicznego "(Nie) Łam się" w Zabrzu
DESCRIPTION:To już 21-sza edycja projektu „(Nie) Łam się” w Zabrzu.\nZapraszamy po raz 16-ty na Śląski Turniej Tańca Ulicznego zespoły\, grupy\, duety i solistów z całej Polski.\nTrzy kategorie wiekowe: do 11 lat\, 12-15 lat\, 16-20 lat. Jeśli się uda to także solo do 7 lat w kategorii hip hop. U nas decyduje data urodzenia.\nPięć kategorii tanecznych:\n– solo hip hop\,\n– solo street dance\,\n– duet street dance\,\n– mini formacja\,\n– formacja.\n \nZgłoszenia przyjmujemy od 3 kwietnia do 12 maja 2023 lub do wyczerpania limitu uczestników w danych kategoriach.\nlink do dokumentów:\nregulamin\, karty zgłoszenia\, oświadczenie rodo\nhttps://www.opp4.zabrze.pl/konkursy-wlasne-2017-2018.html\nW razie pytań piszcie na maila nielamsie@opp4.zabrze.pl. 
URL:https://www.pokladykultury.eu/event/16-slaski-turniej-tanca-ulicznego-nie-lam-sie-w-zabrzu/
LOCATION:Hala Sportowa „Pogoń”\, ul. Wolności 308\, Zabrze\, śląskie\, 41-800\, Poland
ATTACH;FMTTYPE=image/jpeg:https://www.pokladykultury.eu/wp-content/uploads/2023/05/nie-lam-sie.jpg
END:VEVENT
END:VCALENDAR