BEGIN:VCALENDAR
VERSION:2.0
PRODID:-//Pokładykultury.eu - ECPv5.16.3.1//NONSGML v1.0//EN
CALSCALE:GREGORIAN
METHOD:PUBLISH
X-ORIGINAL-URL:https://www.pokladykultury.eu
X-WR-CALDESC:Wydarzenia dla Pokładykultury.eu
REFRESH-INTERVAL;VALUE=DURATION:PT1H
X-Robots-Tag:noindex
X-PUBLISHED-TTL:PT1H
BEGIN:VTIMEZONE
TZID:Europe/Warsaw
BEGIN:DAYLIGHT
TZOFFSETFROM:+0100
TZOFFSETTO:+0200
TZNAME:CEST
DTSTART:20230326T010000
END:DAYLIGHT
BEGIN:STANDARD
TZOFFSETFROM:+0200
TZOFFSETTO:+0100
TZNAME:CET
DTSTART:20231029T010000
END:STANDARD
END:VTIMEZONE
BEGIN:VEVENT
DTSTART;VALUE=DATE:20230520
DTEND;VALUE=DATE:20230523
DTSTAMP:20260423T010214
CREATED:20230420T082657Z
LAST-MODIFIED:20230420T082657Z
UID:7516-1684548000-1684720799@www.pokladykultury.eu
SUMMARY:PRISON RUNNER 2023
DESCRIPTION:Zarząd Okręgowy NSZZ Funkcjonariuszy i Pracowników Więziennictwa w Katowicach zaprasza na „Prison Runner”. \n„Prison Runner” to bieg z przeszkodami\, który odbywa się na terenie byłego więzienia. Podczas tego wyzwania każdy będzie miał okazję pokonać wiele trudnych przeszkód\, takich jak mury\, druty kolczaste\, czy betonowe bloki. Udział w biegu to nie tylko świetna zabawa\, ale także doskonała okazja do sprawdzenia swoich sił i umiejętności. \n20 maja – „Prison Runner” dla amatorów\,\n21 maja – „Prison Runner” dla zawodowców \nPo biegu zapraszamy na koncert. \n \n  \n  \n  \n  \n  \n  \n  \n  \n  \n  \n  \n  \n  \n  \n  \n  \n  \n  \n  \n  \n  \n  \n  \n  \n  \n  \n  \n  \nSzczegóły na:\nwww.prison-runner.pl\nzapisy trwają: https://time-sport.pl/bieg/7500..
URL:https://www.pokladykultury.eu/event/prison-runner-2023/
LOCATION:Areszt Śledczy\, ul. Sądowa 1\, Zabrze\, śląskie\, 41-800\, Poland
ATTACH;FMTTYPE=image/jpeg:https://www.pokladykultury.eu/wp-content/uploads/2023/04/Prison-Runner-2023.jpg
END:VEVENT
BEGIN:VEVENT
DTSTART;TZID=Europe/Warsaw:20230520T190000
DTEND;TZID=Europe/Warsaw:20230521T190000
DTSTAMP:20260423T010214
CREATED:20230516T045752Z
LAST-MODIFIED:20230516T045752Z
UID:7636-1684609200-1684695600@www.pokladykultury.eu
SUMMARY:Noc Muzeów 2023 w Muzeum Miejskim w Zabrzu
DESCRIPTION:Muzeum Miejskie w Zabrzu serdecznie zaprasza w sobotę\, 20 maja w godzinach od 17.00 do 00.00 na wyjątkową Noc Muzeów 2023. \nW programie: \nMuzeum Miejskie w Zabrzu\, ul. Powstańców Śląskich 3: \n18.00 wspólne zdjęcie członków Arsenalu Mikulczyce;\n18.30 oprowadzanie kuratorskie  po wystawie „Marzyciele” plus rozmowa z p. Krystianem Pudlo – jednym z założycieli klubu;\n19:30 konkurs wiedzy o Arsenalu Mikulczyce i Arsenalu Londyn;\n21:00 oprowadzanie kuratorskie po wystawie „Marzyciele” i możliwość zobaczenia pierwszej\, oryginalnej Kroniki Arsenalu Mikulczyce z 1971 roku. \nGaleria Café Silesia\, ul. 3 Maja 6 \n17.00 uroczyste otwarcie Nocy Muzeów i wernisaż wystawy „Jesteśmy Polakami! Związek Polaków w Niemczech”;\n17.20 wernisaż wystawy „Kruche Światy”;\n17.40 oprowadzanie kuratorskie po wystawie „Jesteśmy Polakami! Związek Polaków w Niemczech – Renata Skoczek (IPN) i Piotr Hnatyszyn (Muzeum Miejskie w Zabrzu);\n18.00-20.00 warsztaty robienia podkładek pod kubek na szydełku/ zdobienia ceramiki z członkiniami grupy 18-Obsydian;\nWarsztaty odpowiednie dla wszystkich grup wiekowych. Ozdobioną przez siebie ceramikę będzie można po wypaleniu odebrać z Galerii Café Silesia;\n19.00 oprowadzanie kuratorskie po wystawie „Kruche Światy” – dr Marzena Kotyczka (Muzeum Miejskie w Zabrzu);\n20.00 pokaz archiwalnych filmów dotyczących Romualda Nowaka ze zbiorów Michała Wiejaka z grupy 18-Obsydian;\n21.00 pokaz techniki robienia witraży w wykonaniu Aleksandry Kajewskiej (Pracownia Działań Twórczych w Chorzowie);\n22.00 oprowadzanie kuratorskie po wystawie „Jesteśmy Polakami! Związek Polaków w Niemczech – Renata Skoczek (IPN) i Piotr Hnatyszyn (Muzeum Miejskie w Zabrzu);\n17.00-00.00 obie siedziby: indywidualne zwiedzanie wystaw: \n„Marzyciele” – wystawa poświęcona klubowi zrodzonemu z marzeń\, determinacji i pasji do futbolu. Historia amatorskiej drużyny będącej unikatem na sportowej mapie Zabrza to okazja do przyjrzenia się dziejom klubu\, jego sukcesom w postaci pokaźnej kolekcji pamiątek i trofeów oraz sumiennie prowadzonym kronikom\, których mógłby im pozazdrościć niejeden profesjonalny klub piłkarski. Piłkarze Arsenalu często grali zawodowo\, przede wszystkim w Sparcie Zabrze\, ale również w Górniku Zabrze czy Szombierkach Bytom. Podejmiemy również wątki związane z źródłem inspiracji drużyny\, czyli legendarnym klubem z Londynu – Arsenalem. To również opowieść o śląskiej kulturze\, pokoleniowych więzach rodzinnych oraz próbie zdefiniowania tego co w sporcie jest najważniejsze. \n„Jesteśmy Polakami! Związek Polaków w Niemczech” to wystawa o Dzielnicy I Związku Polaków w Niemczech\, którą przygotowały Renata Skoczek z Oddziału Instytutu Pamięci Narodowej w Katowicach i dr Iwona Demczyszak z Delegatury Instytutu Pamięci Narodowej w Opolu. Plansze wstępne przygotował dr Paweł Warot z Oddziału Instytutu Pamięci Narodowej w Gdańsku. Muzeum Miejskie w Zabrzu uzupełnia je oryginalnymi eksponatami ze swoich zbiorów. \nPo ostatecznym ustaleniu granicy pomiędzy Polską i Niemcami\, w tym drugim kraju mieszkało około 1\,5 mln Polaków. Część z nich\, to autochtoni zamieszkujący na Śląsku\, w Prusach Wschodnich\, Kaszubach i Ziemi Złotowskiej. Pozostali to emigranci\, którzy osiedli głównie w Nadrenii\, Westfalii i Berlinie. Organizacją\, której zadaniem było reprezentowanie mniejszości polskiej Związek Polaków w Niemczech\, powołany na zjeździe założycielskim\, który odbył się w Berlinie 27 sierpnia 1922 r. Kilka miesięcy później\, 3 grudnia 1922 r. uchwalono m.in. statut oraz podział związku na pięć dzielnic. Dzielnica I z siedzibą w Opolu obejmowała początkowo tereny Górnego Śląska – Śląsk Dolny\, nalężący dotychczas do Dzielnicy II\, przyłączono do niej w 1928 r. Dzielnica II z siedzibą w Berlinie obejmowała Berlin\, Brandenburgię\, Saksonię\, Hamburg i Pomorze i Marchię Graniczną. Dzielnica III z siedzibą w Bochum obejmowała Westfalię\, Nadrenię\, Badenię i Palatynat. Dzielnica IV z siedzibą w Olsztynie obejmowała Prusy Wschodnie czyli Warmię\, Mazury i Powiśle. Dzielnica V z siedzibą w Złotowie obejmowała Pogranicze z Kaszubami i Ziemią Złotowską.  Dzielnica I Związku Polaków w Niemczech ukonstytuowała się na zebraniu w hotelu „Lomnitz” w Bytomiu\, które odbyło się 18 lutego 1923 r. Jej prezesami byli kolejno: Kazimierz Malczewski (1923-1926)\, ks. Czesław Klimas (1926-1930)\, ks. Karol Koziołek (1930-1935)\, Franciszek Myśliwiec (1936-1939). Na obecnym terenie naszego miasta działały Oddziały ZPwN w Zabrzu\, Zaborzu\, Mikulczycach i Biskupicach. \nMuzeum Miejskie w Zabrzu posiada w swojej kolekcji ponad 200 eksponatów związanych z ze Związkiem Polaków w Niemczech i powiązanych z nim organizacjami. Na szczególne podkreślenie zasługują te\, związane z Kongresem Polaków w Niemczech\, a spośród nich „Album Płyt Kongresowych” zawierający pięć płyt z nagranym przebiegiem kongresu. Album ukazał się w niespełna tydzień po kongresie i zachował się do naszych czasów jedynie w kilku egzemplarzach. Wiele z tych eksponatów będzie można zobaczyć na wystawie. \n„Kruche światy. Samorodne malarstwo na szkle z kolekcji Muzeum Miejskiego w Zabrzu” – Terry Pratchett zauważył\, że „czasami szkło skrzy się mocniej od brylantów\, bo bardziej musi się wykazać”\, i zdanie to chyba dobrze wprowadza do fenomenu malarstwa na szkle. Nie naśladuje ono bowiem obrazów na płótnie\, wręcz przeciwnie – dzięki odrębności technologiczno-artystycznej stało się nie tylko jednym z wielu rodzajów malarstwa\, ale także zajmującym zjawiskiem. \nJuż sama nazwa jest nieco zwodnicza i wymaga wyjaśnienia – wszak gdyby trzymać się porządku powstawania tego rodzaju prac\, należałoby mówić o malarstwie pod szkłem\, bo proces tworzenia odbywa się na odwrocie szyby\, od „wewnątrz”. Zatem\, by powstał portret\, najpierw kładzione są czerń źrenic\, róż policzków i czerwień ust\, potem dopiero oprawa oczu i barwa cery\, najpierw zdobienia szat\, potem reszta ubioru – odwrotnie niż w przypadku\, gdy podłożem jest papier. Kolejne warstwy farby\, olejnej lub tempery\, tworzą oddalającą się od obserwatora przestrzeń\, która pociąga go za sobą. Co możemy zobaczyć – aż chciałoby się użyć sformułowania – „po drugiej stronie lustra”? \nO tym przekonają się Państwo odwiedzając wystawę w Galerii Café Silesia na której będzie można zobaczyć Romualda Nowaka\, Marka Idziaszka i Andrzeja Karpińskiego\, zobaczymy także szkła Czesława Chodziuka\, Marii Teresy Jaworskiej\, Krzysztofa Websa\, Grzegorza Haiskiego\, Jerzego Kasparka i innych\, z których każdy stworzył szczególny\, choć kruchy świat.
URL:https://www.pokladykultury.eu/event/noc-muzeow-2023-w-muzeum-miejskim-w-zabrzu/
LOCATION:Galeria Muzeum Miejskiego Café Silesia\, ul. 3 Maja 6\, Zabrze\, śląskie\, 41-800\, Poland
ATTACH;FMTTYPE=image/jpeg:https://www.pokladykultury.eu/wp-content/uploads/2023/05/plakat-strona-www.-NOC-MUZEOW-2023_m-e1684149443885.jpg
END:VEVENT
END:VCALENDAR