BEGIN:VCALENDAR
VERSION:2.0
PRODID:-//Pokładykultury.eu - ECPv5.16.3.1//NONSGML v1.0//EN
CALSCALE:GREGORIAN
METHOD:PUBLISH
X-WR-CALNAME:Pokładykultury.eu
X-ORIGINAL-URL:https://www.pokladykultury.eu
X-WR-CALDESC:Wydarzenia dla Pokładykultury.eu
REFRESH-INTERVAL;VALUE=DURATION:PT1H
X-Robots-Tag:noindex
X-PUBLISHED-TTL:PT1H
BEGIN:VTIMEZONE
TZID:Europe/Warsaw
BEGIN:DAYLIGHT
TZOFFSETFROM:+0100
TZOFFSETTO:+0200
TZNAME:CEST
DTSTART:20230326T010000
END:DAYLIGHT
BEGIN:STANDARD
TZOFFSETFROM:+0200
TZOFFSETTO:+0100
TZNAME:CET
DTSTART:20231029T010000
END:STANDARD
END:VTIMEZONE
BEGIN:VEVENT
DTSTART;TZID=Europe/Warsaw:20230421T120000
DTEND;TZID=Europe/Warsaw:20230422T170000
DTSTAMP:20260422T134749
CREATED:20230418T065226Z
LAST-MODIFIED:20230418T065226Z
UID:7495-1682078400-1682182800@www.pokladykultury.eu
SUMMARY:TARGOWA GRA PEŁNA SERCA
DESCRIPTION:Zapraszamy do udziału w TARGOWEJ GRZE PEŁNEJ SERCA\, czyli zabawie dla młodszych i starszych z ciekawostkami o Bośni i Hercegowinie w tle.\n \nOrganizatorzy Międzynarodowych Targów Turystycznych w Zabrzu zapraszają co roku wybrany kraj lub region do objęcia tytułu partnera Targów. W ubiegłych latach partnerami byli m.in. Chorwacja\, Kolumbia i Indie. Partnerem tegorocznej edycji Targów\, które odbędą się w piątek 21 i sobotę 22 kwietnia br. na terenie stadionu Arena Zabrze\, jest Bośnia i Hercegowina.\n \nPodczas dwóch dni imprezy będzie można poznać bogatą ofertę turystyczną i kulturalną tego kraju. Jedną z form poznawania Bośni i Hercegowiny będzie gra targowa z nagrodami. Udział w grze jest bezpłatny i nie wymaga wcześniejszych zapisów.\n \nGRA DLA POKOLEŃ\nDo udziału w grze targowej zapraszamy wszystkich\, niezależnie od wieku\, którzy chcą w atmosferze dobrej zabawy poznać wiele ciekawostek o Bośni i Hercegowinie. Na przykład o potężnych średniowiecznych twierdzach\, które można zwiedzać m.in. w Sarajewie\, Banja Luce i Travniku. Albo o pysznej kuchni\, która kształtowała się pod wpływem kuchni tureckiej\, śródziemnomorskiej\, ale również austriackiej. Lub o potężnych wodospadach\, wysokich górach i dzikich puszczach\, które zachwycają sympatyków przyrody.\n \nPOD DACHEM I BEZ POŚPIECHU\nGra nie wymaga wiedzy na temat Bośni i Hercegowiny\, ani specjalnego przygotowania. Wystarczy chęć dobrej zabawy i ciekawość świata. Gra odbywa się na terenie wewnętrznym\, w otoczeniu stoisk pozostałych wystawców. Dlatego nie trzeba martwić się o pogodę i połączyć udział w grze z korzystaniem z innych atrakcji. Nie będzie trzeba się spieszyć. Zadania można wykonywać we własnym tempie.\n \nJAK WZIĄĆ UDZIAŁ W GRZE\nUdział w grze jest bezpłatny i nie wymaga wcześniejszych zapisów. Wystarczy przyjść na Targi (wstęp jest bezpłatny) i zgłosić się po Kartę Gry. W grze można wziąć udział samemu\, w duecie\, albo całą rodziną lub grupą znajomych. W piątek 21 kwietnia do gry można wejść w dowolnym momencie między 10.00 a 16.00\, a w sobotę 22 kwietnia między 10.00 a 15.00. Szczególnie zapraszamy w sobotę 22 kwietnia\, ponieważ tego dnia na graczy czekać będą atrakcyjne i cenne nagrody oraz dodatkowe zadania specjalne.\n \nNAGRODY\nW piątek 21 kwietnia każda osoba lub drużyna\, która ukończy grę z minimum połową dobrych odpowiedzi w karcie\, może liczyć na słodką niespodziankę. W sobotę 22 kwietnia dodatkowo będzie można wygrać cenne nagrody za wykonanie dodatkowych zadań zręcznościowych i kreatywnych. Wystarczy już jedno zadanie dodatkowe\, by mieć szansę na nagrodę o wartości 50 złotych. Kolejnym poziomem będzie połowa wykonanych zadań. Pośród tych osób wybierzemy zdobywców nagród o wartości 70 złotych. Najcenniejsze nagrody o wartości 100 złotych trafią do wybranych osób z puli tych\, którzy wykonają najwięcej zadań specjalnych i zdobędą za nie najwięcej punktów.
URL:https://www.pokladykultury.eu/event/targowa-gra-pelna-serca/
LOCATION:Arena Zabrze\, ul. Roosevelta 81\, Zabrze\, śląskie\, 41-800\, Poland
ATTACH;FMTTYPE=image/jpeg:https://www.pokladykultury.eu/wp-content/uploads/2023/04/Targowa-gra.jpg
END:VEVENT
BEGIN:VEVENT
DTSTART;TZID=Europe/Warsaw:20230422T110000
DTEND;TZID=Europe/Warsaw:20230422T170000
DTSTAMP:20260422T134749
CREATED:20230404T093558Z
LAST-MODIFIED:20230404T093558Z
UID:7413-1682161200-1682182800@www.pokladykultury.eu
SUMMARY:I Charytatywny Zabrzański Bieg na Niebiesko
DESCRIPTION:Z wielką przyjemnością zapraszamy do udziału w: Pierwszym Charytatywnym Zabrzańskim Biegu na Niebiesko\, który odbędzie się 22.04.2023 roku w Parku Powstańców w Zabrzu.\n \nBieg jest organizowany w ramach 8. edycji Kampanii Niebieskie Zabrze. Wydarzenie ma na celu przede wszystkim zwrócenie uwagi na problematykę autyzmu oraz zebranie środków finansowych na rzecz dzieci z tym zaburzeniem.\n \nI Charytatywny Zabrzański Bieg na Niebiesko to wyjątkowa okazja\, aby połączyć sportową rywalizację z działaniem charytatywnym. Trasa biegu poprowadzona będzie przez malownicze tereny parku\, co gwarantuje nie tylko emocjonującą rywalizację\, ale również wspaniałą atmosferę i niezapomniane wrażenia.\n \nZAPISY: www.niebieskiezabrze.pl 
URL:https://www.pokladykultury.eu/event/i-charytatywny-zabrzanski-bieg-na-niebiesko/
LOCATION:Park leśny im. Powstańców Śląskiech\, ul. Matejki\, Zabtrze\, śląskie\, 41-800\, Poland
ATTACH;FMTTYPE=image/jpeg:https://www.pokladykultury.eu/wp-content/uploads/2023/04/Bieg-na-niebiesko.jpg
END:VEVENT
BEGIN:VEVENT
DTSTART;TZID=Europe/Warsaw:20230422T120000
DTEND;TZID=Europe/Warsaw:20230422T180000
DTSTAMP:20260422T134749
CREATED:20230418T032648Z
LAST-MODIFIED:20230418T032648Z
UID:7489-1682164800-1682186400@www.pokladykultury.eu
SUMMARY:Wyczekiwana rajza po Admiral Palace
DESCRIPTION:Admiral Palast to ikona śląskiej architektury\, jeden z punktów na mapie Górnego Śląska\, który zachwyca nowoczesnością bryły\, zaskakuje detalem i zdumiewa przemyślnością konstrukcji.\n \nNa kolejną rajzę po tym niezwykłym obiekcie zapraszają: Józef Krzyk\, dziennikarz i pisarz historyczny oraz prezes Stowarzyszenia WRAZIDLOK dr Łukasz Zimnoch. Współorganizatorem wydarzenia jest Urząd Miasta w Zabrzu.\nW sobotę odbędą aż trzy rajzy po Admiral Palace. Serdecznie zapraszamy na godziny: 10.00\, 12.00 lub 14:00.\n \nPo zakończeniu rajzy obiekt zostanie przeznaczony specjalnie dla fotoreporterów\, fotografów\, fotografików\, blogerów\, influencerów.\n \nProsimy o cegiełkę na Stowarzyszenie w wysokości 10 zł od uczestnika.\n \nŚrodek budynku nie był od lat użytkowany\, więc warto ubrać się odpowiednio oraz zaopatrzyć w solidne buty na grubej podeszwie.
URL:https://www.pokladykultury.eu/event/wyczekiwana-rajza-po-admiral-palace/
LOCATION:Admiral Palast\, Wolności 305\, Zabrze\, śląskie\, 41-800\, Poland
ATTACH;FMTTYPE=image/jpeg:https://www.pokladykultury.eu/wp-content/uploads/2023/04/Rajza-po-Admiral-22.04.jpg
END:VEVENT
BEGIN:VEVENT
DTSTART;TZID=Europe/Warsaw:20230422T123000
DTEND;TZID=Europe/Warsaw:20230422T190000
DTSTAMP:20260422T134749
CREATED:20230411T080826Z
LAST-MODIFIED:20230411T080826Z
UID:7461-1682166600-1682190000@www.pokladykultury.eu
SUMMARY:MotoStrefa Tourist - rozpoczynamy sezon motocyklowy w Zabrzu!
DESCRIPTION:MotoStrefa Tourist już 22 kwietnia! Rozpoczynamy sezon w Zabrzu!\n\nPo krótkiej przerwie mamy ogromną przyjemność zaprosić Was na pierwszą edycję MotoStrefę Tourist\, czyli rozpoczęcie sezonu motocyklowego w Zabrzu. MotoStrefa będzie imprezą towarzyszącą Międzynarodowym Targom Turystki Przemysłowej! Razem pojedziemy paradą i odwiedzimy najciekawsze atrakcje szlaku turystyki przemysłowej w Zabrzu! To impreza otwarta jest dla wszystkich miłośników jednośladów – bez względu na ich wiek\, pojemność silnika\, moc oddaną na koło czy wreszcie staż na jednośladzie!\n \nJAK BĘDZIE TO WYGLĄDAĆ?\nZapraszamy już 22 kwietnia 2023 roku (sobota) na Promenadę Areny Zabrzu przy ul. Roosevelta 81.\nImpreza startować będzie o godz. 10.30. O godz. 11.00 chcemy Was zabrać w podróż po Zabrzu na wspólnej paradzie ulicami Zabrza. Chcemy naszemu miastu pokazać że jesteśmy\, ale także jak bardzo licznie jesteśmy!\nPo powrocie czeka na Was moc atrakcji w ramach targów!\n \nZapraszamy też do wspólnego biesiadowania – dostępna będzie dla Was gastronomia\, cały szereg atrakcyjnych stanowisk\, a także – a może przede wszystkim – dajemy Wam możliwość wspólnego spotkania z zabrzańskimi motocyklistami w ramach integracji naszego środowiska! Rzecz jasna wstęp jest całkowicie darmowy! Po spotkaniu w Zabrzu udamy się do Piekar Śląskich na imprezę MotoStart pod kopcem.\nNie czekaj i już dziś rezerwuj sobie sobotnie popołudnie!\n \nREGULAMIN\n1. Uczestnicy „MotoStrefy Tourist!” mają całkowity zakaz prowadzenia pojazdów pod wpływem alkoholu i środków odurzających – pod groźbą wszystkich sankcji\, jakie nakłada na niego polskie prawo.\n2. Pojazdy uczestniczące w „MotoStrefie Tourist” muszą posiadać aktualny przegląd techniczny i ubezpieczenie OC. Zalecamy również posiadanie polisy od następstw nieszczęśliwych wypadków.\n3. Należy dostosować się do wszystkich poleceń wydawanych przez organizatorów: przedstawicieli Stowarzyszenia Śmiercioodporni\, Zabrzańskiego Stowarzyszenia Miłośników Motoryzacji i przedstawicieli podmiotów współuczestniczących w organizacji imprezy\, a także policjantów i strażników miejskich.\n4. Wszystkich uczestników „MotoStrefy Tourist” obowiązuje wysoka kultura osobista zarówno na drodze\, jak i na miejscu spotkania.\n5. Kategorycznie zabrania się wszelkich form niebezpiecznego zachowania na drodze i parkingach. Dotyczy to również „upalania” opon czy strzelania z tłumików.\n6. Każdy z uczestników zobowiązany jest do przestrzegania ciszy nocnej obowiązującej od godz. 22:00.\n7. Każdy uczestnik „MotoStrefy Tourist” zobowiązany jest do przestrzegania wszystkich przepisów kodeksu ruchu drogowego przez cały czas trwania imprezy. Dotyczy to zarówno zachowania na miejscach parkowania\, jak i uczestniczenia w ruchu drogowym.\n8. W sytuacji\, która wykracza poza regulamin zastosowanie mają przepisy Kodeksu Cywilnego i inne obowiązujące w tym zakresie ustawy.\n9. Spory wynikłe z faktu organizacji „MotoStrefy Tourist” lub związane z jego organizacją uczestnicy zobowiązują się rozwiązywać w drodze wspólnych negocjacji\, a w przypadku niemożliwości uzgodnienia kompromisu sprawy rozstrzygane będą przez Sąd właściwy dla siedziby Stowarzyszenia Śmiercioodporni.\n10. Uczestnictwo w „MotoStrefy Tourist” jest równoznaczne z wyrażeniem zgody na publikację wizerunku na stronie internetowej Stowarzyszenia Śmiercioodporni\, profilach na portalach społecznościowych oraz materiałach promocyjnych.\nPrzygotowaliśmy dla was krótki instruktaż jak się zachowywać w kolumnie. Nasza lipcowa będzie liczyć 8 kilometrów i potrwa około 2 godzin z przystankami na atrakcjach turystycznych\nNajpierw krótko\, a na dole wyjaśniamy co i jak.\nUważaj na filtrujących ruch motocyklistów i stosuj się do ich poleceń!\nJedź płynnie i nie rozrywaj kolumny!\nNie musisz stosować się do wszystkich przepisów!\nA teraz wyjaśnienia:\nAd. 1. Uważaj na filtrujących ruch motocyklistów i stosuj się do ich poleceń!\nParadę prócz policji i straży miejskiej wspierać będą motocykle Szkoły Jazdy i Ratownictwa Drogowego MotoRat oraz Stowarzyszenia Śmiercioodporni. Ubrani w kamizelki ostrzegawcze będą zabezpieczać co trudniejsze skrzyżowania. Uważajcie na nich\, będą Was wyprzedzać lewą stroną\, ale czasem będą musieli przedostać się na prawo – zróbcie im miejsce i zważajcie na motocykle. Słuchajcie też ich poleceń\, aby zdynamizować przejazd.\nAd. 2. Jedź płynnie i nie rozrywaj kolumny!\nCzoło kolumny będzie poruszać się z prędkością 20-25 km/h. Cała parada będzie miała co najmniej kilkaset metrów długości. Aby jak najmniej blokować normalny ruch drogowy i aby nie doszło do rozerwania kolumny\, jedźcie jak najbliżej poprzedzającego samochodu – nie dalej niż 10 metrów.\nAd. 3.Nie musisz stosować się do wszystkich przepisów!\nNasza kolumna została zgłoszona odpowiednim służbom i otrzymaliśmy na nią pisemną zgodę. Będzie eskortowana przez policję i drogę zajmuje “w sposób szczególny”. Nie obowiązują was więc między innymi światła drogowe\, znaki ustąp pierwszeństwa czy stop czy konieczność zatrzymywania się na przejściu\, jeśli na chodniku oczekuje pieszy. Dlatego jedźcie płynnie za poprzedzającymi samochodami.
URL:https://www.pokladykultury.eu/event/motostrefa-tourist-rozpoczynamy-sezon-motocyklowy-w-zabrzu/
LOCATION:Arena Zabrze\, ul. Roosevelta 81\, Zabrze\, śląskie\, 41-800\, Poland
ATTACH;FMTTYPE=image/jpeg:https://www.pokladykultury.eu/wp-content/uploads/2023/04/Moto-strefa.jpg
END:VEVENT
END:VCALENDAR