BEGIN:VCALENDAR
VERSION:2.0
PRODID:-//Pokładykultury.eu - ECPv5.16.3.1//NONSGML v1.0//EN
CALSCALE:GREGORIAN
METHOD:PUBLISH
X-WR-CALNAME:Pokładykultury.eu
X-ORIGINAL-URL:https://www.pokladykultury.eu
X-WR-CALDESC:Wydarzenia dla Pokładykultury.eu
REFRESH-INTERVAL;VALUE=DURATION:PT1H
X-Robots-Tag:noindex
X-PUBLISHED-TTL:PT1H
BEGIN:VTIMEZONE
TZID:Europe/Warsaw
BEGIN:DAYLIGHT
TZOFFSETFROM:+0100
TZOFFSETTO:+0200
TZNAME:CEST
DTSTART:20230326T010000
END:DAYLIGHT
BEGIN:STANDARD
TZOFFSETFROM:+0200
TZOFFSETTO:+0100
TZNAME:CET
DTSTART:20231029T010000
END:STANDARD
END:VTIMEZONE
BEGIN:VEVENT
DTSTART;TZID=Europe/Warsaw:20230421T100000
DTEND;TZID=Europe/Warsaw:20230421T190000
DTSTAMP:20260422T134755
CREATED:20230418T075259Z
LAST-MODIFIED:20230418T075259Z
UID:7498-1682071200-1682103600@www.pokladykultury.eu
SUMMARY:Koncert \,\,Już nie zapomnisz mnie..."
DESCRIPTION:Już w najbliższy piątek\, 21.04. 2023 r. muzycznie przeniesiemy się w czasie do lat 20-tych i 30-tych minionego stulecia. Stanie się tak za sprawą koncertu\, w którego repertuarze znajdą się znane i mniej znane kompozycje polskiego okresu XX-lecia międzywojennego! \nKoncert ten będzie nosił tytuł \,\,Już nie zapomnisz mnie…” a jego gwiazdami będzie dwoje młodych\, przemiłych i utalentowanych wokalistów: Wiola Malchar-Orynicz i Daniel Cebula-Orynicz – artyści\, których estrada połączyła także w życiu prywatnym. \nMieliśmy już ogromną przyjemność towarzyszyć im podczas koncertów w minionych latach i wiemy\, iż ich sceniczny \,\,błysk” i przekaz godny jest zobaczenia i wysłuchania \nOrkiestrę Filharmonii Zabrzańskiej poprowadzi Sławomir Chrzanowski. \nBilety w cenie 30\, 40 i 50 zł do nabycia w kasie Filharmonii.
URL:https://www.pokladykultury.eu/event/koncert-juz-nie-zapomnisz-mnie/
LOCATION:Filharmonia Zabrzańska\, Park Hutniczy 7\, Zabrze\, śląskie\, 41-800\, Poland
ATTACH;FMTTYPE=image/jpeg:https://www.pokladykultury.eu/wp-content/uploads/2021/07/Filharmonia.jpg
END:VEVENT
BEGIN:VEVENT
DTSTART;TZID=Europe/Warsaw:20230421T120000
DTEND;TZID=Europe/Warsaw:20230422T170000
DTSTAMP:20260422T134755
CREATED:20230418T065226Z
LAST-MODIFIED:20230418T065226Z
UID:7495-1682078400-1682182800@www.pokladykultury.eu
SUMMARY:TARGOWA GRA PEŁNA SERCA
DESCRIPTION:Zapraszamy do udziału w TARGOWEJ GRZE PEŁNEJ SERCA\, czyli zabawie dla młodszych i starszych z ciekawostkami o Bośni i Hercegowinie w tle.\n \nOrganizatorzy Międzynarodowych Targów Turystycznych w Zabrzu zapraszają co roku wybrany kraj lub region do objęcia tytułu partnera Targów. W ubiegłych latach partnerami byli m.in. Chorwacja\, Kolumbia i Indie. Partnerem tegorocznej edycji Targów\, które odbędą się w piątek 21 i sobotę 22 kwietnia br. na terenie stadionu Arena Zabrze\, jest Bośnia i Hercegowina.\n \nPodczas dwóch dni imprezy będzie można poznać bogatą ofertę turystyczną i kulturalną tego kraju. Jedną z form poznawania Bośni i Hercegowiny będzie gra targowa z nagrodami. Udział w grze jest bezpłatny i nie wymaga wcześniejszych zapisów.\n \nGRA DLA POKOLEŃ\nDo udziału w grze targowej zapraszamy wszystkich\, niezależnie od wieku\, którzy chcą w atmosferze dobrej zabawy poznać wiele ciekawostek o Bośni i Hercegowinie. Na przykład o potężnych średniowiecznych twierdzach\, które można zwiedzać m.in. w Sarajewie\, Banja Luce i Travniku. Albo o pysznej kuchni\, która kształtowała się pod wpływem kuchni tureckiej\, śródziemnomorskiej\, ale również austriackiej. Lub o potężnych wodospadach\, wysokich górach i dzikich puszczach\, które zachwycają sympatyków przyrody.\n \nPOD DACHEM I BEZ POŚPIECHU\nGra nie wymaga wiedzy na temat Bośni i Hercegowiny\, ani specjalnego przygotowania. Wystarczy chęć dobrej zabawy i ciekawość świata. Gra odbywa się na terenie wewnętrznym\, w otoczeniu stoisk pozostałych wystawców. Dlatego nie trzeba martwić się o pogodę i połączyć udział w grze z korzystaniem z innych atrakcji. Nie będzie trzeba się spieszyć. Zadania można wykonywać we własnym tempie.\n \nJAK WZIĄĆ UDZIAŁ W GRZE\nUdział w grze jest bezpłatny i nie wymaga wcześniejszych zapisów. Wystarczy przyjść na Targi (wstęp jest bezpłatny) i zgłosić się po Kartę Gry. W grze można wziąć udział samemu\, w duecie\, albo całą rodziną lub grupą znajomych. W piątek 21 kwietnia do gry można wejść w dowolnym momencie między 10.00 a 16.00\, a w sobotę 22 kwietnia między 10.00 a 15.00. Szczególnie zapraszamy w sobotę 22 kwietnia\, ponieważ tego dnia na graczy czekać będą atrakcyjne i cenne nagrody oraz dodatkowe zadania specjalne.\n \nNAGRODY\nW piątek 21 kwietnia każda osoba lub drużyna\, która ukończy grę z minimum połową dobrych odpowiedzi w karcie\, może liczyć na słodką niespodziankę. W sobotę 22 kwietnia dodatkowo będzie można wygrać cenne nagrody za wykonanie dodatkowych zadań zręcznościowych i kreatywnych. Wystarczy już jedno zadanie dodatkowe\, by mieć szansę na nagrodę o wartości 50 złotych. Kolejnym poziomem będzie połowa wykonanych zadań. Pośród tych osób wybierzemy zdobywców nagród o wartości 70 złotych. Najcenniejsze nagrody o wartości 100 złotych trafią do wybranych osób z puli tych\, którzy wykonają najwięcej zadań specjalnych i zdobędą za nie najwięcej punktów.
URL:https://www.pokladykultury.eu/event/targowa-gra-pelna-serca/
LOCATION:Arena Zabrze\, ul. Roosevelta 81\, Zabrze\, śląskie\, 41-800\, Poland
ATTACH;FMTTYPE=image/jpeg:https://www.pokladykultury.eu/wp-content/uploads/2023/04/Targowa-gra.jpg
END:VEVENT
BEGIN:VEVENT
DTSTART;TZID=Europe/Warsaw:20230421T200000
DTEND;TZID=Europe/Warsaw:20230421T220000
DTSTAMP:20260422T134755
CREATED:20230418T081125Z
LAST-MODIFIED:20230418T081125Z
UID:7503-1682107200-1682114400@www.pokladykultury.eu
SUMMARY:Wernisaż wystawy "Dyplomarium"
DESCRIPTION:Muzeum Miejskie w Zabrzu zaprasza do Galerii Café Silesia w piątek\, 21 kwietnia o godzinie 18.00 na wernisaż wystawy „Dyplomarium” będącej głosem młodych plastyków reprezentujących trzy specjalizacje artystyczne realizowane w zabrzańskim plastyku.\n \nPrace dyplomowe zaprezentowane na wystawie ukazują kunszt i interdyscyplinarność działań artystycznych w ramach dyplomu głównego z aranżacji wnętrz\, projektowania graficznego i fotografii artystycznej\, dopełnionych aneksami z rysunku\, malarstwa i rzeźby.\n \nWystawę będzie można oglądać do 7 maja. 
URL:https://www.pokladykultury.eu/event/wernisaz-wystawy-dyplomarium/
LOCATION:Galeria Muzeum Miejskiego Café Silesia\, ul. 3 Maja 6\, Zabrze\, śląskie\, 41-800\, Poland
ATTACH;FMTTYPE=image/jpeg:https://www.pokladykultury.eu/wp-content/uploads/2023/04/Dyplomarium.jpg
END:VEVENT
BEGIN:VEVENT
DTSTART;TZID=Europe/Warsaw:20230421T210000
DTEND;TZID=Europe/Warsaw:20230421T230000
DTSTAMP:20260422T134755
CREATED:20230404T095234Z
LAST-MODIFIED:20230404T095234Z
UID:7419-1682110800-1682118000@www.pokladykultury.eu
SUMMARY:UCIECZKA
DESCRIPTION:Całe życie uciekał od wszystkiego… Uciekał od rzeczywistości\, od życia i od prawdy\, zwłaszcza od prawdy o sobie samym” – tak Stanisław Bieniasz zaczyna osadzoną w realiach Zabrza czasu stanu wojennego tragi-komiczną powieść o wykorzenionym Ślązaku\, zdeklasowanym nauczycielu\, toksycznym mężu i ojcu\, który niespodziewaną szansę na poprawę losu otrzymał za cenę wstąpienia w szeregi milicji.\n \ntrailer: https://youtu.be/tq4W97nlTB0\n \nAdaptacja i reżyseria: Krzysztof Prus\nScenografia i animacje: Marek Mikulski\nKostiumy: Maciej Mikulski\nAsystent reżysera: Edyta Bicz\n \nDrogi ucieczki od siebie i rzeczywistości Ryszard Szyma poszukuje w alkoholu\, lecz pijackie sny i wizje coraz trudniej odróżnić od nie mniej surrealnej jawy późnego PRL-u\, gdzie władze na przekór sobie i wszelkim uwarunkowaniom wydały i nieudolnie próbują wprowadzić w życie ustawę o wychowaniu narodu w trzeźwości.
URL:https://www.pokladykultury.eu/event/ucieczka/
LOCATION:Scena Kameralna\, Park Hutniczy 11\, Zabrze\, śląskie\, 41-800\, Poland
ATTACH;FMTTYPE=image/jpeg:https://www.pokladykultury.eu/wp-content/uploads/2023/04/Ucieczka_2104.jpg
END:VEVENT
END:VCALENDAR